Workbook
Name _1.Dân_tộc_thiểu_số: options!$Q$30:$Q$32
Name ABC: options!$AD$1:$AD$4
Name agreement: options!$R$2:$R$6
Name CapTD: options!$D$11:$D$12
Name Doi_tuong: options!$T$29:$T$32
Name Đối_tượng: options!$T$29:$T$32
Name employment: options!$D$2:$D$7
Name employment_after_graduation: options!$E$2:$E$5
Name fe_cert: options!$AA$2:$AA$5
Name future_plans: options!$R$2:$R$3
Name gender: options!$C$2:$C$3
Name hierarchy: options!$I$2:$I$11
Name improvement: options!$N$2:$N$8
Name industry: options!$S$2:$S$8
Name job_training_dur: options!$H$2:$H$6
Name jobapply: options!$L$2:$L$4
Name jobfind: options!$F$2:$F$8
Name jobreason: options!$K$2:$K$4
Name level: options!$W$2:$W$5
Name lydo: options!$M$2:$M$8
Name lydohocnghe: options!$AC$9:$AC$12
Name LydokoVL: options!$M$16:$M$18
Name noacceptreason: options!$M$2:$M$8
Name number: options!$V$2:$V$6
Name perception: options!$S$2:$S$6
Name rankcert: options!$T$2:$T$6
Name related: options!$U$2:$U$4
Name salary: options!$G$2:$G$6
Name School: options!$B$2:$B$27
Name schooling: options!$X$2:$X$7
Name sector: options!$J$2:$J$12
Name Thời_gian_bắt_đầu_công_việc: 'Nhập liệu'!#REF!
Name timetraining: options!$H$2:$H$6
Name University_of_Technical_Education_Hung_Yen: 'Hướng dẫn'!$B$5
Name vt_level: options!$Y$2:$Y$6
Name vt_place: options!$Z$2:$Z$5
Name yesno: options!$Q$2:$Q$3
Name yesno2: options!$AB$2:$AB$3

Sheet Hướng dẫn
A3: Mã Trường | B3: Xin ghi mã trường in trong cuốn Hướng dẫn tuyển sinh
B4: Xin lựa chọn tên trường trong ô dưới đây
B5: 2.NI_CĐN Bách Nghệ Hải Phòng
B9: Một số điểm lưu ý khi nhập liệu
B10: 1. Mã học viên là Mã đã được lưu trong hệ thống quản lý dữ liệu của nhà trường. Nếu chưa có thì nhà trường tự lấy mã
B11: 2. Phần nhập liệu đã được xây dựng để kiểm tra tính logic đối với các câu trả lời của phiếu
B12: Cụ thể là:nếu chọn "Chưa" ở câu 6 sẽ chuyển câu 11
B13: Nếu lựa chọn "Không đi làm" câu 11 sẽ chuyển sang câu 22
B14: Lựa chọn "Đi học tiếp" trong câu 22, sẽ chuyển sang câu 25…
B15: Và các câu khác
B16: Do đó: Không nhập liệu vào ô chuyển sang màu đỏ
B17: 3. Để nhập Ô ngày/tháng/năm sinh theo đúng thứ tự cần cài đặt lại định dạng Thời gian của máy tính thống qua các bước sau:
B18: Vào thanh Start, chọn Setting,
... B27: Các nội dung nhập liệu khác tương tự như trong phần nhập thông tin cơ bản

Sheet Sheet1
A3: Count of Tình trạng việc làm | B3: Column Labels
A4: Row Labels | B4: A1.Làm công ăn lương | C4: A2.Tự SX-KD | D4: B1.Vừa học vừa làm | E4: B2.Đang đi học | F4: C.Không tìm được việc làm | G4: D.Khác | H4: (blank) | I4: Grand Total
A5: Bảo vệ thực vật | B5: 26 | C5: 6 | E5: 5 | G5: 1 | I5: 38
A6: Cắt gọt kim loại | B6: 29 | C6: 1 | F6: 4 | I6: 34
A7: Công nghệ ô tô | B7: 52 | C7: 9 | D7: 14 | E7: 5 | F7: 2 | I7: 82
A8: Điện Công nghiệp | B8: 24 | C8: 5 | E8: 6 | F8: 1 | I8: 36
A9: Điện Công Nghiệp | B9: 74 | C9: 8 | D9: 11 | I9: 93
A10: Kế toán doanh nghiệp | B10: 59 | C10: 16 | D10: 1 | E10: 2 | F10: 7 | I10: 85
A11: KTSCLRMT | B11: 5 | F11: 1 | I11: 6
A12: Kỹ thuật CBMA | B12: 19 | C12: 2 | F12: 3 | I12: 24
A13: Nghiệp vụ nhà hàng | B13: 2 | C13: 2 | E13: 2 | F13: 1 | I13: 7
A14: QT Mạng máy tính | B14: 6 | C14: 1 | F14: 2 | I14: 9
A15: Quản trị doanh nghiệp | B15: 14 | C15: 1 | I15: 15
A16: Quản trị khách sạn | B16: 20 | C16: 4 | E16: 1 | F16: 3 | I16: 28
A17: Quản trị nhà hàng | B17: 6 | F17: 2 | I17: 8
A18: Ứng dụng phần mềm | B18: 12 | E18: 1 | F18: 2 | I18: 15
A19: (blank)
A20: Grand Total | B20: 348 | C20: 55 | D20: 26 | E20: 22 | F20: 28 | G20: 1 | I20: 480
A22: Bảo vệ thực vật | B22: Bảo vệ thực vật
A23: Cắt gọt kim loại | B23: Cắt gọt kim loại
A24: Công nghệ ô tô | B24: Công nghệ ô tô
A25: Điện Công nghiệp | B25: Điện Công Nghiệp
A26: Điện Công Nghiệp | B26: Điện Công Nghiệp
A27: Kế toán doanh nghiệp | B27: Kế toán doanh nghiệp
A28: KTSCLRMT | B28: Kỹ thuật máy tính
A29: Kỹ thuật CBMA | B29: Kỹ thuật CBMA
A30: Nghiệp vụ nhà hàng | B30: Nghiệp vụ nhà hàng
A31: QT Mạng máy tính | B31: QT Mạng máy tính
A32: Quản trị doanh nghiệp | B32: Quản trị doanh nghiệp
A33: Quản trị khách sạn | B33: Quản trị khách sạn - nhà hàng
... A37: Count of Tình trạng việc làm | B37: Column Labels
A38: Row Labels | B38: A1.Làm công ăn lương | C38: A2.Tự SX-KD | D38: B1.Vừa học vừa làm | E38: B2.Đang đi học | F38: C.Không tìm được việc làm | G38: D.Khác | H38: (blank) | I38: Grand Total
A39: Bảo vệ thực vật | B39: 26 | C39: 6 | E39: 5 | G39: 1 | I39: 38
A40: Cắt gọt kim loại | B40: 29 | C40: 1 | F40: 4 | I40: 34
A41: Công nghệ ô tô | B41: 52 | C41: 9 | D41: 14 | E41: 5 | F41: 2 | I41: 82
A42: Điện Công Nghiệp | B42: 98 | C42: 13 | D42: 11 | E42: 6 | F42: 1 | I42: 129
A43: Kế toán doanh nghiệp | B43: 59 | C43: 16 | D43: 1 | E43: 2 | F43: 7 | I43: 85
A44: Kỹ thuật CBMA | B44: 19 | C44: 2 | F44: 3 | I44: 24
A45: Kỹ thuật máy tính | B45: 5 | F45: 1 | I45: 6
A46: Nghiệp vụ nhà hàng | B46: 2 | C46: 2 | E46: 2 | F46: 1 | I46: 7
A47: QT Mạng máy tính | B47: 6 | C47: 1 | F47: 2 | I47: 9
A48: Quản trị doanh nghiệp | B48: 14 | C48: 1 | I48: 15
A49: Quản trị khách sạn - nhà hàng | B49: 26 | C49: 4 | E49: 1 | F49: 5 | I49: 36
A50: Ứng dụng phần mềm | B50: 12 | E50: 1 | F50: 2 | I50: 15
A51: (blank)
A52: Grand Total | B52: 348 | C52: 55 | D52: 26 | E52: 22 | F52: 28 | G52: 1 | I52: 480

Sheet Sheet4
A1: STT | B1: Mã Học Viên | C1: Họ | D1: Tên đệm | E1: Tên | F1: ĐỐI TƯỢNG | G1: Ngành/ Nghề đào tạo | H1: Chuẩn hóa nghề đào tạo | I1: Cấp trình độ | J1: Giới tính | K1: Học bổng | L1: Năm sinh | M1: Xếp loại tốt nghiệp | N1: Tình trạng việc làm | O1: Tình trạng khác, cụ thể | P1: Tìm kiếm 1 | Q1: Tìm kiếm 2 | R1: Lĩnh vực kinh doanh | S1: Ngành khác, nêu cụ thể | T1: Số giờ làm việc trong 1 tuần | U1: Thời gian bắt đầu công việc | V1: Cách thức tìm việc | W1: Nếu chọn Khác, xin ghi cụ thể | X1: Đánh giá về Lý thuyết | Y1: Đánh giá về Kỹ năng nghề | Z1: Công việc liên quan đến nghề đào tạo | AA1: Thu nhập chính xác | AB1: Mức lương | AC1: Số người cùng làm việc trong công ty | AD1: Đào tạo kèm cặp trong khi làm | AE1: Thời gian đào tạo | AF1: Vị trí công tác | AG1: Vị trí khác, ghi cụ thể | AH1: Nhu cầu học tiếp | AI1: Ngành nghề muốn học | AJ1: Cấp trình độ muốn học tiếp | AK1: Lý do không làm việc | AL1: Công việc đã xin | AM1: Lý do 1 | AN1: Lý do thứ 2 | AO1: Lý do thứ 3 | AP1: Lý do khác, cụ thể | AQ1: Lý do tiếp tục đi học? | AR1: Lý do đi học khác | AS1: Tên cơ sở đào tạo | AT1: Ngành nghề đào tạo | AU1: Cấp trình độ của khoá học | AV1: Đánh giá trình độ giáo viên | AW1: Đánh giá giáo trình và nội dung | AX1: Đánh giá về mức độ đáp ứng | AY1: Lĩnh vực cần được cải tiến nhất 1 | AZ1: Lĩnh vực cần được cải tiến nhất 2 | BA1: Lĩnh vực cần được cải tiến nhất 3 | BB1: Lĩnh vực khác, cụ thể | BC1: Đánh giá về danh tiếng cơ sở đào tạo | BD1: Đánh giá mức độ hài lòng về chất lượng đào tạo
A2: 476 | B2: 1216016 | C2: Hà | D2: Đoàn | E2: Thịnh | G2: Ứng dụng phần mềm | H2: Ứng dụng phần mềm | I2: Cao đẳng nghề | J2: Nam | K2: FALSE | L2: 1990 | M2: Trung bình khá | N2: A1.Làm công ăn lương | R2: Thương mại & Dịch vụ (Bán buôn, bán lẻ) | T2: 40 | U2: Trên 3 tháng | V2: Quan hệ cá nhân | X2: Tốt | Y2: Rất tốt | Z2: Liên quan | AB2: 6-8 triệu | AC2: 10-200 người | AD2: Có | AE2: 2-4 tuần | AF2: Nhân viên chính thức | AH2: Không | AV2: Đồng ý | AW2: Hoàn toàn đồng ý | AX2: Hoàn toàn đồng ý | AY2: Trang thiết bị (máy móc, công cụ, v.v.) | BC2: Hoàn toàn đồng ý | BD2: Hoàn toàn đồng ý
A3: 2 | B3: NĐ32SCA190 | C3: Ngô | D3: Minh | E3: Triệu | G3: Công nghệ ô tô | H3: Công nghệ ô tô | I3: Cao đẳng nghề | J3: Nữ | K3: học bổng | L3: 1993 | M3: Giỏi | N3: A1.Làm công ăn lương | O3: Vừa học vừa làm | P3: bỏ qua | Q3: #VALUE! | R3: Giao thông vận tải | T3: 48h | U3: 1-3 tháng | V3: Do trường giới thiệu | X3: Tốt | Y3: Tốt | Z3: Có liên quan | AB3: 6-8 triệu | AC3: Trên 300 người | AD3: Có | AF3: Khác (ghi rõ) | AG3: Nhân viên chính thức | AH3: Có | AI3: Công nghệ ô tô | AV3: Đồng ý | AW3: Đồng ý | AX3: Đồng ý | AY3: Trang thiết bị (máy móc, công cụ, v.v.) | AZ3: Thực tập/ thực hành tại doanh nghiệp | BC3: Đồng ý | BD3: Đồng ý
A4: 3 | B4: NĐ32SCA162 | C4: Nguyễn | D4: Trịnh Công | E4: Danh | G4: Công nghệ ô tô | H4: Công nghệ ô tô | I4: Cao đẳng nghề | J4: Nam | K4: FALSE | L4: 1900 | M4: Trung bình khá | N4: A1.Làm công ăn lương | P4: bỏ qua | R4: Giao thông vận tải | S4: Giao thông vận tải | T4: 48h | U4: Trên 3 tháng | V4: Do trường giới thiệu | X4: Tốt | Y4: Tốt | AA4: 3500000 | AB4: 4-6 triệu | AC4: 10-200 người | AD4: Có | AF4: Khác (ghi rõ) | AG4: Nhân viên trong thời gian thử việc | AH4: Có | AJ4: Đại học | AV4: Hoàn toàn đồng ý | AW4: Hoàn toàn đồng ý | AX4: Hoàn toàn đồng ý | AY4: Thực tập/ thực hành tại doanh nghiệp | BC4: Hoàn toàn đồng ý | BD4: Hoàn toàn đồng ý
A5: 4 | B5: NĐ32SCA186 | C5: Nguyễn | D5: Ngọc | E5: Thắng | G5: Công nghệ ô tô | H5: Công nghệ ô tô | I5: Cao đẳng nghề | J5: Nữ | K5: học bổng | L5: 1994 | M5: Khá | N5: A1.Làm công ăn lương | P5: tìm được | R5: Thông tin liên lạc, Công nghệ thông tin | U5: Dưới 1 tháng | V5: Do cơ quan dịch vụ việclàm | X5: Tốt | Z5: Liên quan | AB5: 6-8 triệu | AC5: Trên 300 người | AD5: Không | AH5: Không | BC5: Không đồng ý | BD5: Không đồng ý
A6: 5 | B6: NĐ32SCA183 | C6: Phan | D6: Văn | E6: Thành | G6: Công nghệ ô tô | H6: Công nghệ ô tô | I6: Cao đẳng nghề | J6: Nam | K6: FALSE | L6: 1985 | M6: Trung bình khá | N6: A1.Làm công ăn lương | P6: bỏ qua | R6: Xây dựng | T6: 72h | U6: Dưới 1 tháng | V6: Quan hệ cá nhân | X6: Trung bình | Z6: Liên quan | AB6: 4-6 triệu | AC6: 200-300 người | AF6: Khác (ghi rõ) | AG6: Nhân viên chính thức | AH6: Không | AV6: Đồng ý | AW6: Đồng ý | AX6: Đồng ý | BC6: Đồng ý | BD6: Đồng ý
A7: 6 | B7: NĐ32SCA166 | C7: Thân | D7: Văn | E7: Đức | G7: Công nghệ ô tô | H7: Công nghệ ô tô | I7: Cao đẳng nghề | J7: Nam | K7: FALSE | L7: 1987 | M7: Trung bình khá | N7: A1.Làm công ăn lương | P7: bỏ qua | R7: Công nghiệp chế biến | S7: Cơ khí | T7: 48h | U7: 1-3 tháng | V7: Do cơ quan dịch vụ việclàm | X7: Tốt | Y7: Tốt | Z7: Liên quan | AA7: 5000000 | AB7: 4-6 triệu | AC7: 200-300 người | AD7: Có | AF7: Khác (ghi rõ) | AG7: Nhân viên chính thức | AV7: Đồng ý | AW7: Đồng ý | AX7: Đồng ý | AY7: Trang thiết bị (máy móc, công cụ, v.v.) | AZ7: Cơ sở vật chất (phòng học, thư việnv.v.) | BA7: Thực tập/ thực hành tại doanh nghiệp | BC7: Đồng ý | BD7: Hoàn toàn đồng ý
A8: 7 | B8: NĐ32SCA170 | C8: Đỗ | D8: Mạnh | E8: Hùng | G8: Công nghệ ô tô | H8: Công nghệ ô tô | I8: Cao đẳng nghề | J8: Nam | K8: FALSE | L8: 1994 | M8: Trung bình khá | N8: A1.Làm công ăn lương | P8: bỏ qua | R8: Giao thông vận tải | S8: Giao thông vận tải | T8: 48h | U8: Trên 3 tháng | V8: Do trường giới thiệu | X8: Tốt | Y8: Trung bình | Z8: Có liên quan | AB8: 4-6 triệu | AC8: 10-200 người | AD8: Có | AE8: Trên 8 tuần | AF8: Khác (ghi rõ) | AG8: Nhân viên chính thức | AH8: Có | AI8: Cắt gọt kim loại | AJ8: Đại học | BC8: Hoàn toàn không đồng ý | BD8: Không đồng ý
A9: 8 | B9: NĐ32SCA181 | C9: Lương | D9: Khánh | E9: Quân | G9: Công nghệ ô tô | H9: Công nghệ ô tô | I9: Cao đẳng nghề | J9: Nam | K9: FALSE | L9: 1981 | M9: Khá | N9: A1.Làm công ăn lương | P9: bỏ qua | R9: Giao thông vận tải | S9: Giao thông vận tải | U9: Trên 3 tháng | V9: Do cơ quan dịch vụ việclàm | X9: Tốt | Y9: Tốt | AB9: 6-8 triệu | AC9: 10-200 người | AD9: Không | AF9: Khác (ghi rõ) | AG9: Nhân viên chính thức | AV9: Đồng ý | AW9: Đồng ý | AX9: Đồng ý | AY9: Tài liệu,chương trình (sách, v.v.) | AZ9: Trang thiết bị (máy móc, công cụ, v.v.) | BA9: Thực tập/ thực hành tại doanh nghiệp | BC9: Đồng ý | BD9: Đồng ý
A10: 9 | B10: NĐ32SCA191 | C10: Huỳnh | D10: Luân | E10: Trúc | G10: Công nghệ ô tô | H10: Công nghệ ô tô | I10: Cao đẳng nghề | J10: Nam | K10: FALSE | L10: 1993 | M10: Trung bình khá | N10: A1.Làm công ăn lương | P10: bỏ qua | R10: Nông - lâm - ngư nghiệp | T10: 56h | U10: 1-3 tháng | V10: Do trường giới thiệu | X10: Tốt | Y10: Tốt | Z10: Liên quan | AA10: 4650000 | AB10: 4-6 triệu | AC10: Trên 300 người | AX10: Hoàn toàn đồng ý | AY10: Tài liệu,chương trình (sách, v.v.) | AZ10: Cơ sở vật chất (phòng học, thư việnv.v.) | BA10: Thực tập/ thực hành tại doanh nghiệp | BC10: Đồng ý | BD10: Đồng ý
A11: 475 | B11: 1216019 | C11: Đoàn | D11: Phạm Đoan | E11: Trang | G11: Ứng dụng phần mềm | H11: Ứng dụng phần mềm | I11: Cao đẳng nghề | J11: Nữ | K11: FALSE | L11: 1989 | M11: Xuất sắc | N11: A1.Làm công ăn lương | R11: Thương mại & Dịch vụ (Bán buôn, bán lẻ) | T11: 40 | U11: Trên 3 tháng | V11: Do cơ quan dịch vụ việclàm | X11: Tốt | Y11: Tốt | Z11: Liên quan | AB11: 2-4 triệu | AC11: 10-200 người | AD11: Không | AF11: Kỹ thuật viên kiêm tổ trưởng | AH11: Không | AV11: Hoàn toàn đồng ý | AW11: Hoàn toàn đồng ý | AX11: Đồng ý | AY11: Trang thiết bị (máy móc, công cụ, v.v.) | BC11: Đồng ý | BD11: Đồng ý
A12: 474 | B12: 1216006 | C12: Phạm | D12: Trần Quốc | E12: Giang | G12: Ứng dụng phần mềm | H12: Ứng dụng phần mềm | I12: Cao đẳng nghề | J12: Nam | K12: FALSE | L12: 1994 | M12: Khá | N12: A1.Làm công ăn lương | R12: Thông tin liên lạc, Công nghệ thông tin | T12: 40 | U12: Trên 3 tháng | V12: Quan hệ cá nhân | X12: Tốt | Y12: Tốt | Z12: Có liên quan | AB12: 2-4 triệu | AC12: 2-10người | AD12: Không | AF12: Nhân viên chính thức | AH12: Không | AV12: Đồng ý | AW12: Đồng ý | AX12: Đồng ý | AY12: Trang thiết bị (máy móc, công cụ, v.v.) | AZ12: Cơ sở vật chất (phòng học, thư việnv.v.) | BC12: Đồng ý | BD12: Đồng ý
A13: 473 | B13: 1216007 | C13: Nguyễn | D13: Tuấn | E13: Hai | G13: Ứng dụng phần mềm | H13: Ứng dụng phần mềm | I13: Cao đẳng nghề | J13: Nam | K13: FALSE | L13: 1993 | M13: Trung bình khá | N13: A1.Làm công ăn lương | R13: Thông tin liên lạc, Công nghệ thông tin | T13: 40 | U13: Trên 3 tháng | V13: Qua quảng cáo trên báo/đài/TV | X13: Tốt | Y13: Tốt | Z13: Có liên quan | AB13: 2-4 triệu | AC13: 10-200 người | AD13: Không | AF13: Nhân viên chính thức | AH13: Không | AV13: Đồng ý | AW13: Hoàn toàn đồng ý | AX13: Hoàn toàn đồng ý | AY13: Cơ sở vật chất (phòng học, thư việnv.v.) | BC13: Đồng ý | BD13: Đồng ý
A14: 472 | B14: 1216009 | C14: Trần | D14: Minh | E14: Kỳ | G14: Ứng dụng phần mềm | H14: Ứng dụng phần mềm | I14: Cao đẳng nghề | J14: Nam | K14: FALSE | L14: 1993 | M14: Trung bình khá | N14: A1.Làm công ăn lương | R14: Thương mại & Dịch vụ (Bán buôn, bán lẻ) | T14: 40 | U14: Dưới 1 tháng | V14: Qua quảng cáo trên báo/đài/TV | X14: Tốt | Y14: Tốt | Z14: Có liên quan | AB14: 2-4 triệu | AC14: 10-200 người | AD14: Không | AF14: Nhân viên chính thức | AH14: Không | AV14: Đồng ý | AW14: Đồng ý | AX14: Đồng ý | AY14: Trang thiết bị (máy móc, công cụ, v.v.) | BC14: Đồng ý | BD14: Đồng ý
A15: 471 | B15: 1216010 | C15: Nguyễn | D15: Xuân | E15: Lộc | G15: Ứng dụng phần mềm | H15: Ứng dụng phần mềm | I15: Cao đẳng nghề | J15: Nam | K15: FALSE | L15: 1993 | M15: Trung bình khá | N15: A1.Làm công ăn lương | R15: Thương mại & Dịch vụ (Bán buôn, bán lẻ) | T15: 40 | U15: Trên 3 tháng | V15: Qua quảng cáo trên báo/đài/TV | X15: Tốt | Y15: Tốt | Z15: Liên quan | AB15: 2-4 triệu | AC15: 2-10người | AD15: Không | AF15: Nhân viên chính thức | AH15: Không | AV15: Đồng ý | AW15: Đồng ý | AX15: Hoàn toàn đồng ý | AY15: Trang thiết bị (máy móc, công cụ, v.v.) | AZ15: Cơ sở vật chất (phòng học, thư việnv.v.) | BC15: Đồng ý | BD15: Đồng ý
A16: 470 | B16: 1216020 | C16: Vũ | D16: Thanh | E16: Trang | G16: Ứng dụng phần mềm | H16: Ứng dụng phần mềm | I16: Cao đẳng nghề | J16: Nam | K16: FALSE | L16: 1991 | M16: Trung bình khá | N16: A1.Làm công ăn lương | R16: Khác, ghi cụ thể | S16: Bệnh viện | T16: 40 | U16: Trên 3 tháng | V16: Quan hệ cá nhân | X16: Tốt | Y16: Rất tốt | Z16: Có liên quan | AB16: 2-4 triệu | AC16: 10-200 người | AD16: Không | AF16: Nhân viên chính thức | AH16: Không | AV16: Đồng ý | AW16: Đồng ý | AX16: Hoàn toàn đồng ý | AY16: Trang thiết bị (máy móc, công cụ, v.v.) | BC16: Đồng ý | BD16: Đồng ý
A17: 469 | B17: 1216105 | C17: Dương | D17: Văn | E17: Đạt | G17: Ứng dụng phần mềm | H17: Ứng dụng phần mềm | I17: Cao đẳng nghề | J17: Nam | K17: FALSE | L17: 1993 | M17: Khá | N17: A1.Làm công ăn lương | R17: Giáo dục / đào tạo | T17: 40 | U17: Trên 3 tháng | V17: Quan hệ cá nhân | X17: Tốt | Y17: Rất tốt | Z17: Có liên quan | AB17: 2-4 triệu | AC17: 10-200 người | AD17: Không | AF17: Nhân viên chính thức | AH17: Có | AI17: Công nghệ thông tin | AJ17: Đại học | AV17: Đồng ý | AW17: Hoàn toàn đồng ý | AX17: Hoàn toàn đồng ý | AY17: Trang thiết bị (máy móc, công cụ, v.v.) | AZ17: Cơ sở vật chất (phòng học, thư việnv.v.) | BC17: Hoàn toàn đồng ý | BD17: Hoàn toàn đồng ý
A18: 465 | B18: 1216104 | C18: Nguyễn | D18: Phạm Hải | E18: Đăng | G18: Ứng dụng phần mềm | H18: Ứng dụng phần mềm | I18: Cao đẳng nghề | J18: Nam | K18: FALSE | L18: 1993 | M18: Trung bình khá | N18: A1.Làm công ăn lương | R18: Thương mại & Dịch vụ (Bán buôn, bán lẻ) | T18: 40 | U18: Trên 3 tháng | V18: Quan hệ cá nhân | X18: Tốt | Y18: Tốt | Z18: Liên quan | AB18: 4-6 triệu | AC18: 10-200 người | AD18: Không | AF18: Nhân viên trong thời gian thử việc (thợ học việc | AH18: Không | AV18: Đồng ý | AW18: Đồng ý | AX18: Đồng ý | AY18: Phương pháp giảng dạy của giáo viên | BC18: Đồng ý | BD18: Đồng ý
A19: 464 | B19: 1216002 | C19: Lê | D19: Quang | E19: Chung | G19: Ứng dụng phần mềm | H19: Ứng dụng phần mềm | I19: Cao đẳng nghề | J19: Nam | K19: FALSE | L19: 1991 | M19: Khá | N19: A1.Làm công ăn lương | R19: Thương mại & Dịch vụ (Bán buôn, bán lẻ) | T19: 40 | U19: Trên 3 tháng | V19: Quan hệ cá nhân | X19: Tốt | Y19: Tốt | Z19: Có liên quan | AB19: > Trên 8 triệu | AC19: 10-200 người | AD19: Không | AF19: Nhân viên chính thức | AH19: Không | AV19: Hoàn toàn đồng ý | AW19: Hoàn toàn đồng ý | AX19: Đồng ý | AY19: Trang thiết bị (máy móc, công cụ, v.v.) | BC19: Hoàn toàn đồng ý | BD19: Đồng ý
A20: 463 | B20: 1215020 | C20: Lê | D20: Tiến | E20: Vượng | G20: QT Mạng máy tính | H20: QT Mạng máy tính | I20: Cao đẳng nghề | J20: Nam | K20: FALSE | L20: 1994 | M20: Khá | N20: A1.Làm công ăn lương | R20: Thương mại & Dịch vụ (Bán buôn, bán lẻ) | T20: 40 | U20: Trên 3 tháng | V20: Quan hệ cá nhân | X20: Tốt | Y20: Tốt | Z20: Liên quan | AB20: 4-6 triệu | AC20: 2-10người | AD20: Không | AF20: Nhân viên chính thức | AH20: Không | AV20: Đồng ý | AW20: Đồng ý | AX20: Đồng ý | AY20: Trang thiết bị (máy móc, công cụ, v.v.) | AZ20: Cơ sở vật chất (phòng học, thư việnv.v.) | BC20: Đồng ý | BD20: Đồng ý
A21: 462 | B21: 1115012 | C21: Nguyễn | D21: Hữu | E21: Hòa | G21: QT Mạng máy tính | H21: QT Mạng máy tính | I21: Cao đẳng nghề | J21: Nam | K21: FALSE | L21: 1993 | M21: Khá | N21: A1.Làm công ăn lương | R21: Thương mại & Dịch vụ (Bán buôn, bán lẻ) | T21: 40 | U21: Trên 3 tháng | V21: Quan hệ cá nhân | X21: Tốt | Y21: Rất tốt | Z21: Có liên quan | AB21: 4-6 triệu | AC21: 2-10người | AD21: Không | AF21: Nhân viên chính thức | AH21: Không | AV21: Đồng ý | AW21: Hoàn toàn đồng ý | AX21: Hoàn toàn đồng ý | AY21: Trang thiết bị (máy móc, công cụ, v.v.) | BC21: Hoàn toàn đồng ý | BD21: Hoàn toàn đồng ý
A22: 460 | B22: 1215016 | C22: Hàng | D22: Minh | E22: Tuấn | G22: QT Mạng máy tính | H22: QT Mạng máy tính | I22: Cao đẳng nghề | J22: Nam | K22: FALSE | L22: 1994 | M22: Khá | N22: A1.Làm công ăn lương | R22: Thương mại & Dịch vụ (Bán buôn, bán lẻ) | T22: 40 | U22: Trên 3 tháng | V22: Quan hệ cá nhân | X22: Tốt | Y22: Tốt | Z22: Có liên quan | AB22: 2-4 triệu | AC22: 2-10người | AD22: Không | AF22: Khác (ghi rõ) | AG22: Làm công | AH22: Không | AV22: Đồng ý | AW22: Đồng ý | AX22: Đồng ý | AY22: Trang thiết bị (máy móc, công cụ, v.v.) | BC22: Hoàn toàn đồng ý | BD22: Đồng ý
A23: 459 | B23: 1215015 | C23: Nguyễn | D23: An | E23: Toàn | G23: QT Mạng máy tính | H23: QT Mạng máy tính | I23: Cao đẳng nghề | J23: Nam | K23: FALSE | L23: 1991 | M23: Giỏi | N23: A1.Làm công ăn lương | R23: Thương mại & Dịch vụ (Bán buôn, bán lẻ) | T23: 40 | U23: Dưới 1 tháng | V23: Do cơ quan dịch vụ việclàm | X23: Tốt | Y23: Tốt | Z23: Có liên quan | AB23: 4-6 triệu | AC23: 2-10người | AD23: Không | AF23: Nhân viên chính thức | AH23: Không | AV23: Đồng ý | AW23: Đồng ý | AX23: Đồng ý | AY23: Tài liệu,chương trình (sách, v.v.) | BC23: Đồng ý | BD23: Đồng ý
A24: 458 | B24: 1215009 | C24: Lý | D24: Thanh | E24: Sang | G24: QT Mạng máy tính | H24: QT Mạng máy tính | I24: Cao đẳng nghề | J24: Nam | K24: FALSE | L24: 1993 | M24: Khá | N24: A1.Làm công ăn lương | R24: Thương mại & Dịch vụ (Bán buôn, bán lẻ) | T24: 40 | U24: Trên 3 tháng | V24: Quan hệ cá nhân | X24: Tốt | Y24: Tốt | Z24: Liên quan | AB24: 2-4 triệu | AC24: 2-10người | AD24: Không | AF24: Nhân viên chính thức | AH24: Không | AV24: Đồng ý | AW24: Hoàn toàn đồng ý | AX24: Đồng ý | AY24: Trang thiết bị (máy móc, công cụ, v.v.) | BC24: Đồng ý | BD24: Đồng ý
A25: 457 | B25: 1215006 | C25: Nguyễn | D25: Thành | E25: Nam | G25: QT Mạng máy tính | H25: QT Mạng máy tính | I25: Cao đẳng nghề | J25: Nam | K25: FALSE | L25: 1992 | M25: Giỏi | N25: A1.Làm công ăn lương | R25: Thương mại & Dịch vụ (Bán buôn, bán lẻ) | T25: 40 | U25: 1-3 tháng | V25: Do cơ quan dịch vụ việclàm | X25: Tốt | Y25: Rất tốt | Z25: Có liên quan | AB25: 2-4 triệu | AC25: 2-10người | AD25: Không | AF25: Nhân viên chính thức | AH25: Không | AV25: Đồng ý | AW25: Đồng ý | AX25: Đồng ý | AY25: Trang thiết bị (máy móc, công cụ, v.v.) | BC25: Hoàn toàn đồng ý | BD25: Hoàn toàn đồng ý
A26: 443 | B26: 1244015 | C26: Mông | D26: Đình | E26: Khánh | G26: Điện Công nghiệp | H26: Điện Công Nghiệp | I26: Cao đẳng nghề | J26: Nam | K26: FALSE | L26: 1993 | M26: Khá | N26: A1.Làm công ăn lương | R26: Nông - lâm - ngư nghiệp | T26: 40 | U26: 1-3 tháng | V26: Quan hệ cá nhân | X26: Tốt | Y26: Rất tốt | Z26: Có liên quan | AB26: 2-4 triệu | AC26: 10-200 người | AD26: Không | AF26: Nhân viên chính thức | AH26: Không | AV26: Đồng ý | AW26: Hoàn toàn đồng ý | AX26: Hoàn toàn đồng ý | AY26: Trang thiết bị (máy móc, công cụ, v.v.) | BC26: Hoàn toàn đồng ý | BD26: Hoàn toàn đồng ý
A27: 442 | B27: 1244013 | C27: Hoàng | D27: Trọng | E27: Huy | G27: Điện Công nghiệp | H27: Điện Công Nghiệp | I27: Cao đẳng nghề | J27: Nam | K27: FALSE | L27: 1993 | M27: Trung bình khá | N27: A1.Làm công ăn lương | R27: Khác, ghi cụ thể | S27: Giao nhận hàng | T27: 40 | U27: 1-3 tháng | V27: Qua quảng cáo trên báo/đài/TV | X27: Tốt | Y27: Tốt | Z27: Không liên quan | AB27: 4-6 triệu | AC27: 10-200 người | AD27: Không | AF27: Nhân viên chính thức | AH27: Không | AV27: Hoàn toàn đồng ý | AW27: Hoàn toàn đồng ý | AX27: Hoàn toàn đồng ý | AY27: Trang thiết bị (máy móc, công cụ, v.v.) | BC27: Đồng ý phần nào | BD27: Đồng ý phần nào
A28: 441 | B28: 1244005 | C28: Nguyễn | D28: Như | E28: Bình | G28: Điện Công nghiệp | H28: Điện Công Nghiệp | I28: Cao đẳng nghề | J28: Nam | K28: FALSE | L28: 1992 | M28: Khá | N28: A1.Làm công ăn lương | R28: Khác, ghi cụ thể | S28: Bảo trì kỹ thuật, điện | T28: 40 | U28: 1-3 tháng | V28: Quan hệ cá nhân | X28: Tốt | Y28: Tốt | Z28: Có liên quan | AB28: 2-4 triệu | AC28: 10-200 người | AD28: Không | AF28: Nhân viên chính thức | AH28: Không | AV28: Hoàn toàn đồng ý | AW28: Hoàn toàn đồng ý | AX28: Hoàn toàn đồng ý | AY28: Trang thiết bị (máy móc, công cụ, v.v.) | BC28: Đồng ý | BD28: Đồng ý
A29: 440 | B29: 1244017 | C29: Chu | D29: Trọng | E29: Lập | G29: Điện Công nghiệp | H29: Điện Công Nghiệp | I29: Cao đẳng nghề | J29: Nam | K29: FALSE | L29: 1993 | M29: Khá | N29: A1.Làm công ăn lương | R29: Nhà hàng, khách sạn và Du lịch | T29: 40 | U29: Trên 3 tháng | V29: Quan hệ cá nhân | X29: Tốt | Y29: Rất tốt | Z29: Có liên quan | AB29: 4-6 triệu | AC29: 10-200 người | AD29: Có | AE29: Dưới 2 tuần | AF29: Nhân viên chính thức | AH29: Không | AV29: Đồng ý | AW29: Đồng ý | AX29: Đồng ý | AY29: Tài liệu,chương trình (sách, v.v.) | BC29: Đồng ý | BD29: Đồng ý
A30: 439 | B30: 1244112 | C30: Bùi | D30: Xuân | E30: Huyền | G30: Điện Công nghiệp | H30: Điện Công Nghiệp | I30: Cao đẳng nghề | J30: Nam | K30: FALSE | L30: 1992 | M30: Khá | N30: A1.Làm công ăn lương | R30: Khác, ghi cụ thể | S30: Quảng cáo | T30: 40 | U30: Trên 3 tháng | V30: Quan hệ cá nhân | X30: Tốt | Y30: Rất tốt | Z30: Có liên quan | AB30: 6-8 triệu | AC30: 2-10người | AD30: Không | AF30: Nhân viên chính thức | AH30: Không | AV30: Đồng ý | AW30: Đồng ý | AX30: Đồng ý | AY30: Tài liệu,chương trình (sách, v.v.) | BC30: Đồng ý | BD30: Đồng ý
A31: 438 | B31: 1244108 | C31: Mai | D31: Thanh | E31: Đài | G31: Điện Công nghiệp | H31: Điện Công Nghiệp | I31: Cao đẳng nghề | J31: Nam | K31: FALSE | L31: 1994 | M31: Khá | N31: A1.Làm công ăn lương | R31: Thương mại & Dịch vụ (Bán buôn, bán lẻ) | T31: 40 | U31: 1-3 tháng | V31: Quan hệ cá nhân | X31: Tốt | Y31: Tốt | Z31: Có liên quan | AB31: 6-8 triệu | AC31: 10-200 người | AD31: Không | AF31: Nhân viên chính thức | AH31: Không | AV31: Đồng ý | AW31: Đồng ý | AX31: Hoàn toàn đồng ý | AY31: Trang thiết bị (máy móc, công cụ, v.v.) | BC31: Hoàn toàn đồng ý | BD31: Hoàn toàn đồng ý
A32: 436 | B32: 1244001 | C32: Kră | D32: Jăn | E32: Ami | G32: Điện Công nghiệp | H32: Điện Công Nghiệp | I32: Cao đẳng nghề | J32: Nam | K32: FALSE | L32: 1993 | M32: Trung bình khá | N32: A1.Làm công ăn lương | R32: Xây dựng | T32: 40 | U32: 1-3 tháng | V32: Khác, ghi cụ thể | W32: Tự xin việc | X32: Tốt | Y32: Rất tốt | Z32: Có liên quan | AB32: 4-6 triệu | AC32: 10-200 người | AD32: Không | AF32: Nhân viên chính thức | AH32: Không | AV32: Hoàn toàn đồng ý | AW32: Hoàn toàn đồng ý | AX32: Hoàn toàn đồng ý | AY32: Thực tập/ thực hành tại doanh nghiệp | AZ32: Kỹ năng thực hành của giáo viên | BC32: Đồng ý | BD32: Đồng ý
A33: 435 | B33: 1244120 | C33: Nguyễn | D33: Ngọc | E33: Sơn | G33: Điện Công nghiệp | H33: Điện Công Nghiệp | I33: Cao đẳng nghề | J33: Nam | K33: FALSE | L33: 1993 | M33: Trung bình khá | N33: A1.Làm công ăn lương | R33: Xây dựng | T33: 40 | U33: 1-3 tháng | V33: Quan hệ cá nhân | X33: Tốt | Y33: Tốt | Z33: Có liên quan | AB33: 4-6 triệu | AC33: 10-200 người | AD33: Không | AF33: Nhân viên chính thức | AH33: Không | AV33: Hoàn toàn đồng ý | AW33: Hoàn toàn đồng ý | AX33: Hoàn toàn đồng ý | AY33: Trang thiết bị (máy móc, công cụ, v.v.) | BC33: Hoàn toàn không đồng ý | BD33: Đồng ý
A34: 434 | B34: 1244118 | C34: Phan | D34: Văn | E34: Quốc | G34: Điện Công nghiệp | H34: Điện Công Nghiệp | I34: Cao đẳng nghề | J34: Nam | K34: FALSE | L34: 1993 | M34: Khá | N34: A1.Làm công ăn lương | R34: Thương mại & Dịch vụ (Bán buôn, bán lẻ) | T34: 40 | U34: 1-3 tháng | V34: Qua quảng cáo trên Internet | X34: Tốt | Y34: Rất tốt | Z34: Có liên quan | AB34: 4-6 triệu | AC34: 10-200 người | AD34: Không | AF34: Nhân viên chính thức | AH34: Không | AV34: Đồng ý | AW34: Đồng ý | AX34: Hoàn toàn đồng ý | AY34: Trang thiết bị (máy móc, công cụ, v.v.) | BC34: Hoàn toàn đồng ý | BD34: Đồng ý
A35: 433 | B35: 1244027 | C35: Lý | D35: Ngọc | E35: Sinh | G35: Điện Công nghiệp | H35: Điện Công Nghiệp | I35: Cao đẳng nghề | J35: Nam | K35: FALSE | L35: 1991 | M35: Khá | N35: A1.Làm công ăn lương | R35: Nông - lâm - ngư nghiệp | T35: 40 | U35: 1-3 tháng | V35: Quan hệ cá nhân | X35: Tốt | Y35: Tốt | Z35: Không liên quan | AB35: 2-4 triệu | AC35: 10-200 người | AD35: Có | AE35: Dưới 2 tuần | AF35: Khác (ghi rõ) | AG35: Làm công | AH35: Không | AV35: Đồng ý | AW35: Đồng ý phần nào | AX35: Đồng ý phần nào | AY35: Trang thiết bị (máy móc, công cụ, v.v.) | BC35: Đồng ý phần nào | BD35: Đồng ý phần nào
A36: 432 | B36: 1244025 | C36: Phan | D36: Đình | E36: Qúy | G36: Điện Công nghiệp | H36: Điện Công Nghiệp | I36: Cao đẳng nghề | J36: Nam | K36: FALSE | L36: 1994 | M36: Giỏi | N36: A1.Làm công ăn lương | R36: Công nghiệp chế biến | T36: 40 | U36: Trên 3 tháng | V36: Qua quảng cáo trên Internet | X36: Trung bình | Y36: Rất tốt | Z36: Có liên quan | AB36: 4-6 triệu | AC36: Trên 300 người | AD36: Có | AE36: Dưới 2 tuần | AF36: Nhân viên chính thức | AH36: Không | AV36: Đồng ý | AW36: Đồng ý | AX36: Đồng ý | AY36: Tài liệu,chương trình (sách, v.v.) | BC36: Đồng ý | BD36: Đồng ý
A37: 431 | B37: 1244134 | C37: Phạm | D37: Xuân | E37: Tư | G37: Điện Công nghiệp | H37: Điện Công Nghiệp | I37: Cao đẳng nghề | J37: Nam | K37: FALSE | L37: 1990 | M37: Giỏi | N37: A1.Làm công ăn lương | R37: Khác, ghi cụ thể | S37: Bảo trì, kiểm tra trụ | T37: 40 | U37: 1-3 tháng | V37: Quan hệ cá nhân | X37: Tốt | Y37: Tốt | Z37: Có liên quan | AB37: 4-6 triệu | AC37: 10-200 người | AD37: Không | AF37: Nhân viên chính thức | AH37: Không | AV37: Đồng ý | AW37: Đồng ý | AX37: Hoàn toàn đồng ý | AY37: Trang thiết bị (máy móc, công cụ, v.v.) | BC37: Hoàn toàn đồng ý | BD37: Đồng ý phần nào
A38: 429 | B38: 1244028 | C38: Huỳnh | D38: Ngọc Minh | E38: Sơn | G38: Điện Công nghiệp | H38: Điện Công Nghiệp | I38: Cao đẳng nghề | J38: Nam | K38: FALSE | L38: 1993 | M38: Trung bình khá | N38: A1.Làm công ăn lương | R38: Sản xuất, phân phối điện, ga, nước | T38: 40 | U38: 1-3 tháng | V38: Quan hệ cá nhân | X38: Rất tốt | Y38: Rất tốt | Z38: Có liên quan | AB38: 4-6 triệu | AC38: 10-200 người | AD38: Không | AF38: Nhân viên chính thức | AH38: Không | AV38: Hoàn toàn đồng ý | AW38: Đồng ý | AX38: Hoàn toàn đồng ý | AY38: Trang thiết bị (máy móc, công cụ, v.v.) | BC38: Đồng ý | BD38: Đồng ý
A39: 427 | B39: 1244113 | C39: Lữ | D39: Phú | E39: Lâm | G39: Điện Công nghiệp | H39: Điện Công Nghiệp | I39: Cao đẳng nghề | J39: Nam | K39: FALSE | L39: 1991 | M39: Giỏi | N39: A1.Làm công ăn lương | R39: Khác, ghi cụ thể | S39: Bảo trì điện, nước | T39: 40 | U39: 1-3 tháng | V39: Quan hệ cá nhân | X39: Tốt | Y39: Tốt | Z39: Có liên quan | AB39: 2-4 triệu | AC39: 10-200 người | AD39: Không | AF39: Nhân viên chính thức | AH39: Không | AV39: Đồng ý | AW39: Đồng ý phần nào | AX39: Đồng ý phần nào | AY39: Trang thiết bị (máy móc, công cụ, v.v.) | BC39: Đồng ý | BD39: Đồng ý phần nào
A40: 426 | B40: 1224104 | C40: Nguyễn | D40: Quốc | E40: Cường | G40: Điện Công nghiệp | H40: Điện Công Nghiệp | I40: Cao đẳng nghề | J40: Nam | K40: FALSE | L40: 1993 | M40: Khá | N40: A1.Làm công ăn lương | R40: Thương mại & Dịch vụ (Bán buôn, bán lẻ) | S40: Điện cơ | T40: 40 | U40: 1-3 tháng | V40: Khác, ghi cụ thể | W40: Tự xin việc | X40: Tốt | Y40: Tốt | Z40: Có liên quan | AB40: 4-6 triệu | AC40: 2-10người | AD40: Không | AF40: Nhân viên chính thức | AH40: Không | AV40: Hoàn toàn đồng ý | AW40: Hoàn toàn đồng ý | AX40: Hoàn toàn đồng ý | AY40: Thực tập/ thực hành tại doanh nghiệp | AZ40: Phương pháp giảng dạy của giáo viên | BC40: Đồng ý phần nào | BD40: Đồng ý phần nào
A41: 423 | B41: 1244003 | C41: Nguyễn | D41: Văn | E41: An | G41: Điện Công nghiệp | H41: Điện Công Nghiệp | I41: Cao đẳng nghề | J41: Nam | K41: FALSE | L41: 1989 | M41: Khá | N41: A1.Làm công ăn lương | R41: Nhà hàng, khách sạn và Du lịch | T41: 40 | U41: Trên 3 tháng | V41: Quan hệ cá nhân | X41: Tốt | Y41: Tốt | Z41: Có liên quan | AB41: 2-4 triệu | AC41: 2-10người | AD41: Không | AF41: Khác (ghi rõ) | AG41: Làm công | AH41: Không | AV41: Đồng ý | AW41: Hoàn toàn đồng ý | AX41: Hoàn toàn đồng ý | AY41: Trang thiết bị (máy móc, công cụ, v.v.) | BC41: Đồng ý | BD41: Đồng ý
A42: 422 | B42: 1244029 | C42: Nguyễn | D42: Ngọc | E42: Thiện | G42: Điện Công nghiệp | H42: Điện Công Nghiệp | I42: Cao đẳng nghề | J42: Nam | K42: FALSE | L42: 1991 | M42: Giỏi | N42: A1.Làm công ăn lương | R42: Thương mại & Dịch vụ (Bán buôn, bán lẻ) | T42: 40 | U42: 1-3 tháng | V42: Quan hệ cá nhân | X42: Tốt | Y42: Rất tốt | Z42: Có liên quan | AB42: 2-4 triệu | AC42: 10-200 người | AD42: Không | AF42: Nhân viên chính thức | AH42: Không | AV42: Hoàn toàn đồng ý | AW42: Hoàn toàn đồng ý | AX42: Hoàn toàn đồng ý | AY42: Thực tập/ thực hành tại doanh nghiệp | BC42: Đồng ý | BD42: Hoàn toàn đồng ý
A43: 421 | B43: 1244127 | C43: Nguyễn | D43: Đình | E43: Thức | G43: Điện Công nghiệp | H43: Điện Công Nghiệp | I43: Cao đẳng nghề | J43: Nam | K43: FALSE | L43: 1992 | M43: Trung bình khá | N43: A1.Làm công ăn lương | R43: Thương mại & Dịch vụ (Bán buôn, bán lẻ) | T43: 40 | U43: 1-3 tháng | V43: Quan hệ cá nhân | X43: Tốt | Y43: Rất tốt | Z43: Không liên quan | AB43: 4-6 triệu | AC43: 10-200 người | AD43: Có | AE43: 2-4 tuần | AF43: Khác (ghi rõ) | AG43: Làm công tháng | AH43: Không | AV43: Đồng ý | AW43: Hoàn toàn đồng ý | AX43: Đồng ý | AY43: Thực tập/ thực hành tại doanh nghiệp | AZ43: Trang thiết bị (máy móc, công cụ, v.v.) | BC43: Đồng ý | BD43: Đồng ý
A44: 420 | B44: 1244102 | C44: Đặng | D44: Nguyên | E44: Anh | G44: Điện Công nghiệp | H44: Điện Công Nghiệp | I44: Cao đẳng nghề | J44: Nam | K44: FALSE | L44: 1991 | M44: Trung bình khá | N44: A1.Làm công ăn lương | R44: Thương mại & Dịch vụ (Bán buôn, bán lẻ) | T44: 40 | U44: 1-3 tháng | V44: Qua quảng cáo trên báo/đài/TV | X44: Tốt | Y44: Tốt | Z44: Có liên quan | AB44: 2-4 triệu | AC44: 10-200 người | AD44: Không | AF44: Nhân viên chính thức | AH44: Không | AV44: Đồng ý | AW44: Hoàn toàn đồng ý | AX44: Hoàn toàn đồng ý | AY44: Trang thiết bị (máy móc, công cụ, v.v.) | AZ44: Thực tập/ thực hành tại doanh nghiệp | BC44: Đồng ý | BD44: Đồng ý
A45: 45 | B45: NĐ32KTA001 | C45: Nguyễn | D45: Thị | E45: Chiến | G45: Kế toán doanh nghiệp | H45: Kế toán doanh nghiệp | I45: Cao đẳng nghề | J45: Nữ | K45: học bổng | L45: 1993 | M45: Khá | N45: A1.Làm công ăn lương | P45: tìm được | R45: Nhà hàng, khách sạn và Du lịch | T45: 56h | U45: 1-3 tháng | V45: Qua quảng cáo trên Internet | X45: Tốt | Y45: Tốt | Z45: Liên quan | AB45: 2-4 triệu | AC45: 10-200 người | AD45: Không | AF45: Khác (ghi rõ) | AG45: Nhân viên chính thức | AH45: Có | AI45: Kế toán | AJ45: Đại học | AV45: Đồng ý | AW45: Đồng ý | AX45: Đồng ý | AY45: Tài liệu,chương trình (sách, v.v.) | BC45: Đồng ý | BD45: Đồng ý
A46: 410 | B46: 1264105 | C46: Bế | D46: Quốc | E46: Dũng | G46: Bảo vệ thực vật | H46: Bảo vệ thực vật | I46: Cao đẳng nghề | J46: Nam | K46: FALSE | L46: 1994 | M46: Trung bình khá | N46: A1.Làm công ăn lương | R46: Thương mại & Dịch vụ (Bán buôn, bán lẻ) | T46: 40 | U46: Trên 3 tháng | V46: Quan hệ cá nhân | X46: Trung bình | Y46: Trung bình | Z46: Liên quan | AB46: 2-4 triệu | AC46: 10-200 người | AD46: Có | AE46: Dưới 2 tuần | AF46: Nhân viên chính thức | AH46: Không | AV46: Đồng ý | AW46: Đồng ý | AX46: Hoàn toàn đồng ý | AY46: Cơ sở vật chất (phòng học, thư việnv.v.) | BC46: Đồng ý | BD46: Đồng ý
A47: 47 | B47: NĐ32KTA003 | C47: Võ | D47: Thị | E47: Đào | G47: Kế toán doanh nghiệp | H47: Kế toán doanh nghiệp | I47: Cao đẳng nghề | J47: Nữ | K47: học bổng | L47: 1991 | M47: Giỏi | N47: A1.Làm công ăn lương | P47: bỏ qua | R47: Thương mại & Dịch vụ (Bán buôn, bán lẻ) | T47: 48h | U47: Dưới 1 tháng | V47: Quan hệ cá nhân | X47: Tốt | Y47: Tốt | Z47: Liên quan | AA47: 5500000 | AB47: 4-6 triệu | AC47: 10-200 người | AD47: Có | AE47: 2-4 tuần | AF47: Khác (ghi rõ) | AG47: Nhân viên thử việc | AH47: Có | AI47: Kế toán | AJ47: Đại học | AV47: Đồng ý | AW47: Đồng ý | AX47: Đồng ý | AY47: Trang thiết bị (máy móc, công cụ, v.v.) | BC47: Đồng ý | BD47: Hoàn toàn đồng ý
A48: 48 | B48: NĐ32KTA225 | C48: Nguyễn | D48: Anh | E48: Đào | G48: Kế toán doanh nghiệp | H48: Kế toán doanh nghiệp | I48: Cao đẳng nghề | J48: Nữ | K48: FALSE | L48: 1983 | M48: Trung bình khá | N48: A1.Làm công ăn lương | P48: bỏ qua | R48: Sản xuất, phân phối điện, ga, nước | U48: Trên 3 tháng | V48: Quan hệ cá nhân | X48: Tốt | Y48: Tốt | Z48: Có liên quan/Close related | AB48: 6-8 triệu | AC48: 10-200 người | AD48: Không | AF48: Khác (ghi rõ) | AG48: Nhân viên thử việc | AH48: Có | AI48: Kế toán | AV48: Hoàn toàn đồng ý | AW48: Đồng ý | AX48: Hoàn toàn đồng ý | AY48: Thực tập/ thực hành tại doanh nghiệp | BC48: Đồng ý | BD48: Hoàn toàn đồng ý
A49: 409 | B49: 1264004 | C49: Nguyễn | D49: Thành | E49: Công | G49: Bảo vệ thực vật | H49: Bảo vệ thực vật | I49: Cao đẳng nghề | J49: Nam | K49: FALSE | L49: 1994 | M49: Trung bình khá | N49: A1.Làm công ăn lương | R49: Thương mại & Dịch vụ (Bán buôn, bán lẻ) | T49: 40 | U49: Trên 3 tháng | V49: Quan hệ cá nhân | X49: Tốt | Y49: Rất tốt | Z49: Có liên quan | AB49: 2-4 triệu | AC49: 2-10người | AD49: Không | AF49: Khác (ghi rõ) | AG49: Làm công | AH49: Không | AV49: Đồng ý | AW49: Đồng ý phần nào | AX49: Hoàn toàn đồng ý | AY49: Thực tập/ thực hành tại doanh nghiệp | BC49: Đồng ý | BD49: Đồng ý
A50: 408 | B50: 1264029 | C50: Vũ | D50: Kim | E50: Tú | G50: Bảo vệ thực vật | H50: Bảo vệ thực vật | I50: Cao đẳng nghề | J50: Nam | K50: FALSE | L50: 1993 | M50: Khá | N50: A1.Làm công ăn lương | R50: Nông - lâm - ngư nghiệp | T50: 40 | U50: Trên 3 tháng | V50: Quan hệ cá nhân | X50: Tốt | Y50: Tốt | Z50: Có liên quan | AB50: 2-4 triệu | AC50: 2-10người | AD50: Không | AF50: Nhân viên chính thức | AH50: Không | AV50: Đồng ý | AW50: Đồng ý | AX50: Đồng ý | AY50: Tài liệu,chương trình (sách, v.v.) | BC50: Đồng ý | BD50: Đồng ý
A51: 406 | B51: 1264011 | C51: Nguyễn | D51: Thị | E51: Hòa | G51: Bảo vệ thực vật | H51: Bảo vệ thực vật | I51: Cao đẳng nghề | J51: Nữ | K51: học bổng | L51: 1993 | M51: Khá | N51: A1.Làm công ăn lương | R51: Thương mại & Dịch vụ (Bán buôn, bán lẻ) | T51: 40 | U51: 1-3 tháng | V51: Quan hệ cá nhân | X51: Tốt | Y51: Rất tốt | Z51: Có liên quan | AB51: 2-4 triệu | AC51: 2-10người | AD51: Không | AF51: Nhân viên chính thức | AH51: Không | AV51: Hoàn toàn đồng ý | AW51: Hoàn toàn đồng ý | AX51: Hoàn toàn đồng ý | AY51: Trang thiết bị (máy móc, công cụ, v.v.) | AZ51: Thực tập/ thực hành tại doanh nghiệp | BC51: Hoàn toàn đồng ý | BD51: Đồng ý
A52: 52 | B52: NĐ32KTA008 | C52: Nguyễn | D52: Đông | E52: Hồ | G52: Kế toán doanh nghiệp | H52: Kế toán doanh nghiệp | I52: Cao đẳng nghề | J52: Nữ | K52: học bổng | L52: 1991 | M52: Giỏi | N52: A1.Làm công ăn lương | P52: bỏ qua | R52: Nhà hàng, khách sạn và Du lịch | U52: Dưới 1 tháng | V52: Do trường giới thiệu | X52: Tốt | Y52: Tốt | Z52: Có liên quan/Close related | AB52: 4-6 triệu | AC52: 10-200 người | AD52: Không | AF52: Khác (ghi rõ) | AG52: Nhân viên thử việc | AH52: Có | AI52: Kế toán | AJ52: Đại học | AV52: Đồng ý | AW52: Đồng ý phần nào | AX52: Hoàn toàn đồng ý | AY52: Thực tập/ thực hành tại doanh nghiệp | BC52: Đồng ý | BD52: Đồng ý
A53: 403 | B53: 1264024 | C53: Nguyễn | D53: Thị Thu | E53: Thanh | G53: Bảo vệ thực vật | H53: Bảo vệ thực vật | I53: Cao đẳng nghề | J53: Nữ | K53: FALSE | L53: 1994 | M53: Trung bình khá | N53: A1.Làm công ăn lương | R53: Thương mại & Dịch vụ (Bán buôn, bán lẻ) | T53: 40 | U53: 1-3 tháng | V53: Quan hệ cá nhân | X53: Tốt | Y53: Rất tốt | Z53: Không liên quan | AB53: 2-4 triệu | AC53: 10-200 người | AD53: Có | AE53: Dưới 2 tuần | AF53: Khác (ghi rõ) | AG53: Làm công hàng tháng | AH53: Không | AV53: Đồng ý | AW53: Hoàn toàn đồng ý | AX53: Hoàn toàn đồng ý | AY53: Trang thiết bị (máy móc, công cụ, v.v.) | BC53: Đồng ý | BD53: Đồng ý
A54: 402 | B54: 1264102 | C54: Rô | D54: Đa | E54: Bích | G54: Bảo vệ thực vật | H54: Bảo vệ thực vật | I54: Cao đẳng nghề | J54: Nữ | K54: học bổng | L54: 1994 | M54: Khá | N54: A1.Làm công ăn lương | R54: Nông - lâm - ngư nghiệp | T54: 40 | U54: Dưới 1 tháng | V54: Quan hệ cá nhân | X54: Tốt | Y54: Rất tốt | Z54: Có liên quan | AB54: 2-4 triệu | AC54: 10-200 người | AD54: Không | AF54: Nhân viên chính thức | AH54: Không | AV54: Hoàn toàn đồng ý | AW54: Hoàn toàn đồng ý | AX54: Đồng ý | AY54: Thực tập/ thực hành tại doanh nghiệp | BC54: Đồng ý | BD54: Đồng ý
A55: 55 | B55: NĐ32KTA009 | C55: Nguyễn | D55: Thị Ánh | E55: Hồng | G55: Kế toán doanh nghiệp | H55: Kế toán doanh nghiệp | I55: Cao đẳng nghề | J55: Nữ | K55: học bổng | L55: 1990 | M55: Giỏi | N55: A1.Làm công ăn lương | P55: bỏ qua | R55: Thương mại & Dịch vụ (Bán buôn, bán lẻ) | T55: 56h | U55: Dưới 1 tháng | V55: Do trường giới thiệu | X55: Tốt | Y55: Tốt | Z55: Liên quan/Related | AA55: 5500000 | AB55: 4-6 triệu | AC55: 10-200 người | AD55: Không | AF55: Khác (ghi rõ) | AG55: Nhân viên thử việc | AH55: Không | AV55: Đồng ý | AW55: Đồng ý | AX55: Hoàn toàn đồng ý | AY55: Thực tập/ thực hành tại doanh nghiệp | BC55: Đồng ý | BD55: Đồng ý
A56: 56 | B56: NĐ32KTA012 | C56: Trịnh | D56: Thị | E56: Hương | G56: Kế toán doanh nghiệp | H56: Kế toán doanh nghiệp | I56: Cao đẳng nghề | J56: Nữ | K56: học bổng | L56: 1992 | M56: Khá | N56: A1.Làm công ăn lương | P56: tìm được | R56: Thương mại & Dịch vụ (Bán buôn, bán lẻ) | T56: 56h | U56: 1-3 tháng | V56: Do trường giới thiệu | X56: Tốt | Y56: Tốt | Z56: Liên quan | AA56: 5500000 | AB56: 4-6 triệu | AC56: 10-200 người | AD56: Không | AF56: Khác (ghi rõ) | AG56: Nhân viên thử việc | AH56: Không | AV56: Đồng ý | AW56: Đồng ý | AX56: Đồng ý | AY56: Trang thiết bị (máy móc, công cụ, v.v.) | BC56: Đồng ý | BD56: Đồng ý
A57: 400 | B57: 1264130 | C57: Đoàn | D57: Phan | E57: Vũ | G57: Bảo vệ thực vật | H57: Bảo vệ thực vật | I57: Cao đẳng nghề | J57: Nam | K57: FALSE | L57: 1993 | M57: Trung bình khá | N57: A1.Làm công ăn lương | R57: Nông - lâm - ngư nghiệp | T57: 40 | U57: 1-3 tháng | V57: Quan hệ cá nhân | X57: Tốt | Y57: Rất tốt | Z57: Có liên quan | AB57: 2-4 triệu | AC57: 10-200 người | AD57: Không | AF57: Nhân viên chính thức | AH57: Không | AV57: Đồng ý | AW57: Hoàn toàn đồng ý | AX57: Đồng ý phần nào | AY57: Thực tập/ thực hành tại doanh nghiệp | BC57: Đồng ý | BD57: Đồng ý
A58: 399 | B58: 1264030 | C58: Đỗ | D58: Thị Cẩm | E58: Vân | G58: Bảo vệ thực vật | H58: Bảo vệ thực vật | I58: Cao đẳng nghề | J58: Nữ | K58: học bổng | L58: 1994 | M58: Giỏi | N58: A1.Làm công ăn lương | R58: Thương mại & Dịch vụ (Bán buôn, bán lẻ) | T58: 40 | U58: Trên 3 tháng | V58: Do cơ quan dịch vụ việclàm | X58: Trung bình | Y58: Tốt | Z58: Liên quan | AB58: 2-4 triệu | AC58: 2-10người | AD58: Có | AE58: Dưới 2 tuần | AF58: Nhân viên chính thức | AH58: Không | AV58: Hoàn toàn đồng ý | AW58: Hoàn toàn đồng ý | AX58: Đồng ý | AY58: Trang thiết bị (máy móc, công cụ, v.v.) | AZ58: Thực tập/ thực hành tại doanh nghiệp | BA58: Kỹ năng thực hành của giáo viên | BC58: Đồng ý | BD58: Đồng ý phần nào
A59: 59 | B59: NĐ32KTA013 | C59: Đặng | D59: Thị | E59: Kim | G59: Kế toán doanh nghiệp | H59: Kế toán doanh nghiệp | I59: Cao đẳng nghề | J59: Nữ | K59: FALSE | L59: 1985 | M59: Trung bình khá | N59: A1.Làm công ăn lương | P59: bỏ qua | R59: Công nghiệp khai thác | T59: 48h | U59: Trước khi TN | V59: Do trường giới thiệu | X59: Tốt | Y59: Tốt | Z59: Liên quan/Related | AB59: 4-6 triệu | AC59: 10-200 người | AD59: Có | AE59: 2-4 tuần | AF59: Khác (ghi rõ) | AG59: Nhân viên chính thức | AH59: Không | AV59: Đồng ý | AW59: Đồng ý | AX59: Đồng ý | AY59: Cơ sở vật chất (phòng học, thư việnv.v.) | BC59: Đồng ý | BD59: Đồng ý
A60: 60 | B60: NĐ32KTA014 | C60: Nguyễn | D60: Thị | E60: Lâm | G60: Kế toán doanh nghiệp | H60: Kế toán doanh nghiệp | I60: Cao đẳng nghề | J60: Nữ | K60: học bổng | L60: 1994 | M60: Khá | N60: A1.Làm công ăn lương | P60: tìm được | R60: Thương mại & Dịch vụ (Bán buôn, bán lẻ) | T60: 48h | U60: Dưới 1 tháng | V60: Do trường giới thiệu | X60: Tốt | Y60: Tốt | AB60: 4-6 triệu | AC60: 10-200 người | AD60: Có | AE60: 4-6 tuần | AF60: Khác (ghi rõ) | AG60: Nhân viên chính thức | AH60: Không | AV60: Đồng ý | AW60: Đồng ý | AX60: Đồng ý | AY60: Trang thiết bị (máy móc, công cụ, v.v.) | BC60: Đồng ý | BD60: Đồng ý
A61: 397 | B61: 1264017 | C61: Nguyễn | D61: Thị | E61: Ngoan | G61: Bảo vệ thực vật | H61: Bảo vệ thực vật | I61: Cao đẳng nghề | J61: Nữ | K61: học bổng | L61: 1993 | M61: Giỏi | N61: A1.Làm công ăn lương | R61: Nông - lâm - ngư nghiệp | T61: 40 | U61: 1-3 tháng | V61: Quan hệ cá nhân | X61: Tốt | Y61: Tốt | Z61: Có liên quan | AB61: 2-4 triệu | AC61: 10-200 người | AD61: Không | AF61: Nhân viên chính thức | AH61: Không | AV61: Đồng ý | AW61: Hoàn toàn đồng ý | AX61: Hoàn toàn đồng ý | AY61: Thực tập/ thực hành tại doanh nghiệp | BC61: Đồng ý | BD61: Đồng ý phần nào
A62: 62 | B62: NĐ32KTA023 | C62: Nguyễn | D62: Hoài | E62: Nhân | G62: Kế toán doanh nghiệp | H62: Kế toán doanh nghiệp | I62: Cao đẳng nghề | J62: Nam | K62: FALSE | L62: 1991 | M62: Giỏi | N62: A1.Làm công ăn lương | P62: bỏ qua | R62: Công nghiệp chế biến | T62: 48h | U62: Trên 3 tháng | V62: Quan hệ cá nhân | X62: Tốt | Y62: Tốt | Z62: Liên quan/Related | AB62: 4-6 triệu | AC62: 10-200 người | AD62: Không | AF62: Khác (ghi rõ) | AG62: Nhân viên chính thức | AH62: Không | AV62: Đồng ý | AW62: Đồng ý phần nào | AX62: Đồng ý | AY62: Trang thiết bị (máy móc, công cụ, v.v.) | BC62: Đồng ý | BD62: Đồng ý
A63: 63 | B63: NĐ32KTA039 | C63: Lê | D63: Đức Anh | E63: Tiến | G63: Kế toán doanh nghiệp | H63: Kế toán doanh nghiệp | I63: Cao đẳng nghề | J63: Nam | K63: FALSE | L63: 1993 | M63: Khá | N63: A1.Làm công ăn lương | P63: bỏ qua | R63: Thương mại & Dịch vụ (Bán buôn, bán lẻ) | U63: 1-3 tháng | V63: Hội chợ việc làm | X63: Tốt | Y63: Tốt | Z63: Có liên quan/Close related | AB63: 4-6 triệu | AC63: 10-200 người | AD63: Có | AE63: Dưới 2 tuần | AF63: Khác (ghi rõ) | AG63: Nhân viên chính thức | AH63: Có | AI63: Kế toán | AJ63: Đại học | AV63: Đồng ý | AW63: Hoàn toàn đồng ý | AX63: Đồng ý | AY63: Trang thiết bị (máy móc, công cụ, v.v.) | BC63: Đồng ý | BD63: Đồng ý
A64: 396 | B64: 1264111 | C64: Huỳnh | D64: Phương | E64: Hồng | G64: Bảo vệ thực vật | H64: Bảo vệ thực vật | I64: Cao đẳng nghề | J64: Nữ | K64: học bổng | L64: 1994 | M64: Khá | N64: A1.Làm công ăn lương | R64: Nông - lâm - ngư nghiệp | T64: Làm theo ngày | U64: 1-3 tháng | V64: Quan hệ cá nhân | X64: Tốt | Y64: Rất tốt | Z64: Có liên quan | AA64: Ngày nào trả công ngày đó | AC64: 10-200 người | AD64: Không | AF64: Khác (ghi rõ) | AG64: Làm công nhật | AH64: Không | AV64: Đồng ý | AW64: Hoàn toàn đồng ý | AX64: Hoàn toàn đồng ý | AY64: Thực tập/ thực hành tại doanh nghiệp | BC64: Hoàn toàn đồng ý | BD64: Hoàn toàn đồng ý
A65: 395 | B65: 1264020 | C65: Phạm | D65: Duy | E65: Quang | G65: Bảo vệ thực vật | H65: Bảo vệ thực vật | I65: Cao đẳng nghề | J65: Nam | K65: FALSE | L65: 1992 | M65: Giỏi | N65: A1.Làm công ăn lương | R65: Nông - lâm - ngư nghiệp | T65: 40 | U65: 1-3 tháng | V65: Quan hệ cá nhân | X65: Rất tốt | Y65: Rất tốt | Z65: Có liên quan | AB65: 4-6 triệu | AC65: 10-200 người | AD65: Không | AF65: Nhân viên chính thức | AH65: Không | AV65: Hoàn toàn đồng ý | AW65: Hoàn toàn đồng ý | AX65: Hoàn toàn đồng ý | AY65: Thực tập/ thực hành tại doanh nghiệp | BC65: Hoàn toàn đồng ý | BD65: Hoàn toàn đồng ý
A66: 394 | B66: 1264014 | C66: Chiêu | D66: Quốc | E66: Khánh | G66: Bảo vệ thực vật | H66: Bảo vệ thực vật | I66: Cao đẳng nghề | J66: Nam | K66: FALSE | L66: 1994 | M66: Khá | N66: A1.Làm công ăn lương | R66: Nông - lâm - ngư nghiệp | T66: 40 | U66: 1-3 tháng | V66: Quan hệ cá nhân | X66: Rất tốt | Y66: Rất tốt | Z66: Có liên quan | AB66: 4-6 triệu | AC66: 2-10người | AD66: Không | AF66: Nhân viên chính thức | AH66: Không | AV66: Hoàn toàn đồng ý | AW66: Hoàn toàn đồng ý | AX66: Đồng ý | AY66: Thực tập/ thực hành tại doanh nghiệp | BC66: Đồng ý | BD66: Đồng ý phần nào
A67: 393 | B67: 1264124 | C67: Lô | D67: Thị Tân | E67: Thanh | G67: Bảo vệ thực vật | H67: Bảo vệ thực vật | I67: Cao đẳng nghề | J67: Nữ | K67: học bổng | L67: 1994 | M67: Khá | N67: A1.Làm công ăn lương | R67: Nông - lâm - ngư nghiệp | T67: 48 | U67: 1-3 tháng | V67: Quan hệ cá nhân | X67: Tốt | Y67: Rất tốt | Z67: Có liên quan | AB67: 2-4 triệu | AC67: 10-200 người | AD67: Không | AF67: Nhân viên chính thức | AH67: Không | AV67: Đồng ý | AW67: Đồng ý phần nào | AX67: Hoàn toàn đồng ý | AY67: Thực tập/ thực hành tại doanh nghiệp | AZ67: Phương pháp giảng dạy của giáo viên | BC67: Đồng ý | BD67: Đồng ý phần nào
A68: 392 | B68: 1264022 | C68: Ka | E68: Soel | G68: Bảo vệ thực vật | H68: Bảo vệ thực vật | I68: Cao đẳng nghề | J68: Nữ | K68: FALSE | L68: 1989 | M68: Trung bình khá | N68: A1.Làm công ăn lương | R68: Thương mại & Dịch vụ (Bán buôn, bán lẻ) | T68: 40 | U68: 1-3 tháng | V68: Khác, ghi cụ thể | W68: Tự xin việc | X68: Tốt | Y68: Rất tốt | Z68: Không liên quan | AB68: 4-6 triệu | AC68: 10-200 người | AD68: Có | AE68: Dưới 2 tuần | AF68: Khác (ghi rõ) | AG68: Làm công | AH68: Không | AV68: Hoàn toàn đồng ý | AW68: Đồng ý | AX68: Đồng ý | AY68: Trang thiết bị (máy móc, công cụ, v.v.) | AZ68: Thực tập/ thực hành tại doanh nghiệp | BC68: Đồng ý | BD68: Đồng ý phần nào
A69: 391 | B69: 1264122 | C69: Nguyễn | D69: Xuân | E69: Qúy | G69: Bảo vệ thực vật | H69: Bảo vệ thực vật | I69: Cao đẳng nghề | J69: Nam | K69: FALSE | L69: 1990 | M69: Giỏi | N69: A1.Làm công ăn lương | R69: Nông - lâm - ngư nghiệp | T69: 48 | U69: 1-3 tháng | V69: Quan hệ cá nhân | X69: Tốt | Y69: Rất tốt | Z69: Có liên quan | AB69: 2-4 triệu | AC69: 10-200 người | AD69: Không | AF69: Nhân viên chính thức | AH69: Không | AV69: Đồng ý | AW69: Hoàn toàn đồng ý | AX69: Hoàn toàn đồng ý | AY69: Trang thiết bị (máy móc, công cụ, v.v.) | AZ69: Thực tập/ thực hành tại doanh nghiệp | BA69: Kỹ năng thực hành của giáo viên | BC69: Đồng ý | BD69: Đồng ý phần nào
A70: 390 | B70: 1264121 | C70: Nguyễn | D70: Đức Minh | E70: Quân | G70: Bảo vệ thực vật | H70: Bảo vệ thực vật | I70: Cao đẳng nghề | J70: Nam | K70: FALSE | L70: 1994 | M70: Khá | N70: A1.Làm công ăn lương | R70: Nông - lâm - ngư nghiệp | T70: 48 | U70: 1-3 tháng | V70: Quan hệ cá nhân | X70: Tốt | Y70: Rất tốt | Z70: Có liên quan | AB70: 2-4 triệu | AC70: 10-200 người | AD70: Không | AF70: Nhân viên chính thức | AH70: Không | AV70: Hoàn toàn đồng ý | AW70: Hoàn toàn đồng ý | AX70: Đồng ý | AY70: Thực tập/ thực hành tại doanh nghiệp | BC70: Đồng ý | BD70: Hoàn toàn đồng ý
A71: 389 | B71: 1154033 | C71: Mai | D71: Trần Bích | E71: Phượng | G71: Bảo vệ thực vật | H71: Bảo vệ thực vật | I71: Cao đẳng nghề | J71: Nữ | K71: học bổng | L71: 1993 | M71: Giỏi | N71: A1.Làm công ăn lương | R71: Nông - lâm - ngư nghiệp | T71: 48 | U71: 1-3 tháng | V71: Quan hệ cá nhân | X71: Tốt | Y71: Rất tốt | Z71: Có liên quan | AB71: 2-4 triệu | AC71: 10-200 người | AD71: Không | AF71: Nhân viên chính thức | AH71: Không | AV71: Đồng ý | AW71: Hoàn toàn đồng ý | AX71: Hoàn toàn đồng ý | AY71: Thực tập/ thực hành tại doanh nghiệp | BC71: Đồng ý | BD71: Đồng ý
A72: 388 | B72: 1264107 | C72: Ngô | D72: Thị Lệ | E72: Giang | G72: Bảo vệ thực vật | H72: Bảo vệ thực vật | I72: Cao đẳng nghề | J72: Nữ | K72: FALSE | L72: 1994 | M72: Trung bình khá | N72: A1.Làm công ăn lương | R72: Thương mại & Dịch vụ (Bán buôn, bán lẻ) | T72: 40 | U72: 1-3 tháng | V72: Quan hệ cá nhân | X72: Tốt | Y72: Rất tốt | Z72: Có liên quan | AB72: 2-4 triệu | AC72: 10-200 người | AD72: Không | AF72: Nhân viên chính thức | AH72: Không | AV72: Đồng ý | AW72: Hoàn toàn đồng ý | AX72: Hoàn toàn đồng ý | AY72: Thực tập/ thực hành tại doanh nghiệp | BC72: Đồng ý | BD72: Hoàn toàn đồng ý
A73: 386 | B73: 1264117 | C73: Nguyễn | D73: Hồng | E73: Minh | G73: Bảo vệ thực vật | H73: Bảo vệ thực vật | I73: Cao đẳng nghề | J73: Nam | K73: FALSE | L73: 1992 | M73: Trung bình khá | N73: A1.Làm công ăn lương | R73: Nông - lâm - ngư nghiệp | T73: 40 | U73: Trên 3 tháng | V73: Qua quảng cáo trên báo/đài/TV | X73: Tốt | Y73: Tốt | Z73: Có liên quan | AB73: > Trên 8 triệu | AC73: 10-200 người | AD73: Không | AF73: Nhân viên chính thức | AH73: Không | AV73: Đồng ý | AW73: Đồng ý | AX73: Hoàn toàn đồng ý | AY73: Tài liệu,chương trình (sách, v.v.) | BC73: Đồng ý | BD73: Đồng ý
A74: 385 | B74: 1264109 | C74: Triệu | D74: Trọng | E74: Hào | G74: Bảo vệ thực vật | H74: Bảo vệ thực vật | I74: Cao đẳng nghề | J74: Nam | K74: FALSE | L74: 1992 | M74: Khá | N74: A1.Làm công ăn lương | R74: Nông - lâm - ngư nghiệp | T74: 40 | U74: Trên 3 tháng | V74: Qua quảng cáo trên Internet | X74: Tốt | Y74: Tốt | Z74: Có liên quan | AB74: 2-4 triệu | AC74: Trên 300 người | AD74: Có | AE74: Dưới 2 tuần | AF74: Nhân viên chính thức | AH74: Không | AV74: Đồng ý | AW74: Đồng ý | AX74: Đồng ý | AY74: Tài liệu,chương trình (sách, v.v.) | BC74: Đồng ý | BD74: Đồng ý
A75: 384 | B75: 1264104 | C75: Trần | D75: Văn | E75: Chung | G75: Bảo vệ thực vật | H75: Bảo vệ thực vật | I75: Cao đẳng nghề | J75: Nam | K75: FALSE | L75: 1994 | M75: Trung bình khá | N75: A1.Làm công ăn lương | R75: Giao thông vận tải | T75: 40 | U75: Trên 3 tháng | V75: Quan hệ cá nhân | X75: Tốt | Y75: Tốt | Z75: Có liên quan | AB75: 6-8 triệu | AC75: 10-200 người | AD75: Không | AF75: Nhân viên trong thời gian thử việc (thợ học việc | AH75: Không | AV75: Đồng ý | AW75: Đồng ý | AX75: Đồng ý | AY75: Tài liệu,chương trình (sách, v.v.) | BC75: Đồng ý | BD75: Đồng ý
A76: 383 | B76: 1264019 | C76: Lường | D76: Thị | E76: Phương | G76: Bảo vệ thực vật | H76: Bảo vệ thực vật | I76: Cao đẳng nghề | J76: Nữ | K76: học bổng | L76: 1994 | M76: Giỏi | N76: A1.Làm công ăn lương | R76: Nông - lâm - ngư nghiệp | T76: 40 | U76: 1-3 tháng | V76: Quan hệ cá nhân | X76: Tốt | Y76: Rất tốt | Z76: Có liên quan | AB76: 2-4 triệu | AC76: 10-200 người | AD76: Không | AF76: Nhân viên chính thức | AH76: Không | AV76: Hoàn toàn đồng ý | AW76: Hoàn toàn đồng ý | AX76: Hoàn toàn đồng ý | AY76: Thực tập/ thực hành tại doanh nghiệp | BC76: Đồng ý | BD76: Đồng ý
A77: 381 | B77: 1264114 | C77: Nguyễn | D77: Hoàng | E77: Linh | G77: Bảo vệ thực vật | H77: Bảo vệ thực vật | I77: Cao đẳng nghề | J77: Nam | K77: FALSE | L77: 1991 | M77: Giỏi | N77: A1.Làm công ăn lương | R77: Thương mại & Dịch vụ (Bán buôn, bán lẻ) | T77: 40 | U77: 1-3 tháng | V77: Quan hệ cá nhân | X77: Tốt | Y77: Rất tốt | Z77: Có liên quan | AB77: 4-6 triệu | AC77: 10-200 người | AD77: Không | AF77: Nhân viên chính thức | AH77: Không | AV77: Đồng ý | AW77: Hoàn toàn đồng ý | AX77: Hoàn toàn đồng ý | AY77: Trang thiết bị (máy móc, công cụ, v.v.) | BC77: Hoàn toàn đồng ý | BD77: Hoàn toàn đồng ý
A78: 369 | B78: 1224125 | C78: Nguyễn | D78: Hữu | E78: Thọ | G78: Công nghệ ô tô | H78: Công nghệ ô tô | I78: Cao đẳng nghề | J78: Nam | K78: FALSE | L78: 1992 | M78: Khá | N78: A1.Làm công ăn lương | R78: Thương mại & Dịch vụ (Bán buôn, bán lẻ) | T78: 40 | U78: 1-3 tháng | V78: Do trường giới thiệu | X78: Trung bình | Y78: Trung bình | Z78: Liên quan | AB78: 4-6 triệu | AC78: 10-200 người | AD78: Không | AF78: Nhân viên chính thức | AH78: Không | AV78: Hoàn toàn đồng ý | AW78: Đồng ý | AX78: Đồng ý | AY78: Tài liệu,chương trình (sách, v.v.) | BC78: Hoàn toàn đồng ý | BD78: Hoàn toàn đồng ý
A79: 368 | B79: 1224115 | C79: Đặng | D79: Toàn | E79: Năng | G79: Công nghệ ô tô | H79: Công nghệ ô tô | I79: Cao đẳng nghề | J79: Nam | K79: FALSE | L79: 1994 | M79: Giỏi | N79: A1.Làm công ăn lương | R79: Công nghiệp khai thác | T79: 40 | U79: Trên 3 tháng | V79: Quan hệ cá nhân | X79: Tốt | Y79: Rất tốt | Z79: Có liên quan | AB79: 2-4 triệu | AC79: 10-200 người | AD79: Không | AF79: Nhân viên chính thức | AH79: Không | AV79: Đồng ý | AW79: Hoàn toàn đồng ý | AX79: Hoàn toàn đồng ý | AY79: Trang thiết bị (máy móc, công cụ, v.v.) | AZ79: Thực tập/ thực hành tại doanh nghiệp | BC79: Đồng ý | BD79: Đồng ý
A80: 367 | B80: 1224107 | C80: Phan | D80: Huy | E80: Giàu | G80: Công nghệ ô tô | H80: Công nghệ ô tô | I80: Cao đẳng nghề | J80: Nam | K80: FALSE | L80: 1993 | M80: Trung bình khá | N80: A1.Làm công ăn lương | R80: Thương mại & Dịch vụ (Bán buôn, bán lẻ) | T80: 40 | U80: 1-3 tháng | V80: Khác, ghi cụ thể | W80: Tự xin việc | X80: Tốt | Y80: Tốt | Z80: Không liên quan | AB80: 4-6 triệu | AC80: 2-10người | AD80: Không | AF80: Khác (ghi rõ) | AG80: Làm công | AH80: Không | AV80: Đồng ý | AW80: Đồng ý | AX80: Đồng ý phần nào | AY80: Trang thiết bị (máy móc, công cụ, v.v.) | BC80: Đồng ý phần nào | BD80: Đồng ý phần nào
A81: 366 | B81: 1224106 | C81: Nguyễn | D81: Ngọc | E81: Đông | G81: Công nghệ ô tô | H81: Công nghệ ô tô | I81: Cao đẳng nghề | J81: Nam | K81: FALSE | L81: 1994 | M81: Trung bình khá | N81: A1.Làm công ăn lương | R81: Khác, ghi cụ thể | S81: Sửa chữa xe | T81: 40 | U81: 1-3 tháng | V81: Khác, ghi cụ thể | W81: Đi thực tập | X81: Tốt | Y81: Rất tốt | Z81: Có liên quan | AB81: 2-4 triệu | AC81: 2-10người | AD81: Không | AF81: Nhân viên chính thức | AH81: Không | AV81: Đồng ý | AW81: Hoàn toàn đồng ý | AX81: Hoàn toàn đồng ý | AY81: Tài liệu,chương trình (sách, v.v.) | AZ81: Thực tập/ thực hành tại doanh nghiệp | BC81: Đồng ý | BD81: Đồng ý
A82: 365 | B82: 1224114 | C82: Nguyễn | D82: Ngọc | E82: Nam | G82: Công nghệ ô tô | H82: Công nghệ ô tô | I82: Cao đẳng nghề | J82: Nam | K82: FALSE | L82: 1994 | M82: Trung bình khá | N82: A1.Làm công ăn lương | R82: Công nghiệp chế biến | T82: 40 | U82: 1-3 tháng | V82: Quan hệ cá nhân | X82: Tốt | Y82: Rất tốt | Z82: Liên quan | AB82: 2-4 triệu | AC82: 10-200 người | AD82: Không | AF82: Nhân viên chính thức | AH82: Không | AV82: Hoàn toàn đồng ý | AW82: Đồng ý | AX82: Đồng ý phần nào | AY82: Cơ sở vật chất (phòng học, thư việnv.v.) | BC82: Đồng ý | BD82: Đồng ý phần nào
A83: 364 | B83: 1224119 | C83: Hồ | D83: Sỹ | E83: Nơi | G83: Công nghệ ô tô | H83: Công nghệ ô tô | I83: Cao đẳng nghề | J83: Nam | K83: FALSE | L83: 1991 | M83: Trung bình khá | N83: A1.Làm công ăn lương | R83: Khác, ghi cụ thể | S83: Cơ khí ô tô | T83: 40 | U83: Dưới 1 tháng | V83: Quan hệ cá nhân | X83: Tốt | Y83: Rất tốt | Z83: Có liên quan | AB83: 4-6 triệu | AC83: 2-10người | AD83: Không | AF83: Nhân viên chính thức | AH83: Không | AV83: Hoàn toàn đồng ý | AW83: Đồng ý | AX83: Hoàn toàn đồng ý | AY83: Trang thiết bị (máy móc, công cụ, v.v.) | AZ83: Thực tập/ thực hành tại doanh nghiệp | BC83: Đồng ý | BD83: Đồng ý
A84: 84 | B84: NĐ32QTA046 | C84: Vũ | D84: Hoàng | E84: Anh | G84: Quản trị doanh nghiệp | H84: Quản trị doanh nghiệp | I84: Cao đẳng nghề | J84: Nam | K84: FALSE | L84: 1993 | M84: Trung bình | N84: A1.Làm công ăn lương | P84: bỏ qua | R84: Công nghiệp chế biến | U84: 1-3 tháng | V84: Do cơ quan dịch vụ việclàm | X84: Tốt | Y84: Tốt | Z84: Có liên quan/Close related | AB84: 4-6 triệu | AC84: 10-200 người | AD84: Không | AF84: Khác (ghi rõ) | AG84: Nhân viên chính thức | AI84: Quản trị | AJ84: Đại học | AV84: Đồng ý | AW84: Đồng ý phần nào | AX84: Đồng ý | AY84: Thực tập/ thực hành tại doanh nghiệp | BC84: Đồng ý | BD84: Đồng ý
A85: 85 | B85: NĐ32QTA047 | C85: Nguyễn | D85: Minh | E85: Chiến | G85: Quản trị doanh nghiệp | H85: Quản trị doanh nghiệp | I85: Cao đẳng nghề | J85: Nam | K85: FALSE | L85: 1990 | M85: Trung bình khá | N85: A1.Làm công ăn lương | P85: bỏ qua | R85: Công nghiệp chế biến | T85: 48h | U85: Trên 3 tháng | V85: Hội chợ việc làm | X85: Tốt | Y85: Trung bình | Z85: Liên quan/Related | AB85: 4-6 triệu | AC85: 10-200 người | AD85: Không | AH85: Không | AI85: Quản trị | AV85: Đồng ý | AW85: Đồng ý | AX85: Hoàn toàn đồng ý | AY85: Thực tập/ thực hành tại doanh nghiệp | BC85: Hoàn toàn đồng ý | BD85: Hoàn toàn đồng ý
A86: 86 | B86: NĐ32QTA048 | C86: Lê | D86: Thị | E86: Đào | G86: Quản trị doanh nghiệp | H86: Quản trị doanh nghiệp | I86: Cao đẳng nghề | J86: Nữ | K86: FALSE | L86: 1989 | M86: Trung bình khá | N86: A1.Làm công ăn lương | P86: bỏ qua | R86: Thương mại & Dịch vụ (Bán buôn, bán lẻ) | T86: 48h | U86: 1-3 tháng | V86: Quan hệ cá nhân | X86: Tốt | Y86: Tốt | Z86: Có liên quan/Close related | AB86: 4-6 triệu | AC86: 10-200 người | AD86: Không | AF86: Khác (ghi rõ) | AG86: Nhân viên chính thức | AI86: Quản trị | AJ86: Đại học | AV86: Đồng ý | AW86: Đồng ý | AX86: Đồng ý | AY86: Cơ sở vật chất (phòng học, thư việnv.v.) | BC86: Đồng ý | BD86: Đồng ý
A87: 87 | B87: NĐ32QTA232 | C87: Nguyễn | D87: Thị | E87: Hà | G87: Quản trị doanh nghiệp | H87: Quản trị doanh nghiệp | I87: Cao đẳng nghề | J87: Nữ | K87: FALSE | L87: 1994 | M87: Trung bình khá | N87: A1.Làm công ăn lương | P87: bỏ qua | R87: Thương mại & Dịch vụ (Bán buôn, bán lẻ) | T87: 48h | U87: 1-3 tháng | V87: Hội chợ việc làm | X87: Tốt | Y87: Tốt | Z87: Có liên quan/Close related | AB87: 4-6 triệu | AC87: 10-200 người | AD87: Không | AF87: Khác (ghi rõ) | AG87: Nhân viên chính thức | AH87: Có | AI87: Quản trị | AJ87: Đại học | AV87: Đồng ý | AW87: Đồng ý | AX87: Đồng ý | AY87: Thực tập/ thực hành tại doanh nghiệp | BC87: Đồng ý | BD87: Đồng ý
A88: 363 | B88: 1224117 | C88: Kỳ | D88: Hữu Nguyễn | E88: Nguyên | G88: Công nghệ ô tô | H88: Công nghệ ô tô | I88: Cao đẳng nghề | J88: Nam | K88: FALSE | L88: 1992 | M88: Khá | N88: A1.Làm công ăn lương | R88: Khác, ghi cụ thể | S88: Sửa chữa xe | T88: 40 | U88: Trên 3 tháng | V88: Khác, ghi cụ thể | W88: Tự xin việc | X88: Rất tốt | Y88: Rất tốt | Z88: Có liên quan | AB88: 2-4 triệu | AC88: 2-10người | AD88: Không | AF88: Khác (ghi rõ) | AG88: Làm công | AH88: Không | AV88: Hoàn toàn đồng ý | AW88: Đồng ý | AX88: Hoàn toàn đồng ý | AZ88: Cơ sở vật chất (phòng học, thư việnv.v.) | BA88: Thực tập/ thực hành tại doanh nghiệp | BC88: Đồng ý | BD88: Đồng ý
A89: 89 | B89: NĐ32QTA049 | C89: Nguyễn | D89: Thị | E89: Hải | G89: Quản trị doanh nghiệp | H89: Quản trị doanh nghiệp | I89: Cao đẳng nghề | J89: Nữ | K89: học bổng | L89: 1993 | M89: Khá | N89: A1.Làm công ăn lương | R89: Công nghiệp chế biến | T89: 48h | U89: 1-3 tháng | V89: Hội chợ việc làm | X89: Tốt | Y89: Tốt | Z89: Có liên quan/Close related | AA89: 7000000 | AB89: 6-8 triệu | AC89: 200-300 người | AD89: Không | AF89: Khác (ghi rõ) | AG89: Nhân viên chính thức | AH89: Có | AI89: Quản trị | AJ89: Đại học | AV89: Đồng ý | AW89: Đồng ý | AX89: Đồng ý | AY89: Trang thiết bị (máy móc, công cụ, v.v.) | BC89: Đồng ý | BD89: Đồng ý
A90: 90 | B90: NĐ32QTA050 | C90: Lê | D90: Hải | E90: Huân | G90: Quản trị doanh nghiệp | H90: Quản trị doanh nghiệp | I90: Cao đẳng nghề | J90: Nam | K90: FALSE | L90: 1985 | M90: Khá | N90: A1.Làm công ăn lương | R90: Xây dựng | T90: 48h | U90: 1-3 tháng | V90: Do trường giới thiệu | X90: Tốt | Y90: Tốt | Z90: Có liên quan/Close related | AA90: 5500000 | AB90: 4-6 triệu | AC90: 10-200 người | AD90: Không | AF90: Khác (ghi rõ) | AG90: Nhân viên chính thức | AH90: Có | AI90: Quản trị | AJ90: Đại học | AV90: Đồng ý | AW90: Đồng ý | AX90: Đồng ý | AY90: Thực tập/ thực hành tại doanh nghiệp | BC90: Đồng ý | BD90: Đồng ý
A91: 91 | B91: NĐ32QTA051 | C91: Lê | D91: Quốc | E91: Hùng | G91: Quản trị doanh nghiệp | H91: Quản trị doanh nghiệp | I91: Cao đẳng nghề | J91: Nam | K91: FALSE | L91: 1994 | M91: Trung bình khá | N91: A1.Làm công ăn lương | R91: Công nghiệp khai thác | T91: 48h | U91: 1-3 tháng | V91: Qua quảng cáo trên Internet | X91: Tốt | Y91: Tốt | Z91: Liên quan/Related | AA91: 5500000 | AB91: 4-6 triệu | AC91: Trên 300 người | AD91: Không | AF91: Khác (ghi rõ) | AG91: Nhân viên chính thức | AH91: Không | AI91: Quản trị | AV91: Đồng ý | AW91: Đồng ý | AX91: Đồng ý | AY91: Thực tập/ thực hành tại doanh nghiệp | BC91: Đồng ý | BD91: Đồng ý
A92: 92 | B92: NĐ32QTA052 | C92: Nguyễn | D92: Mạnh | E92: Hùng | G92: Quản trị doanh nghiệp | H92: Quản trị doanh nghiệp | I92: Cao đẳng nghề | J92: Nam | K92: FALSE | L92: 1989 | M92: Khá | N92: A1.Làm công ăn lương | R92: Thương mại & Dịch vụ (Bán buôn, bán lẻ) | U92: 1-3 tháng | V92: Qua quảng cáo trên Internet | X92: Trung bình | Y92: Trung bình | Z92: Có liên quan/Close related | AA92: 5500000 | AB92: 4-6 triệu | AC92: 200-300 người | AD92: Có | AE92: 4-6 tuần | AF92: Khác (ghi rõ) | AG92: Nhân viên chính thức | AH92: Không | AI92: Quản trị | AV92: Đồng ý | AW92: Đồng ý | AX92: Đồng ý | AY92: Thực tập/ thực hành tại doanh nghiệp | BC92: Đồng ý | BD92: Đồng ý
A93: 93 | B93: NĐ31QTA095 | C93: Thu | D93: Đình | E93: Khang | G93: Quản trị doanh nghiệp | H93: Quản trị doanh nghiệp | I93: Cao đẳng nghề | J93: Nam | K93: FALSE | L93: 1993 | M93: Khá | N93: A1.Làm công ăn lương | R93: Công nghiệp chế biến | T93: 48h | U93: 1-3 tháng | V93: Qua quảng cáo trên báo/đài/TV | X93: Tốt | Y93: Tốt | Z93: Liên quan/Related | AA93: 5500000 | AB93: 4-6 triệu | AC93: 200-300 người | AD93: Có | AE93: 2-4 tuần | AF93: Khác (ghi rõ) | AG93: Nhân viên chính thức | AH93: Không | AI93: Quản trị | AV93: Đồng ý | AW93: Đồng ý | AX93: Đồng ý | AY93: Thực tập/ thực hành tại doanh nghiệp | BC93: Đồng ý | BD93: Đồng ý
A94: 94 | B94: NĐ32QTA054 | C94: Triệu | D94: Văn | E94: Khánh | G94: Quản trị doanh nghiệp | H94: Quản trị doanh nghiệp | I94: Cao đẳng nghề | J94: Nam | K94: FALSE | L94: 1990 | M94: Trung bình khá | N94: A1.Làm công ăn lương | R94: Thương mại & Dịch vụ (Bán buôn, bán lẻ) | T94: 48h | U94: Trên 3 tháng | V94: Qua quảng cáo trên báo/đài/TV | X94: Trung bình | Y94: Trung bình | Z94: Có liên quan/Close related | AA94: 5500000 | AB94: 4-6 triệu | AC94: 10-200 người | AD94: Có | AE94: 4-6 tuần | AF94: Khác (ghi rõ) | AG94: Nhân viên chính thức | AH94: Không | AI94: Quản trị | AV94: Đồng ý phần nào | AW94: Đồng ý phần nào | AX94: Đồng ý phần nào | AY94: Thực tập/ thực hành tại doanh nghiệp | BC94: Đồng ý phần nào | BD94: Đồng ý phần nào
A95: 95 | B95: NĐ32QTA055 | C95: Vũ | D95: Thanh | E95: Lâm | G95: Quản trị doanh nghiệp | H95: Quản trị doanh nghiệp | I95: Cao đẳng nghề | J95: Nam | K95: FALSE | L95: 1988 | M95: Trung bình khá | N95: A1.Làm công ăn lương | R95: Công nghiệp khai thác | T95: 48h | U95: 1-3 tháng | V95: Do cơ quan dịch vụ việclàm | X95: Tốt | Y95: Tốt | Z95: Liên quan/Related | AA95: 5500000 | AB95: 4-6 triệu | AC95: 200-300 người | AD95: Có | AE95: 6-8 tuần | AF95: Khác (ghi rõ) | AG95: Nhân viên chính thức | AH95: Có | AI95: Quản trị | AJ95: Đại học | AV95: Đồng ý | AW95: Đồng ý | AX95: Đồng ý | AY95: Thực tập/ thực hành tại doanh nghiệp | BC95: Đồng ý | BD95: Đồng ý
A96: 96 | B96: NĐ32QTA057 | C96: Nguyễn | D96: Minh | E96: Long | G96: Quản trị doanh nghiệp | H96: Quản trị doanh nghiệp | I96: Cao đẳng nghề | J96: Nam | K96: FALSE | L96: 1990 | M96: Trung bình khá | N96: A1.Làm công ăn lương | R96: Công nghiệp chế biến | T96: 48h | U96: Dưới 1 tháng | V96: Do trường giới thiệu | X96: Tốt | Y96: Tốt | Z96: Có liên quan/Close related | AA96: 5500000 | AB96: 4-6 triệu | AC96: 200-300 người | AD96: Có | AE96: 6-8 tuần | AF96: Khác (ghi rõ) | AG96: Nhân viên chính thức | AH96: Không | AI96: Quản trị | AV96: Đồng ý | AW96: Đồng ý | AX96: Đồng ý phần nào | AY96: Thực tập/ thực hành tại doanh nghiệp | BC96: Đồng ý | BD96: Đồng ý
A97: 97 | B97: NĐ32QTA058 | C97: Vũ | D97: Văn | E97: Luyện | G97: Quản trị doanh nghiệp | H97: Quản trị doanh nghiệp | I97: Cao đẳng nghề | J97: Nam | K97: FALSE | L97: 1988 | M97: Khá | N97: A1.Làm công ăn lương | R97: Thương mại & Dịch vụ (Bán buôn, bán lẻ) | U97: 1-3 tháng | V97: Qua quảng cáo trên Internet | X97: Tốt | Y97: Tốt | Z97: Liên quan/Related | AA97: 7000000 | AB97: 6-8 triệu | AC97: 10-200 người | AD97: Không | AH97: Có | AI97: Quản trị | AJ97: Đại học | AV97: Đồng ý | AW97: Đồng ý | AX97: Đồng ý | AY97: Thực tập/ thực hành tại doanh nghiệp | BC97: Đồng ý | BD97: Đồng ý
A98: 98 | B98: NĐ32QTA060 | C98: Trần | D98: Bích | E98: Ngọc | G98: Quản trị doanh nghiệp | H98: Quản trị doanh nghiệp | I98: Cao đẳng nghề | J98: Nữ | K98: FALSE | L98: 1994 | M98: Trung bình khá | N98: A1.Làm công ăn lương | R98: Thương mại & Dịch vụ (Bán buôn, bán lẻ) | T98: 48h | U98: Trên 3 tháng | V98: Quan hệ cá nhân | X98: Tốt | Y98: Trung bình | Z98: Có liên quan/Close related | AB98: 6-8 triệu | AC98: 10-200 người | AD98: Không | AF98: Khác (ghi rõ) | AG98: Nhân viên chính thức | AH98: Có | AI98: Quản trị | AJ98: Đại học | AV98: Hoàn toàn đồng ý | AW98: Đồng ý | AX98: Đồng ý | AY98: Tài liệu,chương trình (sách, v.v.) | BC98: Đồng ý | BD98: Đồng ý
A99: 99 | B99: NĐ32CGA197 | C99: Lý | D99: Văn | E99: Bình | G99: Cắt gọt kim loại | H99: Cắt gọt kim loại | I99: Cao đẳng nghề | J99: Nam | K99: FALSE | L99: 1988 | N99: A1.Làm công ăn lương | T99: 48h | U99: Trên 3 tháng | V99: Quan hệ cá nhân | X99: Tốt | Y99: Tốt | Z99: Liên quan | AB99: 4-6 triệu | AC99: Trên 300 người | AD99: Không | AF99: Khác (ghi rõ) | AG99: NV chính thức | AV99: Đồng ý | AW99: Đồng ý | AX99: Đồng ý | AY99: Trang thiết bị (máy móc, công cụ, v.v.) | AZ99: Cơ sở vật chất (phòng học, thư việnv.v.) | BA99: Thực tập/ thực hành tại doanh nghiệp | BC99: Đồng ý phần nào | BD99: Đồng ý
A100: 100 | B100: NĐ32CGA205 | C100: Đặng | D100: Thanh | E100: Hải | G100: Cắt gọt kim loại | H100: Cắt gọt kim loại | I100: Cao đẳng nghề | J100: Nam | K100: FALSE | L100: 1994 | N100: A1.Làm công ăn lương | R100: Công nghiệp chế biến | S100: Cơ khí | T100: 72h | U100: 1-3 tháng | V100: Quan hệ cá nhân | X100: Tốt | Y100: Tốt | Z100: Có liên quan | AB100: 4-6 triệu | AC100: Trên 300 người | AD100: Không | AF100: Khác (ghi rõ) | AG100: NV chính thức | AV100: Đồng ý | AW100: Đồng ý | AX100: Đồng ý | AY100: Trang thiết bị (máy móc, công cụ, v.v.) | AZ100: Cơ sở vật chất (phòng học, thư việnv.v.) | BA100: Thực tập/ thực hành tại doanh nghiệp | BC100: Đồng ý phần nào | BD100: Đồng ý
...

Sheet Sheet3
B3: Column Labels
B4: Cao đẳng nghề | D4: Trung cấp nghề | F4: Total Count of Cấp trình độ | G4: Total Count of Cấp trình độ2
A5: Row Labels | B5: Count of Cấp trình độ | C5: Count of Cấp trình độ2 | D5: Count of Cấp trình độ | E5: Count of Cấp trình độ2
A6: A1.Làm công ăn lương | B6: 0.72312704 | C6: 222 | D6: 0.7283237 | E6: 126 | F6: 0.725 | G6: 348
A7: A2.Tự SX-KD | B7: 0.13029316 | C7: 40 | D7: 0.086705202 | E7: 15 | F7: 0.11458333 | G7: 55
A8: B1.Vừa học vừa làm | B8: 0.045602606 | C8: 14 | D8: 0.069364162 | E8: 12 | F8: 0.054166667 | G8: 26
A9: B2.Đang đi học | B9: 0.016286645 | C9: 5 | D9: 0.098265896 | E9: 17 | F9: 0.045833333 | G9: 22
A10: C.Không tìm được việc làm | B10: 0.081433225 | C10: 25 | D10: 0.01734104 | E10: 3 | F10: 0.058333333 | G10: 28
A11: D.Khác | B11: 0.003257329 | C11: 1 | D11: 0 | F11: 0.0020833333 | G11: 1
A12: Grand Total | B12: 1 | C12: 307 | D12: 1 | E12: 173 | F12: 1 | G12: 480

Sheet Nhập liệu
A1: STT | B1: Mã Học Viên | C1: Họ | D1: Tên đệm | E1: Tên | F1: ĐỐI TƯỢNG | G1: Ngành/ Nghề đào tạo | H1: Chuẩn hóa nghề đào tạo | I1: Cấp trình độ | J1: Giới tính | K1: Học bổng | L1: Năm sinh | M1: Độ tuổi | N1: Xếp loại tốt nghiệp | O1: Tình trạng việc làm | P1: Tình trạng khác, cụ thể | Q1: Tìm kiếm 1 | R1: Tìm kiếm 2 | S1: Lĩnh vực kinh doanh | T1: Ngành khác, nêu cụ thể | U1: Số giờ làm việc trong 1 tuần | V1: Thời gian bắt đầu công việc | W1: Cách thức tìm việc | X1: Nếu chọn Khác, xin ghi cụ thể | Y1: Đánh giá về Lý thuyết | Z1: Đánh giá về Kỹ năng nghề | AA1: Công việc liên quan đến nghề đào tạo | AB1: Thu nhập chính xác | AC1: Mức lương | AD1: Số người cùng làm việc trong công ty | AE1: Đào tạo kèm cặp trong khi làm | AF1: Thời gian đào tạo | AG1: Vị trí công tác | AH1: Vị trí khác, ghi cụ thể | AI1: Nhu cầu học tiếp | AJ1: Ngành nghề muốn học | AK1: Cấp trình độ muốn học tiếp | AL1: Lý do không làm việc | AM1: Công việc đã xin | AN1: Lý do 1 | AO1: Lý do thứ 2 | AP1: Lý do thứ 3 | AQ1: Lý do khác, cụ thể | AR1: Lý do tiếp tục đi học? | AS1: Lý do đi học khác | AT1: Tên cơ sở đào tạo | AU1: Ngành nghề đào tạo | AV1: Cấp trình độ của khoá học | AW1: Đánh giá trình độ giáo viên | AX1: Đánh giá giáo trình và nội dung | AY1: Đánh giá về mức độ đáp ứng | AZ1: Lĩnh vực cần được cải tiến nhất 1 | BA1: Lĩnh vực cần được cải tiến nhất 2 | BB1: Lĩnh vực cần được cải tiến nhất 3 | BC1: Lĩnh vực khác, cụ thể | BD1: Đánh giá về danh tiếng cơ sở đào tạo | BE1: Đánh giá mức độ hài lòng về chất lượng đào tạo
A2: 1 | B2: NĐ32SCA168 | C2: Đỗ | D2: Trần Anh | E2: Hiếu | G2: Công nghệ ô tô | H2: =VLOOKUP(G2,Sheet1!$A$22:$B$35,2) -> Công nghệ ô tô | I2: Cao đẳng nghề | J2: Nam | K2: =IF(AND(J2="Nữ",OR(N2="Khá",N2="Giỏi")),"học bổng") -> FALSE | L2: 1993 | M2: =2018-L2:L481 -> 25 | N2: Trung bình khá | O2: C.Không tìm được việc làm | Q2: =IF(AND(J2="Nữ", N2="Khá"),"tìm được","bỏ qua") -> bỏ qua | R2: =IF(AND(J2="Nữ",N2="Khá"),OR(AND(J2="Nữ",N2="Giỏi"),"Trao học bổng","bỏ qua")) -> FALSE | S2: Giao thông vận tải | T2: Giao thông vận tải | V2: Trên 3 tháng | W2: Quan hệ cá nhân | Y2: Tốt | Z2: Tốt | AA2: Có liên quan | AC2: 4-6 triệu | AD2: 10-200 người | AE2: Không | AG2: Khác (ghi rõ) | AH2: Chủ Gara | AW2: Hoàn toàn đồng ý | AX2: Đồng ý | AY2: Đồng ý | AZ2: Tài liệu,chương trình (sách, v.v.) | BA2: Trang thiết bị (máy móc, công cụ, v.v.) | BB2: Cơ sở vật chất (phòng học, thư việnv.v.) | BD2: Hoàn toàn đồng ý | BE2: Hoàn toàn đồng ý
A3: 2 | B3: NĐ32SCA190 | C3: Ngô | D3: Minh | E3: Triệu | G3: Công nghệ ô tô | H3: =VLOOKUP(G3,Sheet1!$A$22:$B$35,2) -> Công nghệ ô tô | I3: Cao đẳng nghề | J3: Nữ | K3: =IF(AND(J3="Nữ",OR(N3="Khá",N3="Giỏi")),"học bổng") -> học bổng | L3: 1993 | M3: =2018-L3:L482 -> 25 | N3: Giỏi | O3: A1.Làm công ăn lương | P3: Vừa học vừa làm | Q3: =IF(AND(J3="Nữ", N3="Khá"),"Tìm được","bỏ qua") -> bỏ qua | R3: =IF(AND(J3="Nữ", OR(N3="Khá","Giỏi")),"Trao học bổng","bỏ qua") -> #VALUE! | S3: Giao thông vận tải | U3: 48h | V3: 1-3 tháng | W3: Do trường giới thiệu | Y3: Tốt | Z3: Tốt | AA3: Có liên quan | AC3: 6-8 triệu | AD3: Trên 300 người | AE3: Có | AG3: Khác (ghi rõ) | AH3: Nhân viên chính thức | AI3: Có | AJ3: Công nghệ ô tô | AW3: Đồng ý | AX3: Đồng ý | AY3: Đồng ý | AZ3: Trang thiết bị (máy móc, công cụ, v.v.) | BA3: Thực tập/ thực hành tại doanh nghiệp | BD3: Đồng ý | BE3: Đồng ý
A4: 3 | B4: NĐ32SCA162 | C4: Nguyễn | D4: Trịnh Công | E4: Danh | G4: Công nghệ ô tô | H4: =VLOOKUP(G4,Sheet1!$A$22:$B$35,2) -> Công nghệ ô tô | I4: Cao đẳng nghề | J4: Nam | K4: =IF(AND(J4="Nữ",OR(N4="Khá",N4="Giỏi")),"học bổng") -> FALSE | L4: 1900 | M4: =2018-L4:L483 -> 118 | N4: Trung bình khá | O4: A1.Làm công ăn lương | Q4: =IF(AND(J4="Nữ", N4="Khá"),"tìm được","bỏ qua") -> bỏ qua | S4: Giao thông vận tải | T4: Giao thông vận tải | U4: 48h | V4: Trên 3 tháng | W4: Do trường giới thiệu | Y4: Tốt | Z4: Tốt | AB4: 3500000 | AC4: 4-6 triệu | AD4: 10-200 người | AE4: Có | AG4: Khác (ghi rõ) | AH4: Nhân viên trong thời gian thử việc | AI4: Có | AK4: Đại học | AW4: Hoàn toàn đồng ý | AX4: Hoàn toàn đồng ý | AY4: Hoàn toàn đồng ý | AZ4: Thực tập/ thực hành tại doanh nghiệp | BD4: Hoàn toàn đồng ý | BE4: Hoàn toàn đồng ý
A5: 4 | B5: NĐ32SCA186 | C5: Nguyễn | D5: Ngọc | E5: Thắng | G5: Công nghệ ô tô | H5: =VLOOKUP(G5,Sheet1!$A$22:$B$35,2) -> Công nghệ ô tô | I5: Cao đẳng nghề | J5: Nữ | K5: =IF(AND(J5="Nữ",OR(N5="Khá",N5="Giỏi")),"học bổng") -> học bổng | L5: 1994 | M5: =2018-L5:L484 -> 24 | N5: Khá | O5: A1.Làm công ăn lương | Q5: =IF(AND(J5="Nữ", N5="Khá"),"tìm được","bỏ qua") -> tìm được | S5: Thông tin liên lạc, Công nghệ thông tin | V5: Dưới 1 tháng | W5: Do cơ quan dịch vụ việclàm | Y5: Tốt | AA5: Liên quan | AC5: 6-8 triệu | AD5: Trên 300 người | AE5: Không | AI5: Không | BD5: Không đồng ý | BE5: Không đồng ý
A6: 5 | B6: NĐ32SCA183 | C6: Phan | D6: Văn | E6: Thành | G6: Công nghệ ô tô | H6: =VLOOKUP(G6,Sheet1!$A$22:$B$35,2) -> Công nghệ ô tô | I6: Cao đẳng nghề | J6: Nam | K6: =IF(AND(J6="Nữ",OR(N6="Khá",N6="Giỏi")),"học bổng") -> FALSE | L6: 1985 | M6: =2018-L6:L485 -> 33 | N6: Trung bình khá | O6: A1.Làm công ăn lương | Q6: =IF(AND(J6="Nữ", N6="Khá"),"tìm được","bỏ qua") -> bỏ qua | S6: Xây dựng | U6: 72h | V6: Dưới 1 tháng | W6: Quan hệ cá nhân | Y6: Trung bình | AA6: Liên quan | AC6: 4-6 triệu | AD6: 200-300 người | AG6: Khác (ghi rõ) | AH6: Nhân viên chính thức | AI6: Không | AW6: Đồng ý | AX6: Đồng ý | AY6: Đồng ý | BD6: Đồng ý | BE6: Đồng ý
A7: 6 | B7: NĐ32SCA166 | C7: Thân | D7: Văn | E7: Đức | G7: Công nghệ ô tô | H7: =VLOOKUP(G7,Sheet1!$A$22:$B$35,2) -> Công nghệ ô tô | I7: Cao đẳng nghề | J7: Nam | K7: =IF(AND(J7="Nữ",OR(N7="Khá",N7="Giỏi")),"học bổng") -> FALSE | L7: 1987 | M7: =2018-L7:L486 -> 31 | N7: Trung bình khá | O7: A1.Làm công ăn lương | Q7: =IF(AND(J7="Nữ", N7="Khá"),"tìm được","bỏ qua") -> bỏ qua | S7: Công nghiệp chế biến | T7: Cơ khí | U7: 48h | V7: 1-3 tháng | W7: Do cơ quan dịch vụ việclàm | Y7: Tốt | Z7: Tốt | AA7: Liên quan | AB7: 5000000 | AC7: 4-6 triệu | AD7: 200-300 người | AE7: Có | AG7: Khác (ghi rõ) | AH7: Nhân viên chính thức | AW7: Đồng ý | AX7: Đồng ý | AY7: Đồng ý | AZ7: Trang thiết bị (máy móc, công cụ, v.v.) | BA7: Cơ sở vật chất (phòng học, thư việnv.v.) | BB7: Thực tập/ thực hành tại doanh nghiệp | BD7: Đồng ý | BE7: Hoàn toàn đồng ý
A8: 7 | B8: NĐ32SCA170 | C8: Đỗ | D8: Mạnh | E8: Hùng | G8: Công nghệ ô tô | H8: =VLOOKUP(G8,Sheet1!$A$22:$B$35,2) -> Công nghệ ô tô | I8: Cao đẳng nghề | J8: Nam | K8: =IF(AND(J8="Nữ",OR(N8="Khá",N8="Giỏi")),"học bổng") -> FALSE | L8: 1994 | M8: =2018-L8:L487 -> 24 | N8: Trung bình khá | O8: A1.Làm công ăn lương | Q8: =IF(AND(J8="Nữ", N8="Khá"),"tìm được","bỏ qua") -> bỏ qua | S8: Giao thông vận tải | T8: Giao thông vận tải | U8: 48h | V8: Trên 3 tháng | W8: Do trường giới thiệu | Y8: Tốt | Z8: Trung bình | AA8: Có liên quan | AC8: 4-6 triệu | AD8: 10-200 người | AE8: Có | AF8: Trên 8 tuần | AG8: Khác (ghi rõ) | AH8: Nhân viên chính thức | AI8: Có | AJ8: Cắt gọt kim loại | AK8: Đại học | BD8: Hoàn toàn không đồng ý | BE8: Không đồng ý
A9: 8 | B9: NĐ32SCA181 | C9: Lương | D9: Khánh | E9: Quân | G9: Công nghệ ô tô | H9: =VLOOKUP(G9,Sheet1!$A$22:$B$35,2) -> Công nghệ ô tô | I9: Cao đẳng nghề | J9: Nam | K9: =IF(AND(J9="Nữ",OR(N9="Khá",N9="Giỏi")),"học bổng") -> FALSE | L9: 1981 | M9: =2018-L9:L488 -> 37 | N9: Khá | O9: A1.Làm công ăn lương | Q9: =IF(AND(J9="Nữ", N9="Khá"),"tìm được","bỏ qua") -> bỏ qua | S9: Giao thông vận tải | T9: Giao thông vận tải | V9: Trên 3 tháng | W9: Do cơ quan dịch vụ việclàm | Y9: Tốt | Z9: Tốt | AC9: 6-8 triệu | AD9: 10-200 người | AE9: Không | AG9: Khác (ghi rõ) | AH9: Nhân viên chính thức | AW9: Đồng ý | AX9: Đồng ý | AY9: Đồng ý | AZ9: Tài liệu,chương trình (sách, v.v.) | BA9: Trang thiết bị (máy móc, công cụ, v.v.) | BB9: Thực tập/ thực hành tại doanh nghiệp | BD9: Đồng ý | BE9: Đồng ý
A10: 9 | B10: NĐ32SCA191 | C10: Huỳnh | D10: Luân | E10: Trúc | G10: Công nghệ ô tô | H10: =VLOOKUP(G10,Sheet1!$A$22:$B$35,2) -> Công nghệ ô tô | I10: Cao đẳng nghề | J10: Nam | K10: =IF(AND(J10="Nữ",OR(N10="Khá",N10="Giỏi")),"học bổng") -> FALSE | L10: 1993 | M10: =2018-L10:L489 -> 25 | N10: Trung bình khá | O10: A1.Làm công ăn lương | Q10: =IF(AND(J10="Nữ", N10="Khá"),"tìm được","bỏ qua") -> bỏ qua | S10: Nông - lâm - ngư nghiệp | U10: 56h | V10: 1-3 tháng | W10: Do trường giới thiệu | Y10: Tốt | Z10: Tốt | AA10: Liên quan | AB10: 4650000 | AC10: 4-6 triệu | AD10: Trên 300 người | AY10: Hoàn toàn đồng ý | AZ10: Tài liệu,chương trình (sách, v.v.) | BA10: Cơ sở vật chất (phòng học, thư việnv.v.) | BB10: Thực tập/ thực hành tại doanh nghiệp | BD10: Đồng ý | BE10: Đồng ý
A11: 10 | B11: NĐ32SCA193 | C11: Trịnh | D11: Xuân | E11: Tùng | G11: Công nghệ ô tô | H11: =VLOOKUP(G11,Sheet1!$A$22:$B$35,2) -> Công nghệ ô tô | I11: Cao đẳng nghề | J11: Nam | K11: =IF(AND(J11="Nữ",OR(N11="Khá",N11="Giỏi")),"học bổng") -> FALSE | L11: 1994 | M11: =2018-L11:L490 -> 24 | N11: Khá | O11: B1.Vừa học vừa làm | Q11: =IF(AND(J11="Nữ", N11="Khá"),"tìm được","bỏ qua") -> bỏ qua | S11: Nông - lâm - ngư nghiệp | V11: Trước khi TN | W11: Qua quảng cáo trên Internet | Y11: Tốt | Z11: Rất tốt | AA11: Không liên quan | AC11: > Trên 8 triệu | AD11: 2-10người | AE11: Có | AF11: 6-8 tuần | AG11: Khác (ghi rõ) | AH11: Nhân viên chính thức | AI11: Có | AK11: Đại học | BD11: Hoàn toàn không đồng ý | BE11: Không đồng ý
A12: 11 | B12: NĐ32SCA188 | C12: Tạ | D12: Văn | E12: Tiến | G12: Công nghệ ô tô | H12: =VLOOKUP(G12,Sheet1!$A$22:$B$35,2) -> Công nghệ ô tô | I12: Cao đẳng nghề | J12: Nam | K12: =IF(AND(J12="Nữ",OR(N12="Khá",N12="Giỏi")),"học bổng") -> FALSE | L12: 1990 | M12: =2018-L12:L491 -> 28 | N12: Trung bình khá | O12: A2.Tự SX-KD | Q12: =IF(AND(J12="Nữ", N12="Khá"),"tìm được","bỏ qua") -> bỏ qua | S12: Nông - lâm - ngư nghiệp | W12: #N/A | Y12: Tốt | AA12: Không liên quan | AC12: 4-6 triệu | AD12: 1 người | AW12: Đồng ý | AX12: Đồng ý | AY12: Đồng ý | AZ12: Trang thiết bị (máy móc, công cụ, v.v.) | BA12: Cơ sở vật chất (phòng học, thư việnv.v.) | BB12: Thực tập/ thực hành tại doanh nghiệp | BD12: Đồng ý | BE12: Đồng ý
A13: 12 | B13: NĐ32SCA164 | C13: Lý | D13: Hoàng | E13: Đại | G13: Công nghệ ô tô | H13: =VLOOKUP(G13,Sheet1!$A$22:$B$35,2) -> Công nghệ ô tô | I13: Cao đẳng nghề | J13: Nam | K13: =IF(AND(J13="Nữ",OR(N13="Khá",N13="Giỏi")),"học bổng") -> FALSE | L13: 1994 | M13: =2018-L13:L492 -> 24 | N13: Trung bình khá | O13: B1.Vừa học vừa làm | Q13: =IF(AND(J13="Nữ", N13="Khá"),"tìm được","bỏ qua") -> bỏ qua | S13: Thương mại & Dịch vụ (Bán buôn, bán lẻ) | U13: 48h | V13: Trước khi TN | W13: Quan hệ cá nhân | Y13: Rất tốt | Z13: Rất tốt | AA13: Không liên quan | AC13: 6-8 triệu | AD13: Trên 300 người | AE13: Có | AF13: Dưới 2 tuần | AG13: Cán bộ quản lý (chuyên trách) | AK13: Đại học | AL13: Vì không tìm được việc làm đúng với ngành nghề được đào tạo | AN13: Kỹ năng nghề không đáp ứng được yêu cầu công việc | AO13: Ngoại ngữ không đạt | AP13: Trình độ máy tính không đạt | AR13: Học nâng cao trình độ | AV13: Đại học | AW13: Hoàn toàn đồng ý | AX13: Đồng ý | AY13: Đồng ý | AZ13: Trang thiết bị (máy móc, công cụ, v.v.) | BD13: Đồng ý | BE13: Đồng ý
A14: 13 | B14: NĐ32SCA172 | C14: Nguyễn | D14: Đức | E14: Hùng | G14: Công nghệ ô tô | H14: =VLOOKUP(G14,Sheet1!$A$22:$B$35,2) -> Công nghệ ô tô | I14: Cao đẳng nghề | J14: Nam | K14: =IF(AND(J14="Nữ",OR(N14="Khá",N14="Giỏi")),"học bổng") -> FALSE | L14: 1994 | M14: =2018-L14:L493 -> 24 | N14: Trung bình khá | O14: A2.Tự SX-KD | Q14: =IF(AND(J14="Nữ", N14="Khá"),"tìm được","bỏ qua") -> bỏ qua | S14: Nhà hàng, khách sạn và Du lịch | T14: Mở quán nhậu | V14: Dưới 1 tháng | W14: Quan hệ cá nhân | Y14: Trung bình | AA14: Không liên quan | BD14: Hoàn toàn không đồng ý | BE14: Không đồng ý
A15: 14 | B15: N32SC3A166 | C15: Nguyễn | D15: Hoàng | E15: Vũ | G15: Công nghệ ô tô | H15: =VLOOKUP(G15,Sheet1!$A$22:$B$35,2) -> Công nghệ ô tô | I15: Trung cấp nghề | J15: Nam | K15: =IF(AND(J15="Nữ",OR(N15="Khá",N15="Giỏi")),"học bổng") -> FALSE | L15: 1990 | M15: =2018-L15:L494 -> 28 | N15: Khá | O15: A1.Làm công ăn lương | Q15: =IF(AND(J15="Nữ", N15="Khá"),"tìm được","bỏ qua") -> bỏ qua | S15: Thương mại & Dịch vụ (Bán buôn, bán lẻ) | T15: Sửa chữa ô tô | U15: 48h | V15: Dưới 1 tháng | W15: Quan hệ cá nhân | Y15: Tốt | Z15: Rất tốt | AA15: Có liên quan | AC15: 2-4 triệu | AD15: 10-200 người | AE15: Có | AF15: 4-6 tuần | AG15: Khác (ghi rõ) | AH15: Nhân viên chính thức | AI15: Có | AJ15: Công nghệ ô tô | AK15: Cao đẳng | AW15: Hoàn toàn đồng ý | AX15: Đồng ý | AY15: Hoàn toàn đồng ý | AZ15: Trang thiết bị (máy móc, công cụ, v.v.) | BA15: Cơ sở vật chất (phòng học, thư việnv.v.) | BD15: Đồng ý | BE15: Đồng ý
A16: 15 | B16: N32SC3A153 | C16: Trần | D16: Đình | E16: Thảo | G16: Công nghệ ô tô | H16: =VLOOKUP(G16,Sheet1!$A$22:$B$35,2) -> Công nghệ ô tô | I16: Trung cấp nghề | J16: Nam | K16: =IF(AND(J16="Nữ",OR(N16="Khá",N16="Giỏi")),"học bổng") -> FALSE | L16: 1996 | M16: =2018-L16:L495 -> 22 | O16: B1.Vừa học vừa làm | Q16: =IF(AND(J16="Nữ", N16="Khá"),"tìm được","bỏ qua") -> bỏ qua | S16: Thương mại & Dịch vụ (Bán buôn, bán lẻ) | T16: Giao thông vận tải | U16: 48h | V16: Trước khi TN | W16: Quan hệ cá nhân | Y16: Rất tốt | Z16: Rất tốt | AA16: Có liên quan | AD16: 2-10người | AE16: Có | AF16: Dưới 2 tuần | AG16: Khác (ghi rõ) | AH16: Nhân viên trong thời gian thử việc | AI16: Có | AK16: Cao đẳng | AR16: Học nâng cao trình độ | AT16: Trường CĐN Cơ Giới và Thủy Lợi | AU16: Ô tô | AV16: Cao đẳng | AW16: Hoàn toàn không đồng ý | AX16: Hoàn toàn đồng ý | AY16: Đồng ý | AZ16: Tài liệu,chương trình (sách, v.v.) | BA16: Trang thiết bị (máy móc, công cụ, v.v.) | BD16: Hoàn toàn đồng ý | BE16: Hoàn toàn đồng ý
A17: 16 | B17: N32SC3A286 | C17: Huỳnh | D17: Quốc | E17: Tuấn | G17: Công nghệ ô tô | H17: =VLOOKUP(G17,Sheet1!$A$22:$B$35,2) -> Công nghệ ô tô | I17: Trung cấp nghề | J17: Nam | K17: =IF(AND(J17="Nữ",OR(N17="Khá",N17="Giỏi")),"học bổng") -> FALSE | L17: 1994 | M17: =2018-L17:L496 -> 24 | N17: Trung bình | O17: B1.Vừa học vừa làm | Q17: =IF(AND(J17="Nữ", N17="Khá"),"tìm được","bỏ qua") -> bỏ qua | S17: Thương mại & Dịch vụ (Bán buôn, bán lẻ) | U17: 48h | V17: Dưới 1 tháng | W17: Do trường giới thiệu | Y17: Rất tốt | Z17: Rất tốt | AA17: Có liên quan | AB17: 3000000 | AC17: 2-4 triệu | AD17: 2-10người | AE17: Có | AF17: Dưới 2 tuần | AG17: Khác (ghi rõ) | AH17: Nhân viên chính thức | AI17: Có | AJ17: Công nghệ ô tô | AK17: Cao đẳng | AR17: Học nâng cao trình độ | AT17: Trường CĐN Cơ Giới và Thủy Lợi | AU17: Ô tô | AV17: Cao đẳng | AW17: Đồng ý | AX17: Đồng ý | AY17: Đồng ý | AZ17: Tài liệu,chương trình (sách, v.v.) | BA17: Trang thiết bị (máy móc, công cụ, v.v.) | BB17: Thực tập/ thực hành tại doanh nghiệp | BD17: Hoàn toàn đồng ý | BE17: Đồng ý
A18: 17 | B18: N32SC3A135 | C18: Nông | D18: Trung | E18: Kiên | G18: Công nghệ ô tô | H18: =VLOOKUP(G18,Sheet1!$A$22:$B$35,2) -> Công nghệ ô tô | I18: Trung cấp nghề | J18: Nam | K18: =IF(AND(J18="Nữ",OR(N18="Khá",N18="Giỏi")),"học bổng") -> FALSE | L18: 1996 | M18: =2018-L18:L497 -> 22 | N18: Trung bình khá | O18: B2.Đang đi học | P18: Đi học trọn giờ | Q18: =IF(AND(J18="Nữ", N18="Khá"),"tìm được","bỏ qua") -> bỏ qua | W18: #N/A | AR18: Học nâng cao trình độ | AT18: Trường CĐN Cơ Giới và Thủy Lợi | AU18: Ô tô | AV18: Cao đẳng | AW18: Hoàn toàn đồng ý | AX18: Đồng ý | AY18: Đồng ý | AZ18: Tài liệu,chương trình (sách, v.v.) | BA18: Trang thiết bị (máy móc, công cụ, v.v.) | BB18: Thực tập/ thực hành tại doanh nghiệp | BD18: Đồng ý | BE18: Đồng ý
A19: 18 | B19: N32SC3A129 | C19: Nguyễn | D19: Trúc | E19: Huy | G19: Công nghệ ô tô | H19: =VLOOKUP(G19,Sheet1!$A$22:$B$35,2) -> Công nghệ ô tô | I19: Trung cấp nghề | J19: Nam | K19: =IF(AND(J19="Nữ",OR(N19="Khá",N19="Giỏi")),"học bổng") -> FALSE | L19: 1996 | M19: =2018-L19:L498 -> 22 | N19: Khá | O19: B1.Vừa học vừa làm | Q19: =IF(AND(J19="Nữ", N19="Khá"),"tìm được","bỏ qua") -> bỏ qua | S19: Thương mại & Dịch vụ (Bán buôn, bán lẻ) | U19: 48h | V19: Dưới 1 tháng | W19: Quan hệ cá nhân | Y19: Tốt | Z19: Tốt | AA19: Liên quan | AC19: 4-6 triệu | AD19: 10-200 người | AI19: Có | AK19: Cao đẳng | AR19: Học nâng cao trình độ | AT19: Trường CĐN Cơ Giới và Thủy Lợi | AU19: Ô tô | AV19: Cao đẳng | AW19: Hoàn toàn đồng ý | AX19: Đồng ý | AY19: Đồng ý | AZ19: Tài liệu,chương trình (sách, v.v.) | BA19: Trang thiết bị (máy móc, công cụ, v.v.) | BB19: Thực tập/ thực hành tại doanh nghiệp | BD19: Đồng ý | BE19: Đồng ý
A20: 19 | B20: N32SC3PC337 | C20: Nguyễn | E20: Thuận | G20: Công nghệ ô tô | H20: =VLOOKUP(G20,Sheet1!$A$22:$B$35,2) -> Công nghệ ô tô | I20: Trung cấp nghề | J20: Nam | K20: =IF(AND(J20="Nữ",OR(N20="Khá",N20="Giỏi")),"học bổng") -> FALSE | L20: 1997 | M20: =2018-L20:L499 -> 21 | N20: Trung bình khá | O20: B1.Vừa học vừa làm | Q20: =IF(AND(J20="Nữ", N20="Khá"),"tìm được","bỏ qua") -> bỏ qua | S20: Thương mại & Dịch vụ (Bán buôn, bán lẻ) | U20: 48h | V20: Dưới 1 tháng | W20: Quan hệ cá nhân | Y20: Rất tốt | Z20: Rất tốt | AA20: Liên quan | AC20: 2-4 triệu | AD20: 10-200 người | AE20: Có | AF20: Dưới 2 tuần | AG20: Khác (ghi rõ) | AH20: Nhân viên chính thức | AI20: Có | AK20: Cao đẳng | AR20: Học nâng cao trình độ | AT20: Trường CĐN Cơ Giới và Thủy Lợi | AU20: Ô tô | AV20: Cao đẳng | AW20: Hoàn toàn đồng ý | AX20: Đồng ý | AY20: Đồng ý | AZ20: Tài liệu,chương trình (sách, v.v.) | BA20: Trang thiết bị (máy móc, công cụ, v.v.) | BB20: Thực tập/ thực hành tại doanh nghiệp | BD20: Hoàn toàn đồng ý | BE20: Hoàn toàn đồng ý
A21: 20 | B21: N32SC3PC323 | C21: Bùi | D21: Duy | E21: Khải | G21: Công nghệ ô tô | H21: =VLOOKUP(G21,Sheet1!$A$22:$B$35,2) -> Công nghệ ô tô | I21: Trung cấp nghề | J21: Nam | K21: =IF(AND(J21="Nữ",OR(N21="Khá",N21="Giỏi")),"học bổng") -> FALSE | L21: 1997 | M21: =2018-L21:L500 -> 21 | O21: B1.Vừa học vừa làm | Q21: =IF(AND(J21="Nữ", N21="Khá"),"tìm được","bỏ qua") -> bỏ qua | S21: Thương mại & Dịch vụ (Bán buôn, bán lẻ) | U21: 48h | V21: 1-3 tháng | W21: Quan hệ cá nhân | Y21: Rất tốt | Z21: Rất tốt | AA21: Liên quan | AB21: 3000000 | AC21: 2-4 triệu | AD21: 10-200 người | AE21: Không | AI21: Có | AJ21: Công nghệ ô tô | AK21: Cao đẳng | AR21: Học nâng cao trình độ | AT21: Trường CĐN Cơ Giới và Thủy Lợi | AU21: Ô tô | AV21: Cao đẳng | AW21: Hoàn toàn đồng ý | AX21: Hoàn toàn đồng ý | AY21: Đồng ý | AZ21: Tài liệu,chương trình (sách, v.v.) | BA21: Trang thiết bị (máy móc, công cụ, v.v.) | BB21: Thực tập/ thực hành tại doanh nghiệp | BD21: Hoàn toàn đồng ý | BE21: Đồng ý
A22: 21 | B22: N32SC3PC327 | C22: Nguyễn | D22: Vũ | E22: Luân | G22: Công nghệ ô tô | H22: =VLOOKUP(G22,Sheet1!$A$22:$B$35,2) -> Công nghệ ô tô | I22: Trung cấp nghề | J22: Nam | K22: =IF(AND(J22="Nữ",OR(N22="Khá",N22="Giỏi")),"học bổng") -> FALSE | L22: 1997 | M22: =2018-L22:L501 -> 21 | N22: Trung bình khá | O22: B1.Vừa học vừa làm | Q22: =IF(AND(J22="Nữ", N22="Khá"),"tìm được","bỏ qua") -> bỏ qua | S22: Thương mại & Dịch vụ (Bán buôn, bán lẻ) | U22: 48h | V22: Trên 3 tháng | W22: Quan hệ cá nhân | AA22: Liên quan | AC22: 2-4 triệu | AD22: 10-200 người | AE22: Có | AF22: Dưới 2 tuần | AG22: Khác (ghi rõ) | AH22: Nhân viên chính thức | AI22: Có | AK22: Cao đẳng | AR22: Học nâng cao trình độ | AT22: Trường CĐN Cơ Giới và Thủy Lợi | AU22: Ô tô | AV22: Cao đẳng | AW22: Hoàn toàn đồng ý | AX22: Đồng ý | AY22: Đồng ý | AZ22: Tài liệu,chương trình (sách, v.v.) | BA22: Trang thiết bị (máy móc, công cụ, v.v.) | BB22: Thực tập/ thực hành tại doanh nghiệp | BD22: Hoàn toàn đồng ý | BE22: Hoàn toàn đồng ý
A23: 22 | B23: N32SC3PC319 | C23: Đặng | D23: Quốc | E23: Hiền | G23: Công nghệ ô tô | H23: =VLOOKUP(G23,Sheet1!$A$22:$B$35,2) -> Công nghệ ô tô | I23: Trung cấp nghề | J23: Nam | K23: =IF(AND(J23="Nữ",OR(N23="Khá",N23="Giỏi")),"học bổng") -> FALSE | L23: 1997 | M23: =2018-L23:L502 -> 21 | N23: Trung bình khá | O23: B1.Vừa học vừa làm | Q23: =IF(AND(J23="Nữ", N23="Khá"),"tìm được","bỏ qua") -> bỏ qua | S23: Thương mại & Dịch vụ (Bán buôn, bán lẻ) | U23: 48h | V23: 1-3 tháng | W23: Quan hệ cá nhân | Y23: Rất tốt | Z23: Rất tốt | AA23: Liên quan | AC23: 2-4 triệu | AD23: 10-200 người | AE23: Có | AF23: Dưới 2 tuần | AG23: Khác (ghi rõ) | AH23: Nhân viên thử việc | AI23: Có | AJ23: Công nghệ ô tô | AK23: Cao đẳng | AR23: Học nâng cao trình độ | AT23: Trường CĐN Cơ Giới và Thủy Lợi | AU23: Ô tô | AV23: Cao đẳng | AW23: Hoàn toàn đồng ý | AX23: Đồng ý | AY23: Đồng ý | AZ23: Tài liệu,chương trình (sách, v.v.) | BA23: Trang thiết bị (máy móc, công cụ, v.v.) | BB23: Thực tập/ thực hành tại doanh nghiệp | BD23: Hoàn toàn đồng ý | BE23: Hoàn toàn đồng ý
A24: 23 | B24: N32SC3ĐQ297 | C24: Nguyễn | E24: Hồ | G24: Công nghệ ô tô | H24: =VLOOKUP(G24,Sheet1!$A$22:$B$35,2) -> Công nghệ ô tô | I24: Trung cấp nghề | J24: Nam | K24: =IF(AND(J24="Nữ",OR(N24="Khá",N24="Giỏi")),"học bổng") -> FALSE | L24: 1995 | M24: =2018-L24:L503 -> 23 | N24: Trung bình khá | O24: B1.Vừa học vừa làm | Q24: =IF(AND(J24="Nữ", N24="Khá"),"tìm được","bỏ qua") -> bỏ qua | S24: Thương mại & Dịch vụ (Bán buôn, bán lẻ) | U24: 48h | V24: Dưới 1 tháng | W24: Quan hệ cá nhân | Y24: Rất tốt | Z24: Rất tốt | AA24: Có liên quan | AC24: 4-6 triệu | AD24: 2-10người | AE24: Không | AG24: Khác (ghi rõ) | AH24: Nhân viên thử việc | AI24: Có | AK24: Cao đẳng | AR24: Học nâng cao trình độ | AT24: Trường CĐN Cơ Giới và Thủy Lợi | AU24: Ô tô | AV24: Cao đẳng | AW24: Hoàn toàn đồng ý | AX24: Đồng ý | AY24: Đồng ý | AZ24: Tài liệu,chương trình (sách, v.v.) | BA24: Trang thiết bị (máy móc, công cụ, v.v.) | BB24: Thực tập/ thực hành tại doanh nghiệp | BD24: Hoàn toàn đồng ý | BE24: Hoàn toàn đồng ý
A25: 24 | B25: N32SC3A167 | C25: Cháu | D25: Vĩnh | E25: Xinh | G25: Công nghệ ô tô | H25: =VLOOKUP(G25,Sheet1!$A$22:$B$35,2) -> Công nghệ ô tô | I25: Trung cấp nghề | J25: Nam | K25: =IF(AND(J25="Nữ",OR(N25="Khá",N25="Giỏi")),"học bổng") -> FALSE | L25: 1997 | M25: =2018-L25:L504 -> 21 | N25: Khá | O25: B2.Đang đi học | P25: Đi học trọn giờ | Q25: =IF(AND(J25="Nữ", N25="Khá"),"tìm được","bỏ qua") -> bỏ qua | W25: #N/A | AR25: Học nâng cao trình độ | AT25: Trường CĐN Cơ Giới và Thủy Lợi | AU25: Ô tô | AV25: Cao đẳng | AW25: Hoàn toàn đồng ý | AX25: Đồng ý | AY25: Đồng ý | AZ25: Tài liệu,chương trình (sách, v.v.) | BA25: Trang thiết bị (máy móc, công cụ, v.v.) | BB25: Thực tập/ thực hành tại doanh nghiệp | BD25: Hoàn toàn đồng ý | BE25: Đồng ý
A26: 25 | B26: N32SC3A130 | C26: Đặng | D26: Quốc | E26: Hùng | G26: Công nghệ ô tô | H26: =VLOOKUP(G26,Sheet1!$A$22:$B$35,2) -> Công nghệ ô tô | I26: Trung cấp nghề | J26: Nam | K26: =IF(AND(J26="Nữ",OR(N26="Khá",N26="Giỏi")),"học bổng") -> FALSE | L26: 1993 | M26: =2018-L26:L505 -> 25 | N26: Trung bình | O26: B1.Vừa học vừa làm | Q26: =IF(AND(J26="Nữ", N26="Khá"),"tìm được","bỏ qua") -> bỏ qua | S26: Sản xuất, phân phối điện, ga, nước | U26: 48h | V26: Trên 3 tháng | W26: Quan hệ cá nhân | Y26: Trung bình | Z26: Trung bình | AA26: Không liên quan | AB26: 3000000 | AC26: 2-4 triệu | AD26: 10-200 người | AG26: Khác (ghi rõ) | AH26: Nhân viên chính thức | AI26: Có | AJ26: Công nghệ ô tô | AK26: Cao đẳng | AR26: Học nâng cao trình độ | AT26: Trường CĐN Cơ Giới và Thủy Lợi | AU26: Ô tô | AV26: Cao đẳng | AW26: Đồng ý | AX26: Đồng ý | AY26: Đồng ý | AZ26: Tài liệu,chương trình (sách, v.v.) | BA26: Trang thiết bị (máy móc, công cụ, v.v.) | BB26: Thực tập/ thực hành tại doanh nghiệp | BD26: Hoàn toàn đồng ý | BE26: Đồng ý
A27: 26 | B27: N32SC3PC316 | C27: Lê | D27: Phước | E27: Đông | G27: Công nghệ ô tô | H27: =VLOOKUP(G27,Sheet1!$A$22:$B$35,2) -> Công nghệ ô tô | I27: Trung cấp nghề | J27: Nam | K27: =IF(AND(J27="Nữ",OR(N27="Khá",N27="Giỏi")),"học bổng") -> FALSE | L27: 1997 | M27: =2018-L27:L506 -> 21 | N27: Trung bình khá | O27: B1.Vừa học vừa làm | Q27: =IF(AND(J27="Nữ", N27="Khá"),"tìm được","bỏ qua") -> bỏ qua | S27: Thương mại & Dịch vụ (Bán buôn, bán lẻ) | U27: 48h | V27: Trên 3 tháng | W27: Do cơ quan dịch vụ việclàm | Y27: Rất tốt | Z27: Rất tốt | AA27: Liên quan | AB27: 3000000 | AD27: 10-200 người | AE27: Không | AI27: Có | AK27: Cao đẳng | AR27: Học nâng cao trình độ | AT27: Trường CĐN Cơ Giới và Thủy Lợi | AU27: Ô tô | AV27: Cao đẳng | AW27: Hoàn toàn đồng ý | AX27: Đồng ý | AY27: Đồng ý | AZ27: Tài liệu,chương trình (sách, v.v.) | BA27: Trang thiết bị (máy móc, công cụ, v.v.) | BB27: Thực tập/ thực hành tại doanh nghiệp | BD27: Hoàn toàn đồng ý | BE27: Đồng ý
A28: 27 | B28: N32SC3A119 | C28: Đỗ | D28: Sơn | E28: Giang | G28: Công nghệ ô tô | H28: =VLOOKUP(G28,Sheet1!$A$22:$B$35,2) -> Công nghệ ô tô | I28: Trung cấp nghề | J28: Nam | K28: =IF(AND(J28="Nữ",OR(N28="Khá",N28="Giỏi")),"học bổng") -> FALSE | L28: 1996 | M28: =2018-L28:L507 -> 22 | N28: Khá | O28: A1.Làm công ăn lương | Q28: =IF(AND(J28="Nữ", N28="Khá"),"tìm được","bỏ qua") -> bỏ qua | S28: Công nghiệp khai thác | U28: 48h | V28: 1-3 tháng | W28: Do trường giới thiệu | Y28: Tốt | Z28: Rất tốt | AA28: Liên quan | AC28: 4-6 triệu | AD28: Trên 300 người | AE28: Có | AF28: 2-4 tuần | AG28: Khác (ghi rõ) | AH28: Nhân viên chính thức | AI28: Không | AW28: Hoàn toàn đồng ý | AX28: Hoàn toàn đồng ý | AY28: Hoàn toàn đồng ý | AZ28: Trang thiết bị (máy móc, công cụ, v.v.) | BD28: Đồng ý | BE28: Đồng ý
A29: 28 | B29: N32SC3A154 | C29: Lê | D29: Văn | E29: Thăng | G29: Công nghệ ô tô | H29: =VLOOKUP(G29,Sheet1!$A$22:$B$35,2) -> Công nghệ ô tô | I29: Trung cấp nghề | J29: Nam | K29: =IF(AND(J29="Nữ",OR(N29="Khá",N29="Giỏi")),"học bổng") -> FALSE | L29: 1997 | M29: =2018-L29:L508 -> 21 | N29: Trung bình khá | O29: B2.Đang đi học | P29: Đi học trọn giờ | Q29: =IF(AND(J29="Nữ", N29="Khá"),"tìm được","bỏ qua") -> bỏ qua | W29: #N/A | AR29: Học nâng cao trình độ | AT29: Trường CĐN Cơ Giới và Thủy Lợi | AU29: Ô tô | AV29: Cao đẳng | AW29: Đồng ý | AX29: Đồng ý | AY29: Đồng ý | AZ29: Tài liệu,chương trình (sách, v.v.) | BA29: Trang thiết bị (máy móc, công cụ, v.v.) | BB29: Thực tập/ thực hành tại doanh nghiệp | BD29: Hoàn toàn đồng ý | BE29: Hoàn toàn đồng ý
A30: 29 | B30: N32SC3PC320 | C30: Trần | D30: Văn | E30: Hiền | G30: Công nghệ ô tô | H30: =VLOOKUP(G30,Sheet1!$A$22:$B$35,2) -> Công nghệ ô tô | I30: Trung cấp nghề | J30: Nam | K30: =IF(AND(J30="Nữ",OR(N30="Khá",N30="Giỏi")),"học bổng") -> FALSE | L30: 1997 | M30: =2018-L30:L509 -> 21 | N30: Trung bình | O30: A1.Làm công ăn lương | Q30: =IF(AND(J30="Nữ", N30="Khá"),"tìm được","bỏ qua") -> bỏ qua | S30: Thương mại & Dịch vụ (Bán buôn, bán lẻ) | V30: 1-3 tháng | W30: Do trường giới thiệu | Y30: Tốt | Z30: Tốt | AA30: Có liên quan | AC30: 2-4 triệu | AD30: 10-200 người | AE30: Không | AI30: Có | AJ30: Công nghệ ô tô | AK30: Cao đẳng | AR30: Học nâng cao trình độ | AT30: Trường CĐN Cơ Giới và Thủy Lợi | AU30: Ô tô | AV30: Cao đẳng | AW30: Hoàn toàn đồng ý | AX30: Hoàn toàn đồng ý | AY30: Hoàn toàn đồng ý | AZ30: Thực tập/ thực hành tại doanh nghiệp | BD30: Hoàn toàn đồng ý | BE30: Hoàn toàn đồng ý
A31: 30 | B31: N32SC3A127 | C31: Phan | D31: Tô | E31: Hoài | G31: Công nghệ ô tô | H31: =VLOOKUP(G31,Sheet1!$A$22:$B$35,2) -> Công nghệ ô tô | I31: Trung cấp nghề | J31: Nam | K31: =IF(AND(J31="Nữ",OR(N31="Khá",N31="Giỏi")),"học bổng") -> FALSE | L31: 1997 | M31: =2018-L31:L510 -> 21 | N31: Trung bình khá | O31: B1.Vừa học vừa làm | Q31: =IF(AND(J31="Nữ", N31="Khá"),"tìm được","bỏ qua") -> bỏ qua | U31: 42h | V31: Dưới 1 tháng | W31: #N/A | Y31: Rất tốt | Z31: Tốt | AA31: Không liên quan | AB31: 7000000 | AC31: 6-8 triệu | AD31: 10-200 người | AE31: Không | AI31: Có | AK31: Cao đẳng | AR31: Học nâng cao trình độ | AT31: Trường CĐN Cơ Giới và Thủy Lợi | AU31: Ô tô | AV31: Cao đẳng | AW31: Hoàn toàn đồng ý | AX31: Đồng ý | AY31: Đồng ý | AZ31: Tài liệu,chương trình (sách, v.v.) | BA31: Trang thiết bị (máy móc, công cụ, v.v.) | BB31: Thực tập/ thực hành tại doanh nghiệp | BD31: Hoàn toàn đồng ý | BE31: Hoàn toàn đồng ý
A32: 31 | B32: N32SC3A146 | C32: Phạm | D32: Hồng | E32: Quân | G32: Công nghệ ô tô | H32: =VLOOKUP(G32,Sheet1!$A$22:$B$35,2) -> Công nghệ ô tô | I32: Trung cấp nghề | J32: Nam | K32: =IF(AND(J32="Nữ",OR(N32="Khá",N32="Giỏi")),"học bổng") -> FALSE | L32: 1997 | M32: =2018-L32:L511 -> 21 | N32: Trung bình khá | O32: A1.Làm công ăn lương | Q32: =IF(AND(J32="Nữ", N32="Khá"),"tìm được","bỏ qua") -> bỏ qua | V32: Trên 3 tháng | W32: Quan hệ cá nhân | Y32: Tốt | Z32: Rất tốt | AA32: Liên quan | AB32: 5500000 | AC32: 4-6 triệu | AD32: 10-200 người | AE32: Không | AG32: Khác (ghi rõ) | AH32: Nhân viên chính thức | AI32: Có | AJ32: Công nghệ ô tô | AK32: Cao đẳng | AW32: Đồng ý | AX32: Đồng ý | AY32: Đồng ý | AZ32: Cơ sở vật chất (phòng học, thư việnv.v.) | BA32: Thực tập/ thực hành tại doanh nghiệp | BD32: Đồng ý | BE32: Đồng ý
A33: 32 | B33: N32SC3ĐQ296 | C33: Nguyễn | D33: Quốc | E33: Hòa | G33: Công nghệ ô tô | H33: =VLOOKUP(G33,Sheet1!$A$22:$B$35,2) -> Công nghệ ô tô | I33: Trung cấp nghề | J33: Nam | K33: =IF(AND(J33="Nữ",OR(N33="Khá",N33="Giỏi")),"học bổng") -> FALSE | L33: 1997 | M33: =2018-L33:L512 -> 21 | N33: Trung bình | O33: A1.Làm công ăn lương | Q33: =IF(AND(J33="Nữ", N33="Khá"),"tìm được","bỏ qua") -> bỏ qua | S33: Thương mại & Dịch vụ (Bán buôn, bán lẻ) | U33: 48h | V33: 1-3 tháng | W33: Quan hệ cá nhân | Y33: Tốt | Z33: Tốt | AA33: Có liên quan | AC33: 2-4 triệu | AD33: 10-200 người | AE33: Có | AF33: 6-8 tuần | AG33: Khác (ghi rõ) | AH33: Nhân viên chính thức | AI33: Có | AJ33: Công nghệ ô tô | AK33: Cao đẳng | AR33: Học nâng cao trình độ | AT33: Trường CĐN Cơ Giới và Thủy Lợi | AU33: Công nghệ ô tô | AV33: Cao đẳng | AW33: Hoàn toàn đồng ý | AX33: Hoàn toàn đồng ý | AY33: Hoàn toàn đồng ý | AZ33: Trang thiết bị (máy móc, công cụ, v.v.) | BA33: Thực tập/ thực hành tại doanh nghiệp | BD33: Hoàn toàn đồng ý | BE33: Hoàn toàn đồng ý
A34: 33 | B34: N32SC3A145 | C34: Lê | D34: Minh | E34: Phương | G34: Công nghệ ô tô | H34: =VLOOKUP(G34,Sheet1!$A$22:$B$35,2) -> Công nghệ ô tô | I34: Trung cấp nghề | J34: Nam | K34: =IF(AND(J34="Nữ",OR(N34="Khá",N34="Giỏi")),"học bổng") -> FALSE | L34: 1996 | M34: =2018-L34:L513 -> 22 | N34: Trung bình | O34: A1.Làm công ăn lương | Q34: =IF(AND(J34="Nữ", N34="Khá"),"tìm được","bỏ qua") -> bỏ qua | U34: 48h | V34: Trên 3 tháng | W34: Do trường giới thiệu | Y34: Tốt | Z34: Tốt | AA34: Liên quan | AC34: 2-4 triệu | AD34: Trên 300 người | AE34: Không | AG34: Khác (ghi rõ) | AH34: Nhân viên chính thức | AI34: Có | AJ34: Công nghệ ô tô | AK34: Cao đẳng | AW34: Đồng ý | AX34: Đồng ý | AY34: Đồng ý | AZ34: Trang thiết bị (máy móc, công cụ, v.v.) | BA34: Cơ sở vật chất (phòng học, thư việnv.v.) | BD34: Đồng ý | BE34: Đồng ý
A35: 34 | B35: N32SC3A162 | C35: Vũ | D35: Ngọc Khánh | E35: Tường | G35: Công nghệ ô tô | H35: =VLOOKUP(G35,Sheet1!$A$22:$B$35,2) -> Công nghệ ô tô | I35: Trung cấp nghề | J35: Nam | K35: =IF(AND(J35="Nữ",OR(N35="Khá",N35="Giỏi")),"học bổng") -> FALSE | L35: 1994 | M35: =2018-L35:L514 -> 24 | N35: Trung bình | O35: A1.Làm công ăn lương | Q35: =IF(AND(J35="Nữ", N35="Khá"),"tìm được","bỏ qua") -> bỏ qua | S35: Khác, ghi cụ thể | T35: Mổ Heo | V35: Dưới 1 tháng | W35: Quan hệ cá nhân | BD35: Không đồng ý | BE35: Không đồng ý
A36: 35 | B36: N32SC3A156 | C36: Hoàng | D36: Xuân | E36: Thực | G36: Công nghệ ô tô | H36: =VLOOKUP(G36,Sheet1!$A$22:$B$35,2) -> Công nghệ ô tô | I36: Trung cấp nghề | J36: Nam | K36: =IF(AND(J36="Nữ",OR(N36="Khá",N36="Giỏi")),"học bổng") -> FALSE | L36: 1997 | M36: =2018-L36:L515 -> 21 | N36: Trung bình | O36: A1.Làm công ăn lương | Q36: =IF(AND(J36="Nữ", N36="Khá"),"tìm được","bỏ qua") -> bỏ qua | S36: Công nghiệp chế biến | V36: Trên 3 tháng | W36: Do trường giới thiệu | Y36: Tốt | Z36: Tốt | AA36: Có liên quan | AC36: 4-6 triệu | AD36: Trên 300 người | AE36: Không | AI36: Có | AK36: Cao đẳng | BE36: Không đồng ý
A37: 37 | B37: N32SC3A111 | C37: Nguyễn | D37: Triệu | E37: Bảo | G37: Công nghệ ô tô | H37: =VLOOKUP(G37,Sheet1!$A$22:$B$35,2) -> Công nghệ ô tô | I37: Trung cấp nghề | J37: Nam | K37: =IF(AND(J37="Nữ",OR(N37="Khá",N37="Giỏi")),"học bổng") -> FALSE | L37: 1995 | M37: =2018-L37:L516 -> 23 | N37: Khá | O37: A1.Làm công ăn lương | Q37: =IF(AND(J37="Nữ", N37="Khá"),"tìm được","bỏ qua") -> bỏ qua | S37: Công nghiệp chế biến | U37: 48h | V37: 1-3 tháng | W37: Quan hệ cá nhân | Y37: Tốt | Z37: Rất tốt | AA37: Liên quan | AC37: 4-6 triệu | AD37: 200-300 người | AG37: Khác (ghi rõ) | AH37: Nhân viên chính thức | AI37: Không | AW37: Hoàn toàn đồng ý | AX37: Hoàn toàn đồng ý | AY37: Hoàn toàn đồng ý | AZ37: Cơ sở vật chất (phòng học, thư việnv.v.) | BD37: Đồng ý | BE37: Đồng ý
A38: 38 | B38: N32SC3A157 | C38: Trần | D38: Văn | E38: Tỉnh | G38: Công nghệ ô tô | H38: =VLOOKUP(G38,Sheet1!$A$22:$B$35,2) -> Công nghệ ô tô | I38: Trung cấp nghề | J38: Nam | K38: =IF(AND(J38="Nữ",OR(N38="Khá",N38="Giỏi")),"học bổng") -> FALSE | L38: 1994 | M38: =2018-L38:L517 -> 24 | N38: Trung bình | O38: A1.Làm công ăn lương | Q38: =IF(AND(J38="Nữ", N38="Khá"),"tìm được","bỏ qua") -> bỏ qua | S38: Xây dựng | U38: 48h | V38: Dưới 1 tháng | W38: Quan hệ cá nhân | AA38: Không liên quan | AC38: 6-8 triệu | AD38: 2-10người | AE38: Không | AG38: Khác (ghi rõ) | AH38: Nhân viên chính thức | BD38: Hoàn toàn không đồng ý | BE38: Không đồng ý
A39: 39 | B39: N32SC3A165 | C39: Sù | D39: Nam | E39: Vĩnh | G39: Công nghệ ô tô | H39: =VLOOKUP(G39,Sheet1!$A$22:$B$35,2) -> Công nghệ ô tô | I39: Trung cấp nghề | J39: Nam | K39: =IF(AND(J39="Nữ",OR(N39="Khá",N39="Giỏi")),"học bổng") -> FALSE | L39: 1996 | M39: =2018-L39:L518 -> 22 | N39: Trung bình khá | O39: A1.Làm công ăn lương | Q39: =IF(AND(J39="Nữ", N39="Khá"),"tìm được","bỏ qua") -> bỏ qua | S39: Xây dựng | U39: 48h | V39: 1-3 tháng | W39: Hội chợ việc làm | Y39: Tốt | AA39: Có liên quan | AB39: 5500000 | AC39: 4-6 triệu | AD39: Trên 300 người | AE39: Không | AW39: Hoàn toàn đồng ý | AX39: Hoàn toàn đồng ý | AY39: Đồng ý | AZ39: Thực tập/ thực hành tại doanh nghiệp | BD39: Hoàn toàn đồng ý | BE39: Đồng ý
A40: 40 | B40: N32SC3A164 | C40: Bùi | D40: Quang | E40: Vinh | G40: Công nghệ ô tô | H40: =VLOOKUP(G40,Sheet1!$A$22:$B$35,2) -> Công nghệ ô tô | I40: Trung cấp nghề | J40: Nam | K40: =IF(AND(J40="Nữ",OR(N40="Khá",N40="Giỏi")),"học bổng") -> FALSE | L40: 1996 | M40: =2018-L40:L519 -> 22 | N40: Trung bình khá | O40: A1.Làm công ăn lương | Q40: =IF(AND(J40="Nữ", N40="Khá"),"tìm được","bỏ qua") -> bỏ qua | S40: Xây dựng | V40: 1-3 tháng | W40: Quan hệ cá nhân | Y40: Tốt | Z40: Tốt | AA40: Có liên quan | AB40: 5500000 | AC40: 4-6 triệu | AD40: Trên 300 người | AE40: Không | AG40: Khác (ghi rõ) | AH40: Nhân viên chính thức | AI40: Không | AW40: Đồng ý | AX40: Đồng ý | AY40: Đồng ý | AZ40: Thực tập/ thực hành tại doanh nghiệp | BD40: Đồng ý | BE40: Đồng ý
A41: 41 | B41: N32SC3A163 | C41: Phạm | D41: Quốc | E41: Việt | G41: Công nghệ ô tô | H41: =VLOOKUP(G41,Sheet1!$A$22:$B$35,2) -> Công nghệ ô tô | I41: Trung cấp nghề | J41: Nam | K41: =IF(AND(J41="Nữ",OR(N41="Khá",N41="Giỏi")),"học bổng") -> FALSE | L41: 1996 | M41: =2018-L41:L520 -> 22 | N41: Trung bình | O41: A1.Làm công ăn lương | Q41: =IF(AND(J41="Nữ", N41="Khá"),"tìm được","bỏ qua") -> bỏ qua | T41: Giao thông vận tải | V41: 1-3 tháng | W41: Quan hệ cá nhân | Y41: Tốt | Z41: Tốt | AA41: Có liên quan | AB41: 5500000 | AC41: 4-6 triệu | AD41: 200-300 người | AE41: Không | AG41: Khác (ghi rõ) | AH41: Nhân viên chính thức | AI41: Không | AW41: Đồng ý | AX41: Đồng ý | AY41: Đồng ý | AZ41: Thực tập/ thực hành tại doanh nghiệp | BD41: Đồng ý | BE41: Đồng ý
A42: 42 | B42: N32SC3A125 | C42: Nguyễn | D42: Đức | E42: Hiệp | G42: Công nghệ ô tô | H42: =VLOOKUP(G42,Sheet1!$A$22:$B$35,2) -> Công nghệ ô tô | I42: Trung cấp nghề | J42: Nam | K42: =IF(AND(J42="Nữ",OR(N42="Khá",N42="Giỏi")),"học bổng") -> FALSE | L42: 1997 | M42: =2018-L42:L521 -> 21 | O42: A1.Làm công ăn lương | Q42: =IF(AND(J42="Nữ", N42="Khá"),"tìm được","bỏ qua") -> bỏ qua | S42: Thương mại & Dịch vụ (Bán buôn, bán lẻ) | V42: 1-3 tháng | W42: Quan hệ cá nhân | Y42: Tốt | AA42: Liên quan | AB42: 4300000 | AC42: 4-6 triệu | AD42: Trên 300 người | AE42: Có | AF42: Trên 8 tuần | AG42: Khác (ghi rõ) | AH42: Nhân viên thử việc | AI42: Có | AK42: Cao đẳng | AW42: Đồng ý | AX42: Đồng ý | AY42: Đồng ý | AZ42: Trang thiết bị (máy móc, công cụ, v.v.) | BA42: Thực tập/ thực hành tại doanh nghiệp | BD42: Đồng ý | BE42: Đồng ý
A43: 43 | B43: N32SC3A115 | C43: Nguyễn | D43: Quang | E43: Dương | G43: Công nghệ ô tô | H43: =VLOOKUP(G43,Sheet1!$A$22:$B$35,2) -> Công nghệ ô tô | I43: Trung cấp nghề | J43: Nam | K43: =IF(AND(J43="Nữ",OR(N43="Khá",N43="Giỏi")),"học bổng") -> FALSE | L43: 1996 | M43: =2018-L43:L522 -> 22 | O43: A1.Làm công ăn lương | Q43: =IF(AND(J43="Nữ", N43="Khá"),"tìm được","bỏ qua") -> bỏ qua | W43: #N/A | AW43: Hoàn toàn đồng ý | AX43: Hoàn toàn đồng ý | AY43: Hoàn toàn đồng ý | AZ43: Trang thiết bị (máy móc, công cụ, v.v.) | BD43: Đồng ý | BE43: Đồng ý
A44: 44 | B44: NĐ32KTA224 | C44: Nguyễn | D44: Ngọc | E44: Bích | G44: Kế toán doanh nghiệp | H44: =VLOOKUP(G44,Sheet1!$A$22:$B$35,2) -> Kế toán doanh nghiệp | I44: Cao đẳng nghề | J44: Nữ | K44: =IF(AND(J44="Nữ",OR(N44="Khá",N44="Giỏi")),"học bổng") -> FALSE | L44: 1990 | M44: =2018-L44:L523 -> 28 | N44: Trung bình khá | O44: A2.Tự SX-KD | Q44: =IF(AND(J44="Nữ", N44="Khá"),"tìm được","bỏ qua") -> bỏ qua | S44: Thương mại & Dịch vụ (Bán buôn, bán lẻ) | U44: 48h | V44: 1-3 tháng | W44: Do trường giới thiệu | Y44: Tốt | Z44: Tốt | AA44: Liên quan | AC44: 2-4 triệu | AD44: 10-200 người | AE44: Không | AG44: Khác (ghi rõ) | AH44: Nhân viên thử việc | AI44: Có | AJ44: Kế toán | AK44: Đại học | AW44: Đồng ý | AX44: Đồng ý | AY44: Đồng ý | AZ44: Thực tập/ thực hành tại doanh nghiệp | BD44: Đồng ý | BE44: Đồng ý
A45: 45 | B45: NĐ32KTA001 | C45: Nguyễn | D45: Thị | E45: Chiến | G45: Kế toán doanh nghiệp | H45: =VLOOKUP(G45,Sheet1!$A$22:$B$35,2) -> Kế toán doanh nghiệp | I45: Cao đẳng nghề | J45: Nữ | K45: =IF(AND(J45="Nữ",OR(N45="Khá",N45="Giỏi")),"học bổng") -> học bổng | L45: 1993 | M45: =2018-L45:L524 -> 25 | N45: Khá | O45: A1.Làm công ăn lương | Q45: =IF(AND(J45="Nữ", N45="Khá"),"tìm được","bỏ qua") -> tìm được | S45: Nhà hàng, khách sạn và Du lịch | U45: 56h | V45: 1-3 tháng | W45: Qua quảng cáo trên Internet | Y45: Tốt | Z45: Tốt | AA45: Liên quan | AC45: 2-4 triệu | AD45: 10-200 người | AE45: Không | AG45: Khác (ghi rõ) | AH45: Nhân viên chính thức | AI45: Có | AJ45: Kế toán | AK45: Đại học | AW45: Đồng ý | AX45: Đồng ý | AY45: Đồng ý | AZ45: Tài liệu,chương trình (sách, v.v.) | BD45: Đồng ý | BE45: Đồng ý
A46: 46 | B46: NĐ32KTA002 | C46: Nguyễn | D46: Thị Việt | E46: Chinh | G46: Kế toán doanh nghiệp | H46: =VLOOKUP(G46,Sheet1!$A$22:$B$35,2) -> Kế toán doanh nghiệp | I46: Cao đẳng nghề | J46: Nữ | K46: =IF(AND(J46="Nữ",OR(N46="Khá",N46="Giỏi")),"học bổng") -> học bổng | L46: 1994 | M46: =2018-L46:L525 -> 24 | N46: Khá | O46: A2.Tự SX-KD | Q46: =IF(AND(J46="Nữ", N46="Khá"),"tìm được","bỏ qua") -> tìm được | S46: Thương mại & Dịch vụ (Bán buôn, bán lẻ) | U46: 48h | V46: Trên 3 tháng | W46: Do trường giới thiệu | Y46: Tốt | Z46: Tốt | AA46: Liên quan | AB46: 5500000 | AC46: 4-6 triệu | AD46: 10-200 người | AE46: Không | AG46: Khác (ghi rõ) | AH46: Nhân viên chính thức | AI46: Có | AJ46: Kế toán | AK46: Đại học | AW46: Đồng ý | AX46: Đồng ý | AY46: Đồng ý | AZ46: Thực tập/ thực hành tại doanh nghiệp | BD46: Đồng ý | BE46: Đồng ý
A47: 47 | B47: NĐ32KTA003 | C47: Võ | D47: Thị | E47: Đào | G47: Kế toán doanh nghiệp | H47: =VLOOKUP(G47,Sheet1!$A$22:$B$35,2) -> Kế toán doanh nghiệp | I47: Cao đẳng nghề | J47: Nữ | K47: =IF(AND(J47="Nữ",OR(N47="Khá",N47="Giỏi")),"học bổng") -> học bổng | L47: 1991 | M47: =2018-L47:L526 -> 27 | N47: Giỏi | O47: A1.Làm công ăn lương | Q47: =IF(AND(J47="Nữ", N47="Khá"),"tìm được","bỏ qua") -> bỏ qua | S47: Thương mại & Dịch vụ (Bán buôn, bán lẻ) | U47: 48h | V47: Dưới 1 tháng | W47: Quan hệ cá nhân | Y47: Tốt | Z47: Tốt | AA47: Liên quan | AB47: 5500000 | AC47: 4-6 triệu | AD47: 10-200 người | AE47: Có | AF47: 2-4 tuần | AG47: Khác (ghi rõ) | AH47: Nhân viên thử việc | AI47: Có | AJ47: Kế toán | AK47: Đại học | AW47: Đồng ý | AX47: Đồng ý | AY47: Đồng ý | AZ47: Trang thiết bị (máy móc, công cụ, v.v.) | BD47: Đồng ý | BE47: Hoàn toàn đồng ý
A48: 48 | B48: NĐ32KTA225 | C48: Nguyễn | D48: Anh | E48: Đào | G48: Kế toán doanh nghiệp | H48: =VLOOKUP(G48,Sheet1!$A$22:$B$35,2) -> Kế toán doanh nghiệp | I48: Cao đẳng nghề | J48: Nữ | K48: =IF(AND(J48="Nữ",OR(N48="Khá",N48="Giỏi")),"học bổng") -> FALSE | L48: 1983 | M48: =2018-L48:L527 -> 35 | N48: Trung bình khá | O48: A1.Làm công ăn lương | Q48: =IF(AND(J48="Nữ", N48="Khá"),"tìm được","bỏ qua") -> bỏ qua | S48: Sản xuất, phân phối điện, ga, nước | V48: Trên 3 tháng | W48: Quan hệ cá nhân | Y48: Tốt | Z48: Tốt | AA48: Có liên quan/Close related | AC48: 6-8 triệu | AD48: 10-200 người | AE48: Không | AG48: Khác (ghi rõ) | AH48: Nhân viên thử việc | AI48: Có | AJ48: Kế toán | AW48: Hoàn toàn đồng ý | AX48: Đồng ý | AY48: Hoàn toàn đồng ý | AZ48: Thực tập/ thực hành tại doanh nghiệp | BD48: Đồng ý | BE48: Hoàn toàn đồng ý
A49: 49 | B49: NĐ32KTA004 | C49: Ngô | D49: Thị | E49: Gương | G49: Kế toán doanh nghiệp | H49: =VLOOKUP(G49,Sheet1!$A$22:$B$35,2) -> Kế toán doanh nghiệp | I49: Cao đẳng nghề | J49: Nữ | K49: =IF(AND(J49="Nữ",OR(N49="Khá",N49="Giỏi")),"học bổng") -> học bổng | L49: 1994 | M49: =2018-L49:L528 -> 24 | N49: Giỏi | O49: C.Không tìm được việc làm | Q49: =IF(AND(J49="Nữ", N49="Khá"),"tìm được","bỏ qua") -> bỏ qua | W49: #N/A | AL49: Vì không tìm được việc làm đúng với ngành nghề được đào tạo | AM49: Cả 2 công việc trên | AN49: Thiếu kinh nghiệm làm việc | AW49: Đồng ý | AX49: Đồng ý phần nào | AY49: Đồng ý | AZ49: Tài liệu,chương trình (sách, v.v.) | BD49: Đồng ý phần nào | BE49: Đồng ý
A50: 50 | B50: NĐ32KTA005 | C50: Lương | D50: Thị Thu | E50: Hà | G50: Kế toán doanh nghiệp | H50: =VLOOKUP(G50,Sheet1!$A$22:$B$35,2) -> Kế toán doanh nghiệp | I50: Cao đẳng nghề | J50: Nữ | K50: =IF(AND(J50="Nữ",OR(N50="Khá",N50="Giỏi")),"học bổng") -> học bổng | L50: 1996 | M50: =2018-L50:L529 -> 22 | N50: Giỏi | O50: C.Không tìm được việc làm | Q50: =IF(AND(J50="Nữ", N50="Khá"),"tìm được","bỏ qua") -> bỏ qua | W50: #N/A | AL50: Vì không tìm được việc làm đúng với ngành nghề được đào tạo | AM50: CV phù hợp với nghề/related | AN50: Ngành nghề được đào tạo đang dư thừa lao động trên thị trường | AW50: Đồng ý phần nào | AX50: Đồng ý | AY50: Hoàn toàn đồng ý | AZ50: Thực tập/ thực hành tại doanh nghiệp | BD50: Đồng ý | BE50: Hoàn toàn đồng ý
A51: 51 | B51: NĐ32KTA006 | C51: Lê | D51: Thị | E51: Hiền | G51: Kế toán doanh nghiệp | H51: =VLOOKUP(G51,Sheet1!$A$22:$B$35,2) -> Kế toán doanh nghiệp | I51: Cao đẳng nghề | J51: Nữ | K51: =IF(AND(J51="Nữ",OR(N51="Khá",N51="Giỏi")),"học bổng") -> học bổng | M51: =2018-L51:L530 -> 2018 | N51: Giỏi | O51: A2.Tự SX-KD | Q51: =IF(AND(J51="Nữ", N51="Khá"),"tìm được","bỏ qua") -> bỏ qua | S51: Công nghiệp khai thác | U51: 48h | V51: 1-3 tháng | W51: Quan hệ cá nhân | Y51: Tốt | Z51: Tốt | AA51: Liên quan/Related | AC51: 4-6 triệu | AD51: 10-200 người | AE51: Không | AG51: Khác (ghi rõ) | AH51: Nhân viên chính thức | AI51: Có | AJ51: Kế toán | AK51: Đại học | AW51: Đồng ý | AX51: Đồng ý | AY51: Đồng ý | AZ51: Cơ sở vật chất (phòng học, thư việnv.v.) | BD51: Đồng ý | BE51: Đồng ý
A52: 52 | B52: NĐ32KTA008 | C52: Nguyễn | D52: Đông | E52: Hồ | G52: Kế toán doanh nghiệp | H52: =VLOOKUP(G52,Sheet1!$A$22:$B$35,2) -> Kế toán doanh nghiệp | I52: Cao đẳng nghề | J52: Nữ | K52: =IF(AND(J52="Nữ",OR(N52="Khá",N52="Giỏi")),"học bổng") -> học bổng | L52: 1991 | M52: =2018-L52:L531 -> 27 | N52: Giỏi | O52: A1.Làm công ăn lương | Q52: =IF(AND(J52="Nữ", N52="Khá"),"tìm được","bỏ qua") -> bỏ qua | S52: Nhà hàng, khách sạn và Du lịch | V52: Dưới 1 tháng | W52: Do trường giới thiệu | Y52: Tốt | Z52: Tốt | AA52: Có liên quan/Close related | AC52: 4-6 triệu | AD52: 10-200 người | AE52: Không | AG52: Khác (ghi rõ) | AH52: Nhân viên thử việc | AI52: Có | AJ52: Kế toán | AK52: Đại học | AW52: Đồng ý | AX52: Đồng ý phần nào | AY52: Hoàn toàn đồng ý | AZ52: Thực tập/ thực hành tại doanh nghiệp | BD52: Đồng ý | BE52: Đồng ý
A53: 53 | B53: NĐ32KE3A | C53: Phan | D53: Thị Thanh | E53: Hoa | G53: Kế toán doanh nghiệp | H53: =VLOOKUP(G53,Sheet1!$A$22:$B$35,2) -> Kế toán doanh nghiệp | I53: Cao đẳng nghề | J53: Nữ | K53: =IF(AND(J53="Nữ",OR(N53="Khá",N53="Giỏi")),"học bổng") -> học bổng | L53: 1994 | M53: =2018-L53:L532 -> 24 | N53: Khá | O53: A2.Tự SX-KD | Q53: =IF(AND(J53="Nữ", N53="Khá"),"tìm được","bỏ qua") -> tìm được | S53: Sản xuất, phân phối điện, ga, nước | U53: 48h | V53: Dưới 1 tháng | W53: Do trường giới thiệu | Y53: Tốt | Z53: Tốt | AA53: Có liên quan/Close related | AC53: 2-4 triệu | AD53: 10-200 người | AE53: Không | AG53: Khác (ghi rõ) | AH53: Nhân viên thử việc | AI53: Có | AK53: Đại học | AL53: Vì không tìm được việc làm đúng với ngành nghề được đào tạo | AM53: CV phù hợp với nghề/related | AN53: Thiếu kinh nghiệm làm việc | AW53: Đồng ý | AX53: Hoàn toàn đồng ý | AY53: Đồng ý | AZ53: Tài liệu,chương trình (sách, v.v.) | BD53: Đồng ý | BE53: Đồng ý
A54: 54 | B54: NĐ32KTA007 | C54: Vũ | D54: Thị Việt | E54: Hòa | G54: Kế toán doanh nghiệp | H54: =VLOOKUP(G54,Sheet1!$A$22:$B$35,2) -> Kế toán doanh nghiệp | I54: Cao đẳng nghề | J54: Nữ | K54: =IF(AND(J54="Nữ",OR(N54="Khá",N54="Giỏi")),"học bổng") -> FALSE | L54: 1991 | M54: =2018-L54:L533 -> 27 | N54: Trung bình khá | O54: C.Không tìm được việc làm | Q54: =IF(AND(J54="Nữ", N54="Khá"),"tìm được","bỏ qua") -> bỏ qua | W54: #N/A | AL54: Lý do khác | AW54: Đồng ý | AX54: Đồng ý | AY54: Đồng ý | AZ54: Trang thiết bị (máy móc, công cụ, v.v.) | BD54: Đồng ý | BE54: Đồng ý
A55: 55 | B55: NĐ32KTA009 | C55: Nguyễn | D55: Thị Ánh | E55: Hồng | G55: Kế toán doanh nghiệp | H55: =VLOOKUP(G55,Sheet1!$A$22:$B$35,2) -> Kế toán doanh nghiệp | I55: Cao đẳng nghề | J55: Nữ | K55: =IF(AND(J55="Nữ",OR(N55="Khá",N55="Giỏi")),"học bổng") -> học bổng | L55: 1990 | M55: =2018-L55:L534 -> 28 | N55: Giỏi | O55: A1.Làm công ăn lương | Q55: =IF(AND(J55="Nữ", N55="Khá"),"tìm được","bỏ qua") -> bỏ qua | S55: Thương mại & Dịch vụ (Bán buôn, bán lẻ) | U55: 56h | V55: Dưới 1 tháng | W55: Do trường giới thiệu | Y55: Tốt | Z55: Tốt | AA55: Liên quan/Related | AB55: 5500000 | AC55: 4-6 triệu | AD55: 10-200 người | AE55: Không | AG55: Khác (ghi rõ) | AH55: Nhân viên thử việc | AI55: Không | AW55: Đồng ý | AX55: Đồng ý | AY55: Hoàn toàn đồng ý | AZ55: Thực tập/ thực hành tại doanh nghiệp | BD55: Đồng ý | BE55: Đồng ý
A56: 56 | B56: NĐ32KTA012 | C56: Trịnh | D56: Thị | E56: Hương | G56: Kế toán doanh nghiệp | H56: =VLOOKUP(G56,Sheet1!$A$22:$B$35,2) -> Kế toán doanh nghiệp | I56: Cao đẳng nghề | J56: Nữ | K56: =IF(AND(J56="Nữ",OR(N56="Khá",N56="Giỏi")),"học bổng") -> học bổng | L56: 1992 | M56: =2018-L56:L535 -> 26 | N56: Khá | O56: A1.Làm công ăn lương | Q56: =IF(AND(J56="Nữ", N56="Khá"),"tìm được","bỏ qua") -> tìm được | S56: Thương mại & Dịch vụ (Bán buôn, bán lẻ) | U56: 56h | V56: 1-3 tháng | W56: Do trường giới thiệu | Y56: Tốt | Z56: Tốt | AA56: Liên quan | AB56: 5500000 | AC56: 4-6 triệu | AD56: 10-200 người | AE56: Không | AG56: Khác (ghi rõ) | AH56: Nhân viên thử việc | AI56: Không | AW56: Đồng ý | AX56: Đồng ý | AY56: Đồng ý | AZ56: Trang thiết bị (máy móc, công cụ, v.v.) | BD56: Đồng ý | BE56: Đồng ý
A57: 57 | B57: NĐ32KTA010 | C57: Dương | D57: Xuân | E57: Hương | G57: Kế toán doanh nghiệp | H57: =VLOOKUP(G57,Sheet1!$A$22:$B$35,2) -> Kế toán doanh nghiệp | I57: Cao đẳng nghề | J57: Nữ | K57: =IF(AND(J57="Nữ",OR(N57="Khá",N57="Giỏi")),"học bổng") -> FALSE | L57: 1990 | M57: =2018-L57:L536 -> 28 | N57: Trung bình khá | O57: C.Không tìm được việc làm | Q57: =IF(AND(J57="Nữ", N57="Khá"),"tìm được","bỏ qua") -> bỏ qua | W57: #N/A | AL57: Vì không tìm được việc làm đúng với ngành nghề được đào tạo | AM57: CV phù hợp với nghề/related | AN57: Thiếu kinh nghiệm làm việc | AW57: Đồng ý | AX57: Đồng ý | AY57: Hoàn toàn đồng ý | AZ57: Thực tập/ thực hành tại doanh nghiệp | BD57: Đồng ý | BE57: Đồng ý
A58: 58 | B58: NĐ32KTA011 | C58: Lê | D58: Thị Kim | E58: Hương | G58: Kế toán doanh nghiệp | H58: =VLOOKUP(G58,Sheet1!$A$22:$B$35,2) -> Kế toán doanh nghiệp | I58: Cao đẳng nghề | J58: Nữ | K58: =IF(AND(J58="Nữ",OR(N58="Khá",N58="Giỏi")),"học bổng") -> FALSE | L58: 1994 | M58: =2018-L58:L537 -> 24 | O58: C.Không tìm được việc làm | Q58: =IF(AND(J58="Nữ", N58="Khá"),"tìm được","bỏ qua") -> bỏ qua | W58: #N/A | AL58: Vì không tìm được việc làm đúng với ngành nghề được đào tạo | AM58: Cả 2 công việc trên | AN58: Kỹ năng nghề không đáp ứng được yêu cầu công việc | AW58: Đồng ý phần nào | AX58: Đồng ý phần nào | AY58: Đồng ý phần nào | AZ58: Thực tập/ thực hành tại doanh nghiệp | BD58: Đồng ý phần nào | BE58: Đồng ý phần nào
A59: 59 | B59: NĐ32KTA013 | C59: Đặng | D59: Thị | E59: Kim | G59: Kế toán doanh nghiệp | H59: =VLOOKUP(G59,Sheet1!$A$22:$B$35,2) -> Kế toán doanh nghiệp | I59: Cao đẳng nghề | J59: Nữ | K59: =IF(AND(J59="Nữ",OR(N59="Khá",N59="Giỏi")),"học bổng") -> FALSE | L59: 1985 | M59: =2018-L59:L538 -> 33 | N59: Trung bình khá | O59: A1.Làm công ăn lương | Q59: =IF(AND(J59="Nữ", N59="Khá"),"tìm được","bỏ qua") -> bỏ qua | S59: Công nghiệp khai thác | U59: 48h | V59: Trước khi TN | W59: Do trường giới thiệu | Y59: Tốt | Z59: Tốt | AA59: Liên quan/Related | AC59: 4-6 triệu | AD59: 10-200 người | AE59: Có | AF59: 2-4 tuần | AG59: Khác (ghi rõ) | AH59: Nhân viên chính thức | AI59: Không | AW59: Đồng ý | AX59: Đồng ý | AY59: Đồng ý | AZ59: Cơ sở vật chất (phòng học, thư việnv.v.) | BD59: Đồng ý | BE59: Đồng ý
A60: 60 | B60: NĐ32KTA014 | C60: Nguyễn | D60: Thị | E60: Lâm | G60: Kế toán doanh nghiệp | H60: =VLOOKUP(G60,Sheet1!$A$22:$B$35,2) -> Kế toán doanh nghiệp | I60: Cao đẳng nghề | J60: Nữ | K60: =IF(AND(J60="Nữ",OR(N60="Khá",N60="Giỏi")),"học bổng") -> học bổng | L60: 1994 | M60: =2018-L60:L539 -> 24 | N60: Khá | O60: A1.Làm công ăn lương | Q60: =IF(AND(J60="Nữ", N60="Khá"),"tìm được","bỏ qua") -> tìm được | S60: Thương mại & Dịch vụ (Bán buôn, bán lẻ) | U60: 48h | V60: Dưới 1 tháng | W60: Do trường giới thiệu | Y60: Tốt | Z60: Tốt | AC60: 4-6 triệu | AD60: 10-200 người | AE60: Có | AF60: 4-6 tuần | AG60: Khác (ghi rõ) | AH60: Nhân viên chính thức | AI60: Không | AW60: Đồng ý | AX60: Đồng ý | AY60: Đồng ý | AZ60: Trang thiết bị (máy móc, công cụ, v.v.) | BD60: Đồng ý | BE60: Đồng ý
A61: 61 | B61: NĐ32KTA226 | C61: Nguyễn | D61: Huy | E61: Liêm | G61: Kế toán doanh nghiệp | H61: =VLOOKUP(G61,Sheet1!$A$22:$B$35,2) -> Kế toán doanh nghiệp | I61: Cao đẳng nghề | J61: Nam | K61: =IF(AND(J61="Nữ",OR(N61="Khá",N61="Giỏi")),"học bổng") -> FALSE | L61: 1992 | M61: =2018-L61:L540 -> 26 | N61: Khá | O61: A2.Tự SX-KD | Q61: =IF(AND(J61="Nữ", N61="Khá"),"tìm được","bỏ qua") -> bỏ qua | S61: Nhà hàng, khách sạn và Du lịch | U61: 56h | V61: Trên 3 tháng | W61: Hội chợ việc làm | Y61: Tốt | Z61: Tốt | AA61: Liên quan | AC61: 2-4 triệu | AD61: 10-200 người | AE61: Không | AG61: Khác (ghi rõ) | AH61: Nhân viên thử việc | AI61: Có | AJ61: Kế toán | AK61: Đại học | AW61: Đồng ý | AX61: Đồng ý | AY61: Hoàn toàn đồng ý | AZ61: Tài liệu,chương trình (sách, v.v.) | BD61: Đồng ý | BE61: Đồng ý
A62: 62 | B62: NĐ32KTA023 | C62: Nguyễn | D62: Hoài | E62: Nhân | G62: Kế toán doanh nghiệp | H62: =VLOOKUP(G62,Sheet1!$A$22:$B$35,2) -> Kế toán doanh nghiệp | I62: Cao đẳng nghề | J62: Nam | K62: =IF(AND(J62="Nữ",OR(N62="Khá",N62="Giỏi")),"học bổng") -> FALSE | L62: 1991 | M62: =2018-L62:L541 -> 27 | N62: Giỏi | O62: A1.Làm công ăn lương | Q62: =IF(AND(J62="Nữ", N62="Khá"),"tìm được","bỏ qua") -> bỏ qua | S62: Công nghiệp chế biến | U62: 48h | V62: Trên 3 tháng | W62: Quan hệ cá nhân | Y62: Tốt | Z62: Tốt | AA62: Liên quan/Related | AC62: 4-6 triệu | AD62: 10-200 người | AE62: Không | AG62: Khác (ghi rõ) | AH62: Nhân viên chính thức | AI62: Không | AW62: Đồng ý | AX62: Đồng ý phần nào | AY62: Đồng ý | AZ62: Trang thiết bị (máy móc, công cụ, v.v.) | BD62: Đồng ý | BE62: Đồng ý
A63: 63 | B63: NĐ32KTA039 | C63: Lê | D63: Đức Anh | E63: Tiến | G63: Kế toán doanh nghiệp | H63: =VLOOKUP(G63,Sheet1!$A$22:$B$35,2) -> Kế toán doanh nghiệp | I63: Cao đẳng nghề | J63: Nam | K63: =IF(AND(J63="Nữ",OR(N63="Khá",N63="Giỏi")),"học bổng") -> FALSE | L63: 1993 | M63: =2018-L63:L542 -> 25 | N63: Khá | O63: A1.Làm công ăn lương | Q63: =IF(AND(J63="Nữ", N63="Khá"),"tìm được","bỏ qua") -> bỏ qua | S63: Thương mại & Dịch vụ (Bán buôn, bán lẻ) | V63: 1-3 tháng | W63: Hội chợ việc làm | Y63: Tốt | Z63: Tốt | AA63: Có liên quan/Close related | AC63: 4-6 triệu | AD63: 10-200 người | AE63: Có | AF63: Dưới 2 tuần | AG63: Khác (ghi rõ) | AH63: Nhân viên chính thức | AI63: Có | AJ63: Kế toán | AK63: Đại học | AW63: Đồng ý | AX63: Hoàn toàn đồng ý | AY63: Đồng ý | AZ63: Trang thiết bị (máy móc, công cụ, v.v.) | BD63: Đồng ý | BE63: Đồng ý
A64: 64 | B64: 12A304023 | C64: Lưu | D64: Ngọc | E64: Anh | G64: Kế toán doanh nghiệp | H64: =VLOOKUP(G64,Sheet1!$A$22:$B$35,2) -> Kế toán doanh nghiệp | I64: Trung cấp nghề | J64: Nữ | K64: =IF(AND(J64="Nữ",OR(N64="Khá",N64="Giỏi")),"học bổng") -> FALSE | L64: 1996 | M64: =2018-L64:L543 -> 22 | O64: A2.Tự SX-KD | Q64: =IF(AND(J64="Nữ", N64="Khá"),"tìm được","bỏ qua") -> bỏ qua | S64: Thương mại & Dịch vụ (Bán buôn, bán lẻ) | V64: Trước khi TN | W64: Quan hệ cá nhân | Y64: Rất tốt | Z64: Rất tốt | AA64: Liên quan/Related | AC64: 4-6 triệu | AD64: 2-10người | AE64: Không | AW64: Hoàn toàn đồng ý | AX64: Hoàn toàn đồng ý | AY64: Hoàn toàn đồng ý | AZ64: Thực tập/ thực hành tại doanh nghiệp | BD64: Hoàn toàn đồng ý | BE64: Hoàn toàn đồng ý
A65: 65 | B65: 12A304024 | C65: Nguyễn | D65: Thị Ánh | E65: Diệu | G65: Kế toán doanh nghiệp | H65: =VLOOKUP(G65,Sheet1!$A$22:$B$35,2) -> Kế toán doanh nghiệp | I65: Trung cấp nghề | J65: Nữ | K65: =IF(AND(J65="Nữ",OR(N65="Khá",N65="Giỏi")),"học bổng") -> FALSE | L65: 1997 | M65: =2018-L65:L544 -> 21 | O65: A2.Tự SX-KD | Q65: =IF(AND(J65="Nữ", N65="Khá"),"tìm được","bỏ qua") -> bỏ qua | S65: Thương mại & Dịch vụ (Bán buôn, bán lẻ) | V65: 1-3 tháng | W65: Quan hệ cá nhân | Y65: Tốt | Z65: Tốt | AA65: Liên quan/Related | AC65: 4-6 triệu | AD65: 2-10người | AE65: Không | AI65: Không | AW65: Đồng ý | AX65: Đồng ý | AY65: Đồng ý | AZ65: Thực tập/ thực hành tại doanh nghiệp | BD65: Đồng ý | BE65: Đồng ý
A66: 66 | B66: 12A304025 | C66: Trần | D66: Thị Cẩm | E66: Duyên | G66: Kế toán doanh nghiệp | H66: =VLOOKUP(G66,Sheet1!$A$22:$B$35,2) -> Kế toán doanh nghiệp | I66: Trung cấp nghề | J66: Nữ | K66: =IF(AND(J66="Nữ",OR(N66="Khá",N66="Giỏi")),"học bổng") -> FALSE | L66: 1997 | M66: =2018-L66:L545 -> 21 | O66: A1.Làm công ăn lương | Q66: =IF(AND(J66="Nữ", N66="Khá"),"tìm được","bỏ qua") -> bỏ qua | S66: Thông tin liên lạc, Công nghệ thông tin | T66: Giáo dục đào tạo | V66: Trên 3 tháng | W66: Do trường giới thiệu | Y66: Tốt | Z66: Tốt | AA66: Có liên quan/Close related | AC66: <Dưới 2 triệu | AD66: 10-200 người | AE66: Có | AF66: Dưới 2 tuần | AG66: Khác (ghi rõ) | AH66: Nhân viên chính thức | AI66: Có | AK66: Đại học | AW66: Đồng ý | AX66: Đồng ý | AY66: Đồng ý | AZ66: Thực tập/ thực hành tại doanh nghiệp | BD66: Đồng ý | BE66: Đồng ý
A67: 67 | B67: 12A304106 | C67: Phạm | D67: Nguyễn Trường | E67: Giang | G67: Kế toán doanh nghiệp | H67: =VLOOKUP(G67,Sheet1!$A$22:$B$35,2) -> Kế toán doanh nghiệp | I67: Trung cấp nghề | J67: Nam | K67: =IF(AND(J67="Nữ",OR(N67="Khá",N67="Giỏi")),"học bổng") -> FALSE | L67: 1996 | M67: =2018-L67:L546 -> 22 | O67: A1.Làm công ăn lương | Q67: =IF(AND(J67="Nữ", N67="Khá"),"tìm được","bỏ qua") -> bỏ qua | S67: Sản xuất, phân phối điện, ga, nước | V67: 1-3 tháng | W67: Quan hệ cá nhân | Y67: Tốt | Z67: Tốt | AA67: Có liên quan/Close related | AC67: 4-6 triệu | AD67: 200-300 người | AE67: Có | AF67: 2-4 tuần | AG67: Khác (ghi rõ) | AH67: Nhân viên chính thức | AI67: Có | AK67: Cao đẳng | AW67: Đồng ý | AX67: Đồng ý | AY67: Đồng ý | AZ67: Cơ sở vật chất (phòng học, thư việnv.v.) | BD67: Đồng ý | BE67: Đồng ý
A68: 68 | B68: 12A304026 | C68: Trần | D68: Thị Kim | E68: Hằng | G68: Kế toán doanh nghiệp | H68: =VLOOKUP(G68,Sheet1!$A$22:$B$35,2) -> Kế toán doanh nghiệp | I68: Trung cấp nghề | J68: Nữ | K68: =IF(AND(J68="Nữ",OR(N68="Khá",N68="Giỏi")),"học bổng") -> FALSE | L68: 1997 | M68: =2018-L68:L547 -> 21 | O68: A1.Làm công ăn lương | Q68: =IF(AND(J68="Nữ", N68="Khá"),"tìm được","bỏ qua") -> bỏ qua | S68: Sản xuất, phân phối điện, ga, nước | V68: Trên 3 tháng | W68: Do trường giới thiệu | Y68: Rất tốt | Z68: Rất tốt | AA68: Có liên quan/Close related | AC68: 4-6 triệu | AD68: 200-300 người | AE68: Có | AF68: 2-4 tuần | AG68: Khác (ghi rõ) | AH68: Nhân viên chính thức | AI68: Có | AK68: Cao đẳng | AW68: Đồng ý | AX68: Đồng ý | AY68: Đồng ý | AZ68: Thực tập/ thực hành tại doanh nghiệp | BD68: Đồng ý | BE68: Đồng ý
A69: 69 | B69: 12A304027 | C69: Trần | D69: Thị Lệ | E69: Hằng | G69: Kế toán doanh nghiệp | H69: =VLOOKUP(G69,Sheet1!$A$22:$B$35,2) -> Kế toán doanh nghiệp | I69: Trung cấp nghề | J69: Nữ | K69: =IF(AND(J69="Nữ",OR(N69="Khá",N69="Giỏi")),"học bổng") -> FALSE | L69: 1997 | M69: =2018-L69:L548 -> 21 | O69: A1.Làm công ăn lương | Q69: =IF(AND(J69="Nữ", N69="Khá"),"tìm được","bỏ qua") -> bỏ qua | S69: Công nghiệp chế biến | V69: Trên 3 tháng | W69: Do trường giới thiệu | Y69: Rất tốt | Z69: Rất tốt | AA69: Có liên quan/Close related | AC69: 4-6 triệu | AD69: Trên 300 người | AE69: Có | AF69: 2-4 tuần | AG69: Khác (ghi rõ) | AH69: Nhân viên chính thức | AI69: Có | AK69: Cao đẳng | AW69: Đồng ý | AX69: Đồng ý | AY69: Đồng ý | AZ69: Cơ sở vật chất (phòng học, thư việnv.v.) | BD69: Hoàn toàn đồng ý | BE69: Đồng ý
A70: 70 | B70: 12A304028 | C70: Nguyễn | D70: Thị | E70: Hiền | G70: Kế toán doanh nghiệp | H70: =VLOOKUP(G70,Sheet1!$A$22:$B$35,2) -> Kế toán doanh nghiệp | I70: Trung cấp nghề | J70: Nữ | K70: =IF(AND(J70="Nữ",OR(N70="Khá",N70="Giỏi")),"học bổng") -> FALSE | L70: 1991 | M70: =2018-L70:L549 -> 27 | O70: A1.Làm công ăn lương | Q70: =IF(AND(J70="Nữ", N70="Khá"),"tìm được","bỏ qua") -> bỏ qua | S70: Thông tin liên lạc, Công nghệ thông tin | V70: Trên 3 tháng | W70: Do trường giới thiệu | Y70: Tốt | Z70: Tốt | AA70: Có liên quan/Close related | AC70: 2-4 triệu | AD70: Trên 300 người | AE70: Có | AF70: 2-4 tuần | AG70: Khác (ghi rõ) | AH70: Nhân viên chính thức | AK70: Cao đẳng | AW70: Đồng ý | AX70: Đồng ý | AY70: Đồng ý | AZ70: Thực tập/ thực hành tại doanh nghiệp | BD70: Đồng ý | BE70: Đồng ý
A71: 71 | B71: 12A304029 | C71: Nguyễn | D71: Hoàng Minh | E71: Hiếu | G71: Kế toán doanh nghiệp | H71: =VLOOKUP(G71,Sheet1!$A$22:$B$35,2) -> Kế toán doanh nghiệp | I71: Trung cấp nghề | J71: Nam | K71: =IF(AND(J71="Nữ",OR(N71="Khá",N71="Giỏi")),"học bổng") -> FALSE | L71: 1993 | M71: =2018-L71:L550 -> 25 | O71: B1.Vừa học vừa làm | Q71: =IF(AND(J71="Nữ", N71="Khá"),"tìm được","bỏ qua") -> bỏ qua | S71: Thương mại & Dịch vụ (Bán buôn, bán lẻ) | V71: Dưới 1 tháng | W71: Quan hệ cá nhân | Y71: Rất tốt | Z71: Rất tốt | AA71: Liên quan/Related | AC71: 2-4 triệu | AD71: 2-10người | AE71: Có | AF71: Dưới 2 tuần | AG71: Khác (ghi rõ) | AH71: Nhân viên chính thức | AI71: Có | AK71: Cao đẳng | AW71: Hoàn toàn đồng ý | AX71: Hoàn toàn đồng ý | AY71: Hoàn toàn đồng ý | AZ71: Cơ sở vật chất (phòng học, thư việnv.v.) | BD71: Hoàn toàn đồng ý | BE71: Hoàn toàn đồng ý
A72: 72 | B72: 12A304032 | C72: Phan | D72: Thị | E72: Hường | G72: Kế toán doanh nghiệp | H72: =VLOOKUP(G72,Sheet1!$A$22:$B$35,2) -> Kế toán doanh nghiệp | I72: Trung cấp nghề | J72: Nữ | K72: =IF(AND(J72="Nữ",OR(N72="Khá",N72="Giỏi")),"học bổng") -> học bổng | L72: 1993 | M72: =2018-L72:L551 -> 25 | N72: Khá | O72: B2.Đang đi học | P72: Đi học trọn giờ | Q72: =IF(AND(J72="Nữ", N72="Khá"),"tìm được","bỏ qua") -> tìm được | W72: #N/A | AR72: Học nâng cao trình độ | AV72: Cao đẳng | AW72: Đồng ý | AX72: Đồng ý | AY72: Đồng ý phần nào | AZ72: Thực tập/ thực hành tại doanh nghiệp | BD72: Đồng ý | BE72: Đồng ý
A73: 73 | B73: 12A304031 | C73: Nguyễn | D73: Viết | E73: Huy | G73: Kế toán doanh nghiệp | H73: =VLOOKUP(G73,Sheet1!$A$22:$B$35,2) -> Kế toán doanh nghiệp | I73: Trung cấp nghề | J73: Nam | K73: =IF(AND(J73="Nữ",OR(N73="Khá",N73="Giỏi")),"học bổng") -> FALSE | L73: 1994 | M73: =2018-L73:L552 -> 24 | O73: A1.Làm công ăn lương | Q73: =IF(AND(J73="Nữ", N73="Khá"),"tìm được","bỏ qua") -> bỏ qua | S73: Công nghiệp khai thác | V73: 1-3 tháng | W73: Do trường giới thiệu | Y73: Tốt | Z73: Rất tốt | AA73: Có liên quan/Close related | AC73: 4-6 triệu | AD73: 200-300 người | AE73: Có | AF73: 2-4 tuần | AG73: Khác (ghi rõ) | AH73: Nhân viên chính thức | AI73: Có | AK73: Cao đẳng | AW73: Đồng ý | AX73: Đồng ý | AY73: Đồng ý | AZ73: Cơ sở vật chất (phòng học, thư việnv.v.) | BD73: Hoàn toàn đồng ý | BE73: Hoàn toàn đồng ý
A74: 74 | B74: 12A304033 | C74: Lưu | D74: Nhật | E74: Linh | G74: Kế toán doanh nghiệp | H74: =VLOOKUP(G74,Sheet1!$A$22:$B$35,2) -> Kế toán doanh nghiệp | I74: Trung cấp nghề | J74: Nữ | K74: =IF(AND(J74="Nữ",OR(N74="Khá",N74="Giỏi")),"học bổng") -> học bổng | L74: 1997 | M74: =2018-L74:L553 -> 21 | N74: Khá | O74: C.Không tìm được việc làm | Q74: =IF(AND(J74="Nữ", N74="Khá"),"tìm được","bỏ qua") -> tìm được | W74: #N/A | AW74: Đồng ý | AX74: Đồng ý | AY74: Đồng ý phần nào | AZ74: Phương pháp giảng dạy của giáo viên | BD74: Đồng ý | BE74: Đồng ý
A75: 75 | B75: 12A304034 | C75: Trần | D75: Thị | E75: Lộc | G75: Kế toán doanh nghiệp | H75: =VLOOKUP(G75,Sheet1!$A$22:$B$35,2) -> Kế toán doanh nghiệp | I75: Trung cấp nghề | J75: Nữ | K75: =IF(AND(J75="Nữ",OR(N75="Khá",N75="Giỏi")),"học bổng") -> FALSE | L75: 1996 | M75: =2018-L75:L554 -> 22 | N75: Trung bình khá | O75: A1.Làm công ăn lương | Q75: =IF(AND(J75="Nữ", N75="Khá"),"tìm được","bỏ qua") -> bỏ qua | S75: Công nghiệp chế biến | V75: 1-3 tháng | W75: Do trường giới thiệu | Y75: Tốt | Z75: Tốt | AA75: Có liên quan/Close related | AC75: 4-6 triệu | AD75: Trên 300 người | AE75: Có | AF75: 4-6 tuần | AG75: Khác (ghi rõ) | AH75: Nhân viên chính thức | AI75: Không | AW75: Đồng ý | AX75: Đồng ý | AY75: Đồng ý phần nào | AZ75: Cơ sở vật chất (phòng học, thư việnv.v.) | BD75: Đồng ý phần nào | BE75: Đồng ý
A76: 76 | B76: 12A304107 | C76: Nguyễn | D76: Thị Bích | E76: Ngọc | G76: Kế toán doanh nghiệp | H76: =VLOOKUP(G76,Sheet1!$A$22:$B$35,2) -> Kế toán doanh nghiệp | I76: Trung cấp nghề | J76: Nữ | K76: =IF(AND(J76="Nữ",OR(N76="Khá",N76="Giỏi")),"học bổng") -> FALSE | L76: 1989 | M76: =2018-L76:L555 -> 29 | O76: A1.Làm công ăn lương | Q76: =IF(AND(J76="Nữ", N76="Khá"),"tìm được","bỏ qua") -> bỏ qua | S76: Công nghiệp chế biến | V76: Trên 3 tháng | W76: Do trường giới thiệu | Y76: Rất tốt | Z76: Tốt | AA76: Có liên quan/Close related | AC76: 2-4 triệu | AD76: Trên 300 người | AE76: Có | AF76: 2-4 tuần | AG76: Khác (ghi rõ) | AH76: Nhân viên chính thức | AI76: Có | AK76: Cao đẳng | AW76: Đồng ý | AX76: Đồng ý | AY76: Đồng ý | AZ76: Cơ sở vật chất (phòng học, thư việnv.v.) | BD76: Đồng ý | BE76: Đồng ý
A77: 77 | B77: 12A304035 | C77: Nguyễn | D77: Thị | E77: Nguyên | G77: Kế toán doanh nghiệp | H77: =VLOOKUP(G77,Sheet1!$A$22:$B$35,2) -> Kế toán doanh nghiệp | I77: Trung cấp nghề | J77: Nữ | K77: =IF(AND(J77="Nữ",OR(N77="Khá",N77="Giỏi")),"học bổng") -> FALSE | L77: 1996 | M77: =2018-L77:L556 -> 22 | N77: Trung bình khá | O77: A1.Làm công ăn lương | Q77: =IF(AND(J77="Nữ", N77="Khá"),"tìm được","bỏ qua") -> bỏ qua | S77: Thương mại & Dịch vụ (Bán buôn, bán lẻ) | V77: 1-3 tháng | W77: Do trường giới thiệu | Y77: Tốt | Z77: Tốt | AA77: Có liên quan/Close related | AC77: 2-4 triệu | AD77: 200-300 người | AE77: Không | AG77: Khác (ghi rõ) | AH77: Nhân viên chính thức | AI77: Có | AK77: Cao đẳng | AW77: Đồng ý | AX77: Đồng ý | AY77: Đồng ý | BD77: Đồng ý | BE77: Đồng ý
A78: 78 | B78: 12A304037 | C78: Nguyễn | D78: Thị Quỳnh | E78: Như | G78: Kế toán doanh nghiệp | H78: =VLOOKUP(G78,Sheet1!$A$22:$B$35,2) -> Kế toán doanh nghiệp | I78: Trung cấp nghề | J78: Nữ | K78: =IF(AND(J78="Nữ",OR(N78="Khá",N78="Giỏi")),"học bổng") -> FALSE | L78: 1996 | M78: =2018-L78:L557 -> 22 | O78: A1.Làm công ăn lương | Q78: =IF(AND(J78="Nữ", N78="Khá"),"tìm được","bỏ qua") -> bỏ qua | S78: Công nghiệp chế biến | V78: 1-3 tháng | W78: Qua quảng cáo trên báo/đài/TV | Y78: Tốt | Z78: Tốt | AA78: Có liên quan/Close related | AB78: 5500000 | AC78: 4-6 triệu | AD78: Trên 300 người | AE78: Có | AF78: 2-4 tuần | AG78: Khác (ghi rõ) | AH78: Nhân viên chính thức | AI78: Không | AW78: Đồng ý | AX78: Hoàn toàn đồng ý | AY78: Đồng ý | AZ78: Thực tập/ thực hành tại doanh nghiệp | BD78: Đồng ý | BE78: Đồng ý
A79: 79 | B79: 12A304038 | C79: Lê | D79: Thị Bạch | E79: Nữ | G79: Kế toán doanh nghiệp | H79: =VLOOKUP(G79,Sheet1!$A$22:$B$35,2) -> Kế toán doanh nghiệp | I79: Trung cấp nghề | J79: Nữ | K79: =IF(AND(J79="Nữ",OR(N79="Khá",N79="Giỏi")),"học bổng") -> FALSE | L79: 1995 | M79: =2018-L79:L558 -> 23 | O79: A1.Làm công ăn lương | Q79: =IF(AND(J79="Nữ", N79="Khá"),"tìm được","bỏ qua") -> bỏ qua | S79: Công nghiệp chế biến | V79: Dưới 1 tháng | W79: Do trường giới thiệu | Y79: Rất tốt | Z79: Rất tốt | AA79: Có liên quan/Close related | AB79: 5500000 | AC79: 4-6 triệu | AD79: Trên 300 người | AE79: Có | AF79: 2-4 tuần | AG79: Khác (ghi rõ) | AH79: Nhân viên chính thức | AI79: Có | AK79: Cao đẳng | AW79: Đồng ý | AX79: Đồng ý | AY79: Đồng ý | AZ79: Cơ sở vật chất (phòng học, thư việnv.v.) | BD79: Hoàn toàn đồng ý | BE79: Hoàn toàn đồng ý
A80: 80 | B80: 12A304108 | C80: Phan | D80: Hoàng | E80: Phong | G80: Kế toán doanh nghiệp | H80: =VLOOKUP(G80,Sheet1!$A$22:$B$35,2) -> Kế toán doanh nghiệp | I80: Trung cấp nghề | J80: Nam | K80: =IF(AND(J80="Nữ",OR(N80="Khá",N80="Giỏi")),"học bổng") -> FALSE | L80: 1978 | M80: =2018-L80:L559 -> 40 | N80: Khá | O80: A1.Làm công ăn lương | Q80: =IF(AND(J80="Nữ", N80="Khá"),"tìm được","bỏ qua") -> bỏ qua | S80: Nhà hàng, khách sạn và Du lịch | V80: Trên 3 tháng | W80: Do cơ quan dịch vụ việclàm | Y80: Tốt | Z80: Tốt | AA80: Có liên quan/Close related | AB80: 5500000 | AC80: 4-6 triệu | AD80: 10-200 người | AE80: Không | AG80: Khác (ghi rõ) | AH80: Nhân viên chính thức | AI80: Không | AW80: Đồng ý | AX80: Đồng ý | AY80: Đồng ý | AZ80: Tài liệu,chương trình (sách, v.v.) | BD80: Đồng ý | BE80: Đồng ý
A81: 81 | B81: 12A304109 | C81: Lê | D81: Văn | E81: Phú | G81: Kế toán doanh nghiệp | H81: =VLOOKUP(G81,Sheet1!$A$22:$B$35,2) -> Kế toán doanh nghiệp | I81: Trung cấp nghề | J81: Nam | K81: =IF(AND(J81="Nữ",OR(N81="Khá",N81="Giỏi")),"học bổng") -> FALSE | L81: 1996 | M81: =2018-L81:L560 -> 22 | O81: A2.Tự SX-KD | Q81: =IF(AND(J81="Nữ", N81="Khá"),"tìm được","bỏ qua") -> bỏ qua | S81: Thương mại & Dịch vụ (Bán buôn, bán lẻ) | V81: Trước khi TN | W81: Quan hệ cá nhân | Y81: Trung bình | Z81: Tốt | AA81: Liên quan/Related | AC81: 4-6 triệu | AD81: 2-10người | AE81: Không | AG81: Cán bộ quản lý (chuyên trách) | AI81: Không | AW81: Đồng ý | AX81: Đồng ý | AY81: Đồng ý phần nào | AZ81: Tài liệu,chương trình (sách, v.v.) | BD81: Đồng ý phần nào | BE81: Đồng ý phần nào
A82: 82 | B82: 12A304039 | C82: Trịnh | D82: Kiều Mỹ | E82: Quyên | G82: Kế toán doanh nghiệp | H82: =VLOOKUP(G82,Sheet1!$A$22:$B$35,2) -> Kế toán doanh nghiệp | I82: Trung cấp nghề | J82: Nữ | K82: =IF(AND(J82="Nữ",OR(N82="Khá",N82="Giỏi")),"học bổng") -> học bổng | L82: 1997 | M82: =2018-L82:L561 -> 21 | N82: Khá | O82: A1.Làm công ăn lương | Q82: =IF(AND(J82="Nữ", N82="Khá"),"tìm được","bỏ qua") -> tìm được | S82: Công nghiệp chế biến | V82: Dưới 1 tháng | W82: Qua quảng cáo trên báo/đài/TV | Y82: Tốt | Z82: Tốt | AA82: Liên quan/Related | AC82: 4-6 triệu | AD82: Trên 300 người | AF82: Dưới 2 tuần | AG82: Khác (ghi rõ) | AH82: Nhân viên chính thức | AI82: Có | AK82: Cao đẳng | AW82: Đồng ý | AX82: Đồng ý | AY82: Đồng ý | AZ82: Cơ sở vật chất (phòng học, thư việnv.v.) | BD82: Đồng ý | BE82: Đồng ý
A83: 83 | B83: 12A304040 | C83: Phạm | D83: Văn | E83: Sơn | G83: Kế toán doanh nghiệp | H83: =VLOOKUP(G83,Sheet1!$A$22:$B$35,2) -> Kế toán doanh nghiệp | I83: Trung cấp nghề | J83: Nam | K83: =IF(AND(J83="Nữ",OR(N83="Khá",N83="Giỏi")),"học bổng") -> FALSE | L83: 1992 | M83: =2018-L83:L562 -> 26 | O83: A1.Làm công ăn lương | Q83: =IF(AND(J83="Nữ", N83="Khá"),"tìm được","bỏ qua") -> bỏ qua | S83: Thương mại & Dịch vụ (Bán buôn, bán lẻ) | V83: Trên 3 tháng | W83: Qua quảng cáo trên báo/đài/TV | Y83: Tốt | Z83: Trung bình | AA83: Liên quan/Related | AC83: 2-4 triệu | AD83: Trên 300 người | AE83: Có | AF83: Dưới 2 tuần | AG83: Khác (ghi rõ) | AH83: Nhân viên chính thức | AI83: Có | AK83: Cao đẳng | AW83: Đồng ý phần nào | AX83: Đồng ý | AY83: Đồng ý | AZ83: Cơ sở vật chất (phòng học, thư việnv.v.) | BD83: Đồng ý | BE83: Đồng ý
A84: 84 | B84: NĐ32QTA046 | C84: Vũ | D84: Hoàng | E84: Anh | G84: Quản trị doanh nghiệp | H84: =VLOOKUP(G84,Sheet1!$A$22:$B$35,2) -> Quản trị doanh nghiệp | I84: Cao đẳng nghề | J84: Nam | K84: =IF(AND(J84="Nữ",OR(N84="Khá",N84="Giỏi")),"học bổng") -> FALSE | L84: 1993 | M84: =2018-L84:L563 -> 25 | N84: Trung bình | O84: A1.Làm công ăn lương | Q84: =IF(AND(J84="Nữ", N84="Khá"),"tìm được","bỏ qua") -> bỏ qua | S84: Công nghiệp chế biến | V84: 1-3 tháng | W84: Do cơ quan dịch vụ việclàm | Y84: Tốt | Z84: Tốt | AA84: Có liên quan/Close related | AC84: 4-6 triệu | AD84: 10-200 người | AE84: Không | AG84: Khác (ghi rõ) | AH84: Nhân viên chính thức | AJ84: Quản trị | AK84: Đại học | AW84: Đồng ý | AX84: Đồng ý phần nào | AY84: Đồng ý | AZ84: Thực tập/ thực hành tại doanh nghiệp | BD84: Đồng ý | BE84: Đồng ý
A85: 85 | B85: NĐ32QTA047 | C85: Nguyễn | D85: Minh | E85: Chiến | G85: Quản trị doanh nghiệp | H85: =VLOOKUP(G85,Sheet1!$A$22:$B$35,2) -> Quản trị doanh nghiệp | I85: Cao đẳng nghề | J85: Nam | K85: =IF(AND(J85="Nữ",OR(N85="Khá",N85="Giỏi")),"học bổng") -> FALSE | L85: 1990 | M85: =2018-L85:L564 -> 28 | N85: Trung bình khá | O85: A1.Làm công ăn lương | Q85: =IF(AND(J85="Nữ", N85="Khá"),"tìm được","bỏ qua") -> bỏ qua | S85: Công nghiệp chế biến | U85: 48h | V85: Trên 3 tháng | W85: Hội chợ việc làm | Y85: Tốt | Z85: Trung bình | AA85: Liên quan/Related | AC85: 4-6 triệu | AD85: 10-200 người | AE85: Không | AI85: Không | AJ85: Quản trị | AW85: Đồng ý | AX85: Đồng ý | AY85: Hoàn toàn đồng ý | AZ85: Thực tập/ thực hành tại doanh nghiệp | BD85: Hoàn toàn đồng ý | BE85: Hoàn toàn đồng ý
A86: 86 | B86: NĐ32QTA048 | C86: Lê | D86: Thị | E86: Đào | G86: Quản trị doanh nghiệp | H86: =VLOOKUP(G86,Sheet1!$A$22:$B$35,2) -> Quản trị doanh nghiệp | I86: Cao đẳng nghề | J86: Nữ | K86: =IF(AND(J86="Nữ",OR(N86="Khá",N86="Giỏi")),"học bổng") -> FALSE | L86: 1989 | M86: =2018-L86:L565 -> 29 | N86: Trung bình khá | O86: A1.Làm công ăn lương | Q86: =IF(AND(J86="Nữ", N86="Khá"),"tìm được","bỏ qua") -> bỏ qua | S86: Thương mại & Dịch vụ (Bán buôn, bán lẻ) | U86: 48h | V86: 1-3 tháng | W86: Quan hệ cá nhân | Y86: Tốt | Z86: Tốt | AA86: Có liên quan/Close related | AC86: 4-6 triệu | AD86: 10-200 người | AE86: Không | AG86: Khác (ghi rõ) | AH86: Nhân viên chính thức | AJ86: Quản trị | AK86: Đại học | AW86: Đồng ý | AX86: Đồng ý | AY86: Đồng ý | AZ86: Cơ sở vật chất (phòng học, thư việnv.v.) | BD86: Đồng ý | BE86: Đồng ý
A87: 87 | B87: NĐ32QTA232 | C87: Nguyễn | D87: Thị | E87: Hà | G87: Quản trị doanh nghiệp | H87: =VLOOKUP(G87,Sheet1!$A$22:$B$35,2) -> Quản trị doanh nghiệp | I87: Cao đẳng nghề | J87: Nữ | K87: =IF(AND(J87="Nữ",OR(N87="Khá",N87="Giỏi")),"học bổng") -> FALSE | L87: 1994 | M87: =2018-L87:L566 -> 24 | N87: Trung bình khá | O87: A1.Làm công ăn lương | Q87: =IF(AND(J87="Nữ", N87="Khá"),"tìm được","bỏ qua") -> bỏ qua | S87: Thương mại & Dịch vụ (Bán buôn, bán lẻ) | U87: 48h | V87: 1-3 tháng | W87: Hội chợ việc làm | Y87: Tốt | Z87: Tốt | AA87: Có liên quan/Close related | AC87: 4-6 triệu | AD87: 10-200 người | AE87: Không | AG87: Khác (ghi rõ) | AH87: Nhân viên chính thức | AI87: Có | AJ87: Quản trị | AK87: Đại học | AW87: Đồng ý | AX87: Đồng ý | AY87: Đồng ý | AZ87: Thực tập/ thực hành tại doanh nghiệp | BD87: Đồng ý | BE87: Đồng ý
A88: 88 | B88: NĐ32QTA233 | C88: Lê | D88: Sơn | E88: Hải | G88: Quản trị doanh nghiệp | H88: =VLOOKUP(G88,Sheet1!$A$22:$B$35,2) -> Quản trị doanh nghiệp | I88: Cao đẳng nghề | J88: Nam | K88: =IF(AND(J88="Nữ",OR(N88="Khá",N88="Giỏi")),"học bổng") -> FALSE | L88: 1991 | M88: =2018-L88:L567 -> 27 | N88: Trung bình khá | O88: A2.Tự SX-KD | S88: Công nghiệp chế biến | U88: 48h | V88: Trên 3 tháng | W88: Quan hệ cá nhân | Y88: Tốt | Z88: Tốt | AA88: Có liên quan/Close related | AC88: 4-6 triệu | AD88: 200-300 người | AE88: Có | AF88: Trên 8 tuần | AG88: Cán bộ quản lý (chuyên trách) | AI88: Không | AJ88: Quản trị | AW88: Đồng ý | AX88: Đồng ý | AY88: Đồng ý | AZ88: Trang thiết bị (máy móc, công cụ, v.v.) | BD88: Đồng ý | BE88: Đồng ý
A89: 89 | B89: NĐ32QTA049 | C89: Nguyễn | D89: Thị | E89: Hải | G89: Quản trị doanh nghiệp | H89: =VLOOKUP(G89,Sheet1!$A$22:$B$35,2) -> Quản trị doanh nghiệp | I89: Cao đẳng nghề | J89: Nữ | K89: =IF(AND(J89="Nữ",OR(N89="Khá",N89="Giỏi")),"học bổng") -> học bổng | L89: 1993 | M89: =2018-L89:L568 -> 25 | N89: Khá | O89: A1.Làm công ăn lương | S89: Công nghiệp chế biến | U89: 48h | V89: 1-3 tháng | W89: Hội chợ việc làm | Y89: Tốt | Z89: Tốt | AA89: Có liên quan/Close related | AB89: 7000000 | AC89: 6-8 triệu | AD89: 200-300 người | AE89: Không | AG89: Khác (ghi rõ) | AH89: Nhân viên chính thức | AI89: Có | AJ89: Quản trị | AK89: Đại học | AW89: Đồng ý | AX89: Đồng ý | AY89: Đồng ý | AZ89: Trang thiết bị (máy móc, công cụ, v.v.) | BD89: Đồng ý | BE89: Đồng ý
A90: 90 | B90: NĐ32QTA050 | C90: Lê | D90: Hải | E90: Huân | G90: Quản trị doanh nghiệp | H90: =VLOOKUP(G90,Sheet1!$A$22:$B$35,2) -> Quản trị doanh nghiệp | I90: Cao đẳng nghề | J90: Nam | K90: =IF(AND(J90="Nữ",OR(N90="Khá",N90="Giỏi")),"học bổng") -> FALSE | L90: 1985 | M90: =2018-L90:L569 -> 33 | N90: Khá | O90: A1.Làm công ăn lương | S90: Xây dựng | U90: 48h | V90: 1-3 tháng | W90: Do trường giới thiệu | Y90: Tốt | Z90: Tốt | AA90: Có liên quan/Close related | AB90: 5500000 | AC90: 4-6 triệu | AD90: 10-200 người | AE90: Không | AG90: Khác (ghi rõ) | AH90: Nhân viên chính thức | AI90: Có | AJ90: Quản trị | AK90: Đại học | AW90: Đồng ý | AX90: Đồng ý | AY90: Đồng ý | AZ90: Thực tập/ thực hành tại doanh nghiệp | BD90: Đồng ý | BE90: Đồng ý
A91: 91 | B91: NĐ32QTA051 | C91: Lê | D91: Quốc | E91: Hùng | G91: Quản trị doanh nghiệp | H91: =VLOOKUP(G91,Sheet1!$A$22:$B$35,2) -> Quản trị doanh nghiệp | I91: Cao đẳng nghề | J91: Nam | K91: =IF(AND(J91="Nữ",OR(N91="Khá",N91="Giỏi")),"học bổng") -> FALSE | L91: 1994 | M91: =2018-L91:L570 -> 24 | N91: Trung bình khá | O91: A1.Làm công ăn lương | S91: Công nghiệp khai thác | U91: 48h | V91: 1-3 tháng | W91: Qua quảng cáo trên Internet | Y91: Tốt | Z91: Tốt | AA91: Liên quan/Related | AB91: 5500000 | AC91: 4-6 triệu | AD91: Trên 300 người | AE91: Không | AG91: Khác (ghi rõ) | AH91: Nhân viên chính thức | AI91: Không | AJ91: Quản trị | AW91: Đồng ý | AX91: Đồng ý | AY91: Đồng ý | AZ91: Thực tập/ thực hành tại doanh nghiệp | BD91: Đồng ý | BE91: Đồng ý
A92: 92 | B92: NĐ32QTA052 | C92: Nguyễn | D92: Mạnh | E92: Hùng | G92: Quản trị doanh nghiệp | H92: =VLOOKUP(G92,Sheet1!$A$22:$B$35,2) -> Quản trị doanh nghiệp | I92: Cao đẳng nghề | J92: Nam | K92: =IF(AND(J92="Nữ",OR(N92="Khá",N92="Giỏi")),"học bổng") -> FALSE | L92: 1989 | M92: =2018-L92:L571 -> 29 | N92: Khá | O92: A1.Làm công ăn lương | S92: Thương mại & Dịch vụ (Bán buôn, bán lẻ) | V92: 1-3 tháng | W92: Qua quảng cáo trên Internet | Y92: Trung bình | Z92: Trung bình | AA92: Có liên quan/Close related | AB92: 5500000 | AC92: 4-6 triệu | AD92: 200-300 người | AE92: Có | AF92: 4-6 tuần | AG92: Khác (ghi rõ) | AH92: Nhân viên chính thức | AI92: Không | AJ92: Quản trị | AW92: Đồng ý | AX92: Đồng ý | AY92: Đồng ý | AZ92: Thực tập/ thực hành tại doanh nghiệp | BD92: Đồng ý | BE92: Đồng ý
A93: 93 | B93: NĐ31QTA095 | C93: Thu | D93: Đình | E93: Khang | G93: Quản trị doanh nghiệp | H93: =VLOOKUP(G93,Sheet1!$A$22:$B$35,2) -> Quản trị doanh nghiệp | I93: Cao đẳng nghề | J93: Nam | K93: =IF(AND(J93="Nữ",OR(N93="Khá",N93="Giỏi")),"học bổng") -> FALSE | L93: 1993 | M93: =2018-L93:L572 -> 25 | N93: Khá | O93: A1.Làm công ăn lương | S93: Công nghiệp chế biến | U93: 48h | V93: 1-3 tháng | W93: Qua quảng cáo trên báo/đài/TV | Y93: Tốt | Z93: Tốt | AA93: Liên quan/Related | AB93: 5500000 | AC93: 4-6 triệu | AD93: 200-300 người | AE93: Có | AF93: 2-4 tuần | AG93: Khác (ghi rõ) | AH93: Nhân viên chính thức | AI93: Không | AJ93: Quản trị | AW93: Đồng ý | AX93: Đồng ý | AY93: Đồng ý | AZ93: Thực tập/ thực hành tại doanh nghiệp | BD93: Đồng ý | BE93: Đồng ý
A94: 94 | B94: NĐ32QTA054 | C94: Triệu | D94: Văn | E94: Khánh | G94: Quản trị doanh nghiệp | H94: =VLOOKUP(G94,Sheet1!$A$22:$B$35,2) -> Quản trị doanh nghiệp | I94: Cao đẳng nghề | J94: Nam | K94: =IF(AND(J94="Nữ",OR(N94="Khá",N94="Giỏi")),"học bổng") -> FALSE | L94: 1990 | M94: =2018-L94:L573 -> 28 | N94: Trung bình khá | O94: A1.Làm công ăn lương | S94: Thương mại & Dịch vụ (Bán buôn, bán lẻ) | U94: 48h | V94: Trên 3 tháng | W94: Qua quảng cáo trên báo/đài/TV | Y94: Trung bình | Z94: Trung bình | AA94: Có liên quan/Close related | AB94: 5500000 | AC94: 4-6 triệu | AD94: 10-200 người | AE94: Có | AF94: 4-6 tuần | AG94: Khác (ghi rõ) | AH94: Nhân viên chính thức | AI94: Không | AJ94: Quản trị | AW94: Đồng ý phần nào | AX94: Đồng ý phần nào | AY94: Đồng ý phần nào | AZ94: Thực tập/ thực hành tại doanh nghiệp | BD94: Đồng ý phần nào | BE94: Đồng ý phần nào
A95: 95 | B95: NĐ32QTA055 | C95: Vũ | D95: Thanh | E95: Lâm | G95: Quản trị doanh nghiệp | H95: =VLOOKUP(G95,Sheet1!$A$22:$B$35,2) -> Quản trị doanh nghiệp | I95: Cao đẳng nghề | J95: Nam | K95: =IF(AND(J95="Nữ",OR(N95="Khá",N95="Giỏi")),"học bổng") -> FALSE | L95: 1988 | M95: =2018-L95:L574 -> 30 | N95: Trung bình khá | O95: A1.Làm công ăn lương | S95: Công nghiệp khai thác | U95: 48h | V95: 1-3 tháng | W95: Do cơ quan dịch vụ việclàm | Y95: Tốt | Z95: Tốt | AA95: Liên quan/Related | AB95: 5500000 | AC95: 4-6 triệu | AD95: 200-300 người | AE95: Có | AF95: 6-8 tuần | AG95: Khác (ghi rõ) | AH95: Nhân viên chính thức | AI95: Có | AJ95: Quản trị | AK95: Đại học | AW95: Đồng ý | AX95: Đồng ý | AY95: Đồng ý | AZ95: Thực tập/ thực hành tại doanh nghiệp | BD95: Đồng ý | BE95: Đồng ý
A96: 96 | B96: NĐ32QTA057 | C96: Nguyễn | D96: Minh | E96: Long | G96: Quản trị doanh nghiệp | H96: =VLOOKUP(G96,Sheet1!$A$22:$B$35,2) -> Quản trị doanh nghiệp | I96: Cao đẳng nghề | J96: Nam | K96: =IF(AND(J96="Nữ",OR(N96="Khá",N96="Giỏi")),"học bổng") -> FALSE | L96: 1990 | M96: =2018-L96:L575 -> 28 | N96: Trung bình khá | O96: A1.Làm công ăn lương | S96: Công nghiệp chế biến | U96: 48h | V96: Dưới 1 tháng | W96: Do trường giới thiệu | Y96: Tốt | Z96: Tốt | AA96: Có liên quan/Close related | AB96: 5500000 | AC96: 4-6 triệu | AD96: 200-300 người | AE96: Có | AF96: 6-8 tuần | AG96: Khác (ghi rõ) | AH96: Nhân viên chính thức | AI96: Không | AJ96: Quản trị | AW96: Đồng ý | AX96: Đồng ý | AY96: Đồng ý phần nào | AZ96: Thực tập/ thực hành tại doanh nghiệp | BD96: Đồng ý | BE96: Đồng ý
A97: 97 | B97: NĐ32QTA058 | C97: Vũ | D97: Văn | E97: Luyện | G97: Quản trị doanh nghiệp | H97: =VLOOKUP(G97,Sheet1!$A$22:$B$35,2) -> Quản trị doanh nghiệp | I97: Cao đẳng nghề | J97: Nam | K97: =IF(AND(J97="Nữ",OR(N97="Khá",N97="Giỏi")),"học bổng") -> FALSE | L97: 1988 | M97: =2018-L97:L576 -> 30 | N97: Khá | O97: A1.Làm công ăn lương | S97: Thương mại & Dịch vụ (Bán buôn, bán lẻ) | V97: 1-3 tháng | W97: Qua quảng cáo trên Internet | Y97: Tốt | Z97: Tốt | AA97: Liên quan/Related | AB97: 7000000 | AC97: 6-8 triệu | AD97: 10-200 người | AE97: Không | AI97: Có | AJ97: Quản trị | AK97: Đại học | AW97: Đồng ý | AX97: Đồng ý | AY97: Đồng ý | AZ97: Thực tập/ thực hành tại doanh nghiệp | BD97: Đồng ý | BE97: Đồng ý
A98: 98 | B98: NĐ32QTA060 | C98: Trần | D98: Bích | E98: Ngọc | G98: Quản trị doanh nghiệp | H98: =VLOOKUP(G98,Sheet1!$A$22:$B$35,2) -> Quản trị doanh nghiệp | I98: Cao đẳng nghề | J98: Nữ | K98: =IF(AND(J98="Nữ",OR(N98="Khá",N98="Giỏi")),"học bổng") -> FALSE | L98: 1994 | M98: =2018-L98:L577 -> 24 | N98: Trung bình khá | O98: A1.Làm công ăn lương | S98: Thương mại & Dịch vụ (Bán buôn, bán lẻ) | U98: 48h | V98: Trên 3 tháng | W98: Quan hệ cá nhân | Y98: Tốt | Z98: Trung bình | AA98: Có liên quan/Close related | AC98: 6-8 triệu | AD98: 10-200 người | AE98: Không | AG98: Khác (ghi rõ) | AH98: Nhân viên chính thức | AI98: Có | AJ98: Quản trị | AK98: Đại học | AW98: Hoàn toàn đồng ý | AX98: Đồng ý | AY98: Đồng ý | AZ98: Tài liệu,chương trình (sách, v.v.) | BD98: Đồng ý | BE98: Đồng ý
A99: 99 | B99: NĐ32CGA197 | C99: Lý | D99: Văn | E99: Bình | G99: Cắt gọt kim loại | H99: =VLOOKUP(G99,Sheet1!$A$22:$B$35,2) -> Cắt gọt kim loại | I99: Cao đẳng nghề | J99: Nam | K99: =IF(AND(J99="Nữ",OR(N99="Khá",N99="Giỏi")),"học bổng") -> FALSE | L99: 1988 | M99: =2018-L99:L578 -> 30 | O99: A1.Làm công ăn lương | U99: 48h | V99: Trên 3 tháng | W99: Quan hệ cá nhân | Y99: Tốt | Z99: Tốt | AA99: Liên quan | AC99: 4-6 triệu | AD99: Trên 300 người | AE99: Không | AG99: Khác (ghi rõ) | AH99: NV chính thức | AW99: Đồng ý | AX99: Đồng ý | AY99: Đồng ý | AZ99: Trang thiết bị (máy móc, công cụ, v.v.) | BA99: Cơ sở vật chất (phòng học, thư việnv.v.) | BB99: Thực tập/ thực hành tại doanh nghiệp | BD99: Đồng ý phần nào | BE99: Đồng ý
A100: 100 | B100: NĐ32CGA205 | C100: Đặng | D100: Thanh | E100: Hải | G100: Cắt gọt kim loại | H100: =VLOOKUP(G100,Sheet1!$A$22:$B$35,2) -> Cắt gọt kim loại | I100: Cao đẳng nghề | J100: Nam | K100: =IF(AND(J100="Nữ",OR(N100="Khá",N100="Giỏi")),"học bổng") -> FALSE | L100: 1994 | M100: =2018-L100:L579 -> 24 | O100: A1.Làm công ăn lương | S100: Công nghiệp chế biến | T100: Cơ khí | U100: 72h | V100: 1-3 tháng | W100: Quan hệ cá nhân | Y100: Tốt | Z100: Tốt | AA100: Có liên quan | AC100: 4-6 triệu | AD100: Trên 300 người | AE100: Không | AG100: Khác (ghi rõ) | AH100: NV chính thức | AW100: Đồng ý | AX100: Đồng ý | AY100: Đồng ý | AZ100: Trang thiết bị (máy móc, công cụ, v.v.) | BA100: Cơ sở vật chất (phòng học, thư việnv.v.) | BB100: Thực tập/ thực hành tại doanh nghiệp | BD100: Đồng ý phần nào | BE100: Đồng ý
...

Sheet options
B1: school | C1: gender | D1: employment | E1: employment after graduation | F1: jobfind | G1: salary | H1: timetraining | I1: vitri | J1: sector | K1: jobreason | L1: jobapply | M1: lydo | N1: improvement | Q1: yesno | R1: agreement | S1: perception | T1: rankcert | U1: Related | V1: Number | W1: level | X1: schooling | Y1: vt_level | Z1: vt_place | AA1: fe_cert | AB1: Yesno2
B2: 1.NI_CĐ Kỹ thuật Công nghệ LILAMA 2 | C2: Nam | D2: A1.Làm công ăn lương | E2: Trước khi TN | F2: Do trường giới thiệu/placement by vocational training institute | G2: <Dưới 2 triệu | H2: Dưới 2 tuần | I2: Nhân viên trong thời gian thử việc (thợ học việc | J2: Nông - lâm - ngư nghiệp | K2: Không tìm được việc làm -Could not find a job | L2: CV phù hợp với nghề/related | M2: Ngành nghề được đào tạo đang dư thừa lao động trên thị trường | N2: Tài liệu,chương trình (sách, v.v.) | Q2: Có | R2: Hoàn toàn đồng ý | S2: Rất tốt | T2: Trung bình | U2: Có liên quan | V2: 1 người | W2: Đại học | X2: TN tiểu học | Y2: Sơ cấp nghề | Z2: Trung tâm dạy nghề | AA2: Đại học | AB2: Rồi
B3: 2.NI_CĐN Bách Nghệ Hải Phòng | C3: Nữ | D3: A2.Tự SX-KD | E3: Dưới 1 tháng | F3: Do cơ quan dịch vụ việclàm/placement by a job agency | G3: 2-4 triệu | H3: 2-4 tuần | I3: Nhân viên chính thức | J3: Công nghiệp khai thác | K3: Đi học tiếp-further education | L3: CV không liên quan đến nghề/unrelated | M3: Kỹ năng nghề không đáp ứng được yêu cầu công việc | N3: Trang thiết bị (máy móc, công cụ, v.v.) | Q3: Không | R3: Đồng ý | S3: Tốt | T3: Trung bình khá | U3: Liên quan | V3: 2-10người | W3: Cao đẳng | X3: TN trung học cơ sở | Y3: Trung cấp nghề | Z3: Trung cấp nghề | AA3: Cao đẳng | AB3: Chưa
B4: 3.NI_CĐN Đồng Nai | D4: B1.Vừa học vừa làm | E4: 1-3 tháng | F4: Qua quảng cáo trên báo/đài/TV_ Job advertisement in newspaper / radio / TV | G4: 4-6 triệu | H4: 4-6 tuần | I4: Kỹ thuật viên kiêm tổ trưởng | J4: Công nghiệp chế biến | K4: Khác, ghi cụ thể -other | L4: Cả 2 công việc trên | M4: Ngoại ngữ không đạt | N4: Cơ sở vật chất (phòng học, thư việnv.v.) | R4: Đồng ý phần nào | S4: Trung bình | T4: Khá | U4: Không liên quan | V4: 10-200 người | W4: Trung cấp | X4: TN/ trung học phổ thông | Y4: Cao đẳng nghề | Z4: Cao đẳng nghề | AA4: Trung cấp
B5: 4.NI_CĐN Công nghiệp Hải Phòng | D5: B2.Đang đi học | E5: Trên 3 tháng | F5: Quan hệ cá nhân -personal contacts (family, friends) | G5: 6-8 triệu | H5: 6-8 tuần | I5: Cán bộ quản lý (chuyên trách) | J5: Xây dựng | M5: Trình độ máy tính không đạt | N5: Thực tập/ thực hành tại doanh nghiệp | R5: Không đồng ý | S5: Kém | T5: Giỏi | V5: 200-300 người | W5: Khác | X5: TN cao đẳng | Y5: Giấy chứng nhận học nghề hướng nghiệp/job -guidance certificate | Z5: Cơ sở dạy nghề khác | AA5: Khác/other | AB5: Rồi/yes
B6: 5.NI_CĐ Cơ khí Nông nghiệp Vĩnh Phúc | D6: C.Không tìm được việc làm | F6: Qua quảng cáo trên Internet -job advertisement in the internet | G6: > Trên 8 triệu | H6: Trên 8 tuần | I6: Khác (ghi rõ) | J6: Sản xuất, phân phối điện, ga, nước | M6: Thiếu kinh nghiệm làm việc | N6: Phương pháp giảng dạy của giáo viên | R6: Hoàn toàn không đồng ý | S6: Rất kém | T6: Xuất sắc | V6: Trên 300 người | X6: TN đại học | Y6: Khác | AB6: Chưa/not yet
B7: 6.NI_CĐN Kỹ thuật Công nghệ Hà Nội | D7: D.Khác | F7: Hội chợ việc làm - job fare | J7: Thương mại & Dịch vụ (Bán buôn, bán lẻ) | M7: Thiếu thông tin về việc làm | N7: Kỹ năng thực hành của giáo viên | X7: Khác | AC7: :
B8: 7.NI_CĐN Hồ Chí Minh | F8: Khác, ghi cụ thể - Other, please specify: | J8: Nhà hàng, khách sạn và Du lịch | M8: Lý do khác | N8: Khác | S8: Rất tốt/very good | X8: TN tiểu học | Y8: Sơ cấp nghề | Z8: Trung tâm dạy nghề/VT Center | AA8: Đại học/university | AC8: lydohocnghe
B9: 1.PVT_Trung cấp nghề Ninh Thuận | J9: Thông tin liên lạc, Công nghệ thông tin | S9: Tốt/Good | T9: Trung bình/pass | X9: TN trung học cơ sở/lower secondary | Y9: Trung cấp nghề/secondary VT | Z9: Trung cấp nghề/Secondary VT School | AA9: Cao đẳng/college | AC9: Học nâng cao trình độ
B10: 2.PVT_Cao đẳng nghề công nghiệp Việt Bắc Vinacomin | D10: CapTD | J10: Giao thông vận tải | Q10: Có/Yes | R10: Hoàn toàn đồng ý/strongly agree | S10: Trung bình/average | T10: Trung bình khá/pass plus | X10: TN/ trung học phổ thông/upper secondary | Y10: Cao đẳng nghề/technical college training | Z10: Cao đẳng nghề/VT College | AA10: Trung cấp/secondary | AC10: Học nghề mới do không tìm được việc làm theo nghề đã học
B11: 4.PVT_Cao đẳng nghề kinh tế kỹ thuật Bắc Ninh | D11: Trung cấp nghề | H11: Dưới 2 tuần/<2 weeks | J11: Giáo dục / đào tạo | Q11: Không/No | R11: Đồng ý/agree | S11: Kém/bad | T11: Khá/good | X11: TN cao đẳng/college | Y11: Giấy chứng nhận học nghề hướng nghiệp/job -guidance certificate | Z11: Cơ sở dạy nghề khác/Other training institution | AA11: Khác/other | AC11: Học nghề mới do muốn làm công việc khác với nghề đã học
B12: 3.PVT_Trường Cao đẳng nghề Long An | D12: Cao đẳng nghề | H12: 2-5 tuần/2-5 weeks | J12: Khác, ghi cụ thể | M12: Ngành nghề được đào tạo đang dư thừa lao động trên thị trường | R12: Đồng ý phần nào/somewhat agree | S12: Rất kém/very bad | T12: Giỏi/very good | X12: TN đại học/university | Y12: Khác/other | AC12: Lý do khác
B13: 5.PVT_Cao đẳng nghề An Giang | H13: 1-2 tháng/1-2 months | R13: Không đồng ý/disagree | T13: Xuất sắc/excellent | X13: Khác/other
B14: 6.CG_Cơ điện Luyện Kim Thái Nguyên | H14: 2-5 tháng/2 – 5 months | R14: Hoàn toàn không đồng ý/ strongly disagree
B15: 7.CG_Kinh tế-Công nghệ LADEC | H15: Trên 5 tháng/> 5 months | M15: LydokoVL
B16: 8.CG_TCN KT-KT Công đoàn An Giang | M16: Vì không tìm được bất cứ việc làm nào
B17: 9.CG_CĐN Cơ điện Xây dựng Bắc Ninh | I17: N) | J17: Giáo dục/đào tạo-Education/ training | M17: Vì không tìm được việc làm đúng với ngành nghề được đào tạo | R17: Tài liệu- learning materials
B18: 10.OI_CĐN Nguyễn Tất Thành | I18: Nhân viên chính thức (đã được ký hợp đồng lao động) | J18: Xây dựng -construction | M18: Lý do khác | R18: Trang thiết bị-equipment
B19: 12.OI_CĐN Việt - Đức Nghệ An | I19: Kỹ thuật viên kiêm tổ trưởng (trưởng nhóm) làm việc | J19: Dịch vụ (KS, nhà hàng, ngân hàng)-other services | R19: Cơ sở vật chất-facilities
B20: 19.OI_CĐN Việt - Đức Vĩnh Phúc | I20: Cán bộ quản lý (chuyên trách) | J20: Cơ quan nhà nước -state office | R20: Trình độ sư phạm của giáo viên-teachers’ didactic qualification
B21: 13.OI_CĐN Việt - Đức Hà Tĩnh | M21: Đào tạo không đáp ứng yêu cầu công việc- training did not fit job needs | R21: Kiến thức lý thuyết chuyên môn của giáo viên- teachers’ specialized knowledge
B22: 18.OI_CĐ nghề Việt Đức Thái Nguyên | M22: Trình độ ngoại ngữ không đạt- lack of foreign language skills | R22: Kỹ năng thực hành của giáo viên
B23: 14.OI_CĐ Công nghiệp Thanh Hoá | M23: Trình độ máy tính không đạt - lack of computer skills | R23: Thực tập, thực hành tại cơ sở SXKD-internship / practical in-company training
B24: 15.OI_CĐ kỹ thuật công nghiệp Tp. Hồ Chí Minh | M24: Thiếu kinh nghiệm làm việc -lack of working experience
B25: 11.OI_CĐN Nha Trang | M25: Thiếu thông tin về việc làm -lack of information about the job
B26: 16.OI_ĐH SPKT Hưng Yên | M26: Khác, ghi cụ thể -other, please specify:
B27: 17.OI_ĐH SPKT Nam Định
T28: Đối tượng
T29: 1. Dân tộc thiểu số
T30: 2. Hộ nghèo
T31: 3.Đối tượng chính sách
T32: 4. Khác

Sheet plausibility
A1: age
A2: maximum age | B2: 40
A3: minimum age | B3: 14
A4: lower boundary | B4: =TODAY()-DATE(B3,1,1) -> 38184
A5: upper boundary | B5: =TODAY()-DATE(B2,1,1) -> 28688
