Workbook
Name _1.Dân_tộc_thiểu_số: options!$Q$30:$Q$32
Name ABC: options!$AD$1:$AD$4
Name agreement: options!$R$2:$R$6
Name CapTD: options!$D$11:$D$12
Name Doi_tuong: options!$T$29:$T$32
Name Đối_tượng: options!$T$29:$T$32
Name employment: options!$D$2:$D$7
Name employment_after_graduation: options!$E$2:$E$5
Name fe_cert: options!$AA$2:$AA$5
Name future_plans: options!$R$2:$R$3
Name gender: options!$C$2:$C$3
Name hierarchy: options!$I$2:$I$11
Name improvement: options!$N$2:$N$8
Name industry: options!$S$2:$S$8
Name job_training_dur: options!$H$2:$H$6
Name jobapply: options!$L$2:$L$4
Name jobfind: options!$F$2:$F$8
Name jobreason: options!$K$2:$K$4
Name level: options!$W$2:$W$5
Name lydo: options!$M$2:$M$8
Name lydohocnghe: options!$AC$9:$AC$12
Name LydokoVL: options!$M$16:$M$18
Name noacceptreason: options!$M$2:$M$8
Name number: options!$V$2:$V$6
Name perception: options!$S$2:$S$6
Name rankcert: options!$T$2:$T$6
Name related: options!$U$2:$U$4
Name salary: options!$G$2:$G$6
Name School: options!$B$2:$B$27
Name schooling: options!$X$2:$X$7
Name sector: options!$J$2:$J$12
Name Thời_gian_bắt_đầu_công_việc: 'Nhập liệu'!#REF!
Name timetraining: options!$H$2:$H$6
Name University_of_Technical_Education_Hung_Yen: 'Hướng dẫn'!$B$5
Name vt_level: options!$Y$2:$Y$6
Name vt_place: options!$Z$2:$Z$5
Name yesno: options!$Q$2:$Q$3
Name yesno2: options!$AB$2:$AB$3

Sheet Hướng dẫn
A3: Mã Trường | B3: Xin ghi mã trường in trong cuốn Hướng dẫn tuyển sinh
B4: Xin lựa chọn tên trường trong ô dưới đây
B5: 2.NI_CĐN Bách Nghệ Hải Phòng
B9: Một số điểm lưu ý khi nhập liệu
B10: 1. Mã học viên là Mã đã được lưu trong hệ thống quản lý dữ liệu của nhà trường. Nếu chưa có thì nhà trường tự lấy mã
B11: 2. Phần nhập liệu đã được xây dựng để kiểm tra tính logic đối với các câu trả lời của phiếu
B12: Cụ thể là:nếu chọn "Chưa" ở câu 6 sẽ chuyển câu 11
B13: Nếu lựa chọn "Không đi làm" câu 11 sẽ chuyển sang câu 22
B14: Lựa chọn "Đi học tiếp" trong câu 22, sẽ chuyển sang câu 25…
B15: Và các câu khác
B16: Do đó: Không nhập liệu vào ô chuyển sang màu đỏ
B17: 3. Để nhập Ô ngày/tháng/năm sinh theo đúng thứ tự cần cài đặt lại định dạng Thời gian của máy tính thống qua các bước sau:
B18: Vào thanh Start, chọn Setting,
... B27: Các nội dung nhập liệu khác tương tự như trong phần nhập thông tin cơ bản

Sheet Sheet1
A3: Count of Tình trạng việc làm | B3: Column Labels
A4: Row Labels | B4: A1.Làm công ăn lương | C4: A2.Tự SX-KD | D4: B1.Vừa học vừa làm | E4: B2.Đang đi học | F4: C.Không tìm được việc làm | G4: D.Khác | H4: (blank) | I4: Grand Total
A5: Bảo vệ thực vật | B5: 26 | C5: 6 | E5: 5 | G5: 1 | I5: 38
A6: Cắt gọt kim loại | B6: 29 | C6: 1 | F6: 4 | I6: 34
A7: Công nghệ ô tô | B7: 52 | C7: 9 | D7: 14 | E7: 5 | F7: 2 | I7: 82
A8: Điện Công nghiệp | B8: 24 | C8: 5 | E8: 6 | F8: 1 | I8: 36
A9: Điện Công Nghiệp | B9: 74 | C9: 8 | D9: 11 | I9: 93
A10: Kế toán doanh nghiệp | B10: 59 | C10: 16 | D10: 1 | E10: 2 | F10: 7 | I10: 85
A11: KTSCLRMT | B11: 5 | F11: 1 | I11: 6
A12: Kỹ thuật CBMA | B12: 19 | C12: 2 | F12: 3 | I12: 24
A13: Nghiệp vụ nhà hàng | B13: 2 | C13: 2 | E13: 2 | F13: 1 | I13: 7
A14: QT Mạng máy tính | B14: 6 | C14: 1 | F14: 2 | I14: 9
A15: Quản trị doanh nghiệp | B15: 14 | C15: 1 | I15: 15
A16: Quản trị khách sạn | B16: 20 | C16: 4 | E16: 1 | F16: 3 | I16: 28
A17: Quản trị nhà hàng | B17: 6 | F17: 2 | I17: 8
A18: Ứng dụng phần mềm | B18: 12 | E18: 1 | F18: 2 | I18: 15
A19: (blank)
A20: Grand Total | B20: 348 | C20: 55 | D20: 26 | E20: 22 | F20: 28 | G20: 1 | I20: 480
A22: Bảo vệ thực vật | B22: Bảo vệ thực vật
A23: Cắt gọt kim loại | B23: Cắt gọt kim loại
A24: Công nghệ ô tô | B24: Công nghệ ô tô
A25: Điện Công nghiệp | B25: Điện Công Nghiệp
A26: Điện Công Nghiệp | B26: Điện Công Nghiệp
A27: Kế toán doanh nghiệp | B27: Kế toán doanh nghiệp
A28: KTSCLRMT | B28: Kỹ thuật máy tính
A29: Kỹ thuật CBMA | B29: Kỹ thuật CBMA
A30: Nghiệp vụ nhà hàng | B30: Nghiệp vụ nhà hàng
A31: QT Mạng máy tính | B31: QT Mạng máy tính
A32: Quản trị doanh nghiệp | B32: Quản trị doanh nghiệp
A33: Quản trị khách sạn | B33: Quản trị khách sạn - nhà hàng
... A37: Count of Tình trạng việc làm | B37: Column Labels
A38: Row Labels | B38: A1.Làm công ăn lương | C38: A2.Tự SX-KD | D38: B1.Vừa học vừa làm | E38: B2.Đang đi học | F38: C.Không tìm được việc làm | G38: D.Khác | H38: (blank) | I38: Grand Total
A39: Bảo vệ thực vật | B39: 26 | C39: 6 | E39: 5 | G39: 1 | I39: 38
A40: Cắt gọt kim loại | B40: 29 | C40: 1 | F40: 4 | I40: 34
A41: Công nghệ ô tô | B41: 52 | C41: 9 | D41: 14 | E41: 5 | F41: 2 | I41: 82
A42: Điện Công Nghiệp | B42: 98 | C42: 13 | D42: 11 | E42: 6 | F42: 1 | I42: 129
A43: Kế toán doanh nghiệp | B43: 59 | C43: 16 | D43: 1 | E43: 2 | F43: 7 | I43: 85
A44: Kỹ thuật CBMA | B44: 19 | C44: 2 | F44: 3 | I44: 24
A45: Kỹ thuật máy tính | B45: 5 | F45: 1 | I45: 6
A46: Nghiệp vụ nhà hàng | B46: 2 | C46: 2 | E46: 2 | F46: 1 | I46: 7
...

Sheet Sheet4
A1: STT | B1: Mã Học Viên | C1: Họ | D1: Tên đệm | E1: Tên | F1: ĐỐI TƯỢNG | G1: Ngành/ Nghề đào tạo | H1: Chuẩn hóa nghề đào tạo | I1: Cấp trình độ | J1: Giới tính | K1: Học bổng | L1: Năm sinh | M1: Xếp loại tốt nghiệp | N1: Tình trạng việc làm | O1: Tình trạng khác, cụ thể | P1: Tìm kiếm 1 | Q1: Tìm kiếm 2 | R1: Lĩnh vực kinh doanh | S1: Ngành khác, nêu cụ thể | T1: Số giờ làm việc trong 1 tuần | U1: Thời gian bắt đầu công việc | V1: Cách thức tìm việc | W1: Nếu chọn Khác, xin ghi cụ thể | X1: Đánh giá về Lý thuyết | Y1: Đánh giá về Kỹ năng nghề | Z1: Công việc liên quan đến nghề đào tạo | AA1: Thu nhập chính xác | AB1: Mức lương | AC1: Số người cùng làm việc trong công ty | AD1: Đào tạo kèm cặp trong khi làm | AE1: Thời gian đào tạo | AF1: Vị trí công tác | AG1: Vị trí khác, ghi cụ thể | AH1: Nhu cầu học tiếp | AI1: Ngành nghề muốn học | AJ1: Cấp trình độ muốn học tiếp | AK1: Lý do không làm việc | AL1: Công việc đã xin | AM1: Lý do 1 | AN1: Lý do thứ 2 | AO1: Lý do thứ 3 | AP1: Lý do khác, cụ thể | AQ1: Lý do tiếp tục đi học? | AR1: Lý do đi học khác | AS1: Tên cơ sở đào tạo | AT1: Ngành nghề đào tạo | AU1: Cấp trình độ của khoá học | AV1: Đánh giá trình độ giáo viên | AW1: Đánh giá giáo trình và nội dung | AX1: Đánh giá về mức độ đáp ứng | AY1: Lĩnh vực cần được cải tiến nhất 1 | AZ1: Lĩnh vực cần được cải tiến nhất 2 | BA1: Lĩnh vực cần được cải tiến nhất 3 | BB1: Lĩnh vực khác, cụ thể | BC1: Đánh giá về danh tiếng cơ sở đào tạo | BD1: Đánh giá mức độ hài lòng về chất lượng đào tạo
A2: 476 | B2: 1216016 | C2: Hà | D2: Đoàn | E2: Thịnh | G2: Ứng dụng phần mềm | H2: Ứng dụng phần mềm | I2: Cao đẳng nghề | J2: Nam | K2: FALSE | L2: 1990 | M2: Trung bình khá | N2: A1.Làm công ăn lương | R2: Thương mại & Dịch vụ (Bán buôn, bán lẻ) | T2: 40 | U2: Trên 3 tháng | V2: Quan hệ cá nhân | X2: Tốt | Y2: Rất tốt | Z2: Liên quan | AB2: 6-8 triệu | AC2: 10-200 người | AD2: Có | AE2: 2-4 tuần | AF2: Nhân viên chính thức | AH2: Không | AV2: Đồng ý | AW2: Hoàn toàn đồng ý | AX2: Hoàn toàn đồng ý | AY2: Trang thiết bị (máy móc, công cụ, v.v.) | BC2: Hoàn toàn đồng ý | BD2: Hoàn toàn đồng ý
A3: 2 | B3: NĐ32SCA190 | C3: Ngô | D3: Minh | E3: Triệu | G3: Công nghệ ô tô | H3: Công nghệ ô tô | I3: Cao đẳng nghề | J3: Nữ | K3: học bổng | L3: 1993 | M3: Giỏi | N3: A1.Làm công ăn lương | O3: Vừa học vừa làm | P3: bỏ qua | Q3: #VALUE! | R3: Giao thông vận tải | T3: 48h | U3: 1-3 tháng | V3: Do trường giới thiệu | X3: Tốt | Y3: Tốt | Z3: Có liên quan | AB3: 6-8 triệu | AC3: Trên 300 người | AD3: Có | AF3: Khác (ghi rõ) | AG3: Nhân viên chính thức | AH3: Có | AI3: Công nghệ ô tô | AV3: Đồng ý | AW3: Đồng ý | AX3: Đồng ý | AY3: Trang thiết bị (máy móc, công cụ, v.v.) | AZ3: Thực tập/ thực hành tại doanh nghiệp | BC3: Đồng ý | BD3: Đồng ý
A4: 3 | B4: NĐ32SCA162 | C4: Nguyễn | D4: Trịnh Công | E4: Danh | G4: Công nghệ ô tô | H4: Công nghệ ô tô | I4: Cao đẳng nghề | J4: Nam | K4: FALSE | L4: 1900 | M4: Trung bình khá | N4: A1.Làm công ăn lương | P4: bỏ qua | R4: Giao thông vận tải | S4: Giao thông vận tải | T4: 48h | U4: Trên 3 tháng | V4: Do trường giới thiệu | X4: Tốt | Y4: Tốt | AA4: 3500000 | AB4: 4-6 triệu | AC4: 10-200 người | AD4: Có | AF4: Khác (ghi rõ) | AG4: Nhân viên trong thời gian thử việc | AH4: Có | AJ4: Đại học | AV4: Hoàn toàn đồng ý | AW4: Hoàn toàn đồng ý | AX4: Hoàn toàn đồng ý | AY4: Thực tập/ thực hành tại doanh nghiệp | BC4: Hoàn toàn đồng ý | BD4: Hoàn toàn đồng ý
A5: 4 | B5: NĐ32SCA186 | C5: Nguyễn | D5: Ngọc | E5: Thắng | G5: Công nghệ ô tô | H5: Công nghệ ô tô | I5: Cao đẳng nghề | J5: Nữ | K5: học bổng | L5: 1994 | M5: Khá | N5: A1.Làm công ăn lương | P5: tìm được | R5: Thông tin liên lạc, Công nghệ thông tin | U5: Dưới 1 tháng | V5: Do cơ quan dịch vụ việclàm | X5: Tốt | Z5: Liên quan | AB5: 6-8 triệu | AC5: Trên 300 người | AD5: Không | AH5: Không | BC5: Không đồng ý | BD5: Không đồng ý
A6: 5 | B6: NĐ32SCA183 | C6: Phan | D6: Văn | E6: Thành | G6: Công nghệ ô tô | H6: Công nghệ ô tô | I6: Cao đẳng nghề | J6: Nam | K6: FALSE | L6: 1985 | M6: Trung bình khá | N6: A1.Làm công ăn lương | P6: bỏ qua | R6: Xây dựng | T6: 72h | U6: Dưới 1 tháng | V6: Quan hệ cá nhân | X6: Trung bình | Z6: Liên quan | AB6: 4-6 triệu | AC6: 200-300 người | AF6: Khác (ghi rõ) | AG6: Nhân viên chính thức | AH6: Không | AV6: Đồng ý | AW6: Đồng ý | AX6: Đồng ý | BC6: Đồng ý | BD6: Đồng ý
A7: 6 | B7: NĐ32SCA166 | C7: Thân | D7: Văn | E7: Đức | G7: Công nghệ ô tô | H7: Công nghệ ô tô | I7: Cao đẳng nghề | J7: Nam | K7: FALSE | L7: 1987 | M7: Trung bình khá | N7: A1.Làm công ăn lương | P7: bỏ qua | R7: Công nghiệp chế biến | S7: Cơ khí | T7: 48h | U7: 1-3 tháng | V7: Do cơ quan dịch vụ việclàm | X7: Tốt | Y7: Tốt | Z7: Liên quan | AA7: 5000000 | AB7: 4-6 triệu | AC7: 200-300 người | AD7: Có | AF7: Khác (ghi rõ) | AG7: Nhân viên chính thức | AV7: Đồng ý | AW7: Đồng ý | AX7: Đồng ý | AY7: Trang thiết bị (máy móc, công cụ, v.v.) | AZ7: Cơ sở vật chất (phòng học, thư việnv.v.) | BA7: Thực tập/ thực hành tại doanh nghiệp | BC7: Đồng ý | BD7: Hoàn toàn đồng ý
A8: 7 | B8: NĐ32SCA170 | C8: Đỗ | D8: Mạnh | E8: Hùng | G8: Công nghệ ô tô | H8: Công nghệ ô tô | I8: Cao đẳng nghề | J8: Nam | K8: FALSE | L8: 1994 | M8: Trung bình khá | N8: A1.Làm công ăn lương | P8: bỏ qua | R8: Giao thông vận tải | S8: Giao thông vận tải | T8: 48h | U8: Trên 3 tháng | V8: Do trường giới thiệu | X8: Tốt | Y8: Trung bình | Z8: Có liên quan | AB8: 4-6 triệu | AC8: 10-200 người | AD8: Có | AE8: Trên 8 tuần | AF8: Khác (ghi rõ) | AG8: Nhân viên chính thức | AH8: Có | AI8: Cắt gọt kim loại | AJ8: Đại học | BC8: Hoàn toàn không đồng ý | BD8: Không đồng ý
A9: 8 | B9: NĐ32SCA181 | C9: Lương | D9: Khánh | E9: Quân | G9: Công nghệ ô tô | H9: Công nghệ ô tô | I9: Cao đẳng nghề | J9: Nam | K9: FALSE | L9: 1981 | M9: Khá | N9: A1.Làm công ăn lương | P9: bỏ qua | R9: Giao thông vận tải | S9: Giao thông vận tải | U9: Trên 3 tháng | V9: Do cơ quan dịch vụ việclàm | X9: Tốt | Y9: Tốt | AB9: 6-8 triệu | AC9: 10-200 người | AD9: Không | AF9: Khác (ghi rõ) | AG9: Nhân viên chính thức | AV9: Đồng ý | AW9: Đồng ý | AX9: Đồng ý | AY9: Tài liệu,chương trình (sách, v.v.) | AZ9: Trang thiết bị (máy móc, công cụ, v.v.) | BA9: Thực tập/ thực hành tại doanh nghiệp | BC9: Đồng ý | BD9: Đồng ý
A10: 9 | B10: NĐ32SCA191 | C10: Huỳnh | D10: Luân | E10: Trúc | G10: Công nghệ ô tô | H10: Công nghệ ô tô | I10: Cao đẳng nghề | J10: Nam | K10: FALSE | L10: 1993 | M10: Trung bình khá | N10: A1.Làm công ăn lương | P10: bỏ qua | R10: Nông - lâm - ngư nghiệp | T10: 56h | U10: 1-3 tháng | V10: Do trường giới thiệu | X10: Tốt | Y10: Tốt | Z10: Liên quan | AA10: 4650000 | AB10: 4-6 triệu | AC10: Trên 300 người | AX10: Hoàn toàn đồng ý | AY10: Tài liệu,chương trình (sách, v.v.) | AZ10: Cơ sở vật chất (phòng học, thư việnv.v.) | BA10: Thực tập/ thực hành tại doanh nghiệp | BC10: Đồng ý | BD10: Đồng ý
A11: 475 | B11: 1216019 | C11: Đoàn | D11: Phạm Đoan | E11: Trang | G11: Ứng dụng phần mềm | H11: Ứng dụng phần mềm | I11: Cao đẳng nghề | J11: Nữ | K11: FALSE | L11: 1989 | M11: Xuất sắc | N11: A1.Làm công ăn lương | R11: Thương mại & Dịch vụ (Bán buôn, bán lẻ) | T11: 40 | U11: Trên 3 tháng | V11: Do cơ quan dịch vụ việclàm | X11: Tốt | Y11: Tốt | Z11: Liên quan | AB11: 2-4 triệu | AC11: 10-200 người | AD11: Không | AF11: Kỹ thuật viên kiêm tổ trưởng | AH11: Không | AV11: Hoàn toàn đồng ý | AW11: Hoàn toàn đồng ý | AX11: Đồng ý | AY11: Trang thiết bị (máy móc, công cụ, v.v.) | BC11: Đồng ý | BD11: Đồng ý
A12: 474 | B12: 1216006 | C12: Phạm | D12: Trần Quốc | E12: Giang | G12: Ứng dụng phần mềm | H12: Ứng dụng phần mềm | I12: Cao đẳng nghề | J12: Nam | K12: FALSE | L12: 1994 | M12: Khá | N12: A1.Làm công ăn lương | R12: Thông tin liên lạc, Công nghệ thông tin | T12: 40 | U12: Trên 3 tháng | V12: Quan hệ cá nhân | X12: Tốt | Y12: Tốt | Z12: Có liên quan | AB12: 2-4 triệu | AC12: 2-10người | AD12: Không | AF12: Nhân viên chính thức | AH12: Không | AV12: Đồng ý | AW12: Đồng ý | AX12: Đồng ý | AY12: Trang thiết bị (máy móc, công cụ, v.v.) | AZ12: Cơ sở vật chất (phòng học, thư việnv.v.) | BC12: Đồng ý | BD12: Đồng ý
A13: 473 | B13: 1216007 | C13: Nguyễn | D13: Tuấn | E13: Hai | G13: Ứng dụng phần mềm | H13: Ứng dụng phần mềm | I13: Cao đẳng nghề | J13: Nam | K13: FALSE | L13: 1993 | M13: Trung bình khá | N13: A1.Làm công ăn lương | R13: Thông tin liên lạc, Công nghệ thông tin | T13: 40 | U13: Trên 3 tháng | V13: Qua quảng cáo trên báo/đài/TV | X13: Tốt | Y13: Tốt | Z13: Có liên quan | AB13: 2-4 triệu | AC13: 10-200 người | AD13: Không | AF13: Nhân viên chính thức | AH13: Không | AV13: Đồng ý | AW13: Hoàn toàn đồng ý | AX13: Hoàn toàn đồng ý | AY13: Cơ sở vật chất (phòng học, thư việnv.v.) | BC13: Đồng ý | BD13: Đồng ý
A14: 472 | B14: 1216009 | C14: Trần | D14: Minh | E14: Kỳ | G14: Ứng dụng phần mềm | H14: Ứng dụng phần mềm | I14: Cao đẳng nghề | J14: Nam | K14: FALSE | L14: 1993 | M14: Trung bình khá | N14: A1.Làm công ăn lương | R14: Thương mại & Dịch vụ (Bán buôn, bán lẻ) | T14: 40 | U14: Dưới 1 tháng | V14: Qua quảng cáo trên báo/đài/TV | X14: Tốt | Y14: Tốt | Z14: Có liên quan | AB14: 2-4 triệu | AC14: 10-200 người | AD14: Không | AF14: Nhân viên chính thức | AH14: Không | AV14: Đồng ý | AW14: Đồng ý | AX14: Đồng ý | AY14: Trang thiết bị (máy móc, công cụ, v.v.) | BC14: Đồng ý | BD14: Đồng ý
A15: 471 | B15: 1216010 | C15: Nguyễn | D15: Xuân | E15: Lộc | G15: Ứng dụng phần mềm | H15: Ứng dụng phần mềm | I15: Cao đẳng nghề | J15: Nam | K15: FALSE | L15: 1993 | M15: Trung bình khá | N15: A1.Làm công ăn lương | R15: Thương mại & Dịch vụ (Bán buôn, bán lẻ) | T15: 40 | U15: Trên 3 tháng | V15: Qua quảng cáo trên báo/đài/TV | X15: Tốt | Y15: Tốt | Z15: Liên quan | AB15: 2-4 triệu | AC15: 2-10người | AD15: Không | AF15: Nhân viên chính thức | AH15: Không | AV15: Đồng ý | AW15: Đồng ý | AX15: Hoàn toàn đồng ý | AY15: Trang thiết bị (máy móc, công cụ, v.v.) | AZ15: Cơ sở vật chất (phòng học, thư việnv.v.) | BC15: Đồng ý | BD15: Đồng ý
A16: 470 | B16: 1216020 | C16: Vũ | D16: Thanh | E16: Trang | G16: Ứng dụng phần mềm | H16: Ứng dụng phần mềm | I16: Cao đẳng nghề | J16: Nam | K16: FALSE | L16: 1991 | M16: Trung bình khá | N16: A1.Làm công ăn lương | R16: Khác, ghi cụ thể | S16: Bệnh viện | T16: 40 | U16: Trên 3 tháng | V16: Quan hệ cá nhân | X16: Tốt | Y16: Rất tốt | Z16: Có liên quan | AB16: 2-4 triệu | AC16: 10-200 người | AD16: Không | AF16: Nhân viên chính thức | AH16: Không | AV16: Đồng ý | AW16: Đồng ý | AX16: Hoàn toàn đồng ý | AY16: Trang thiết bị (máy móc, công cụ, v.v.) | BC16: Đồng ý | BD16: Đồng ý
A17: 469 | B17: 1216105 | C17: Dương | D17: Văn | E17: Đạt | G17: Ứng dụng phần mềm | H17: Ứng dụng phần mềm | I17: Cao đẳng nghề | J17: Nam | K17: FALSE | L17: 1993 | M17: Khá | N17: A1.Làm công ăn lương | R17: Giáo dục / đào tạo | T17: 40 | U17: Trên 3 tháng | V17: Quan hệ cá nhân | X17: Tốt | Y17: Rất tốt | Z17: Có liên quan | AB17: 2-4 triệu | AC17: 10-200 người | AD17: Không | AF17: Nhân viên chính thức | AH17: Có | AI17: Công nghệ thông tin | AJ17: Đại học | AV17: Đồng ý | AW17: Hoàn toàn đồng ý | AX17: Hoàn toàn đồng ý | AY17: Trang thiết bị (máy móc, công cụ, v.v.) | AZ17: Cơ sở vật chất (phòng học, thư việnv.v.) | BC17: Hoàn toàn đồng ý | BD17: Hoàn toàn đồng ý
A18: 465 | B18: 1216104 | C18: Nguyễn | D18: Phạm Hải | E18: Đăng | G18: Ứng dụng phần mềm | H18: Ứng dụng phần mềm | I18: Cao đẳng nghề | J18: Nam | K18: FALSE | L18: 1993 | M18: Trung bình khá | N18: A1.Làm công ăn lương | R18: Thương mại & Dịch vụ (Bán buôn, bán lẻ) | T18: 40 | U18: Trên 3 tháng | V18: Quan hệ cá nhân | X18: Tốt | Y18: Tốt | Z18: Liên quan | AB18: 4-6 triệu | AC18: 10-200 người | AD18: Không | AF18: Nhân viên trong thời gian thử việc (thợ học việc | AH18: Không | AV18: Đồng ý | AW18: Đồng ý | AX18: Đồng ý | AY18: Phương pháp giảng dạy của giáo viên | BC18: Đồng ý | BD18: Đồng ý
A19: 464 | B19: 1216002 | C19: Lê | D19: Quang | E19: Chung | G19: Ứng dụng phần mềm | H19: Ứng dụng phần mềm | I19: Cao đẳng nghề | J19: Nam | K19: FALSE | L19: 1991 | M19: Khá | N19: A1.Làm công ăn lương | R19: Thương mại & Dịch vụ (Bán buôn, bán lẻ) | T19: 40 | U19: Trên 3 tháng | V19: Quan hệ cá nhân | X19: Tốt | Y19: Tốt | Z19: Có liên quan | AB19: > Trên 8 triệu | AC19: 10-200 người | AD19: Không | AF19: Nhân viên chính thức | AH19: Không | AV19: Hoàn toàn đồng ý | AW19: Hoàn toàn đồng ý | AX19: Đồng ý | AY19: Trang thiết bị (máy móc, công cụ, v.v.) | BC19: Hoàn toàn đồng ý | BD19: Đồng ý
A20: 463 | B20: 1215020 | C20: Lê | D20: Tiến | E20: Vượng | G20: QT Mạng máy tính | H20: QT Mạng máy tính | I20: Cao đẳng nghề | J20: Nam | K20: FALSE | L20: 1994 | M20: Khá | N20: A1.Làm công ăn lương | R20: Thương mại & Dịch vụ (Bán buôn, bán lẻ) | T20: 40 | U20: Trên 3 tháng | V20: Quan hệ cá nhân | X20: Tốt | Y20: Tốt | Z20: Liên quan | AB20: 4-6 triệu | AC20: 2-10người | AD20: Không | AF20: Nhân viên chính thức | AH20: Không | AV20: Đồng ý | AW20: Đồng ý | AX20: Đồng ý | AY20: Trang thiết bị (máy móc, công cụ, v.v.) | AZ20: Cơ sở vật chất (phòng học, thư việnv.v.) | BC20: Đồng ý | BD20: Đồng ý
A21: 462 | B21: 1115012 | C21: Nguyễn | D21: Hữu | E21: Hòa | G21: QT Mạng máy tính | H21: QT Mạng máy tính | I21: Cao đẳng nghề | J21: Nam | K21: FALSE | L21: 1993 | M21: Khá | N21: A1.Làm công ăn lương | R21: Thương mại & Dịch vụ (Bán buôn, bán lẻ) | T21: 40 | U21: Trên 3 tháng | V21: Quan hệ cá nhân | X21: Tốt | Y21: Rất tốt | Z21: Có liên quan | AB21: 4-6 triệu | AC21: 2-10người | AD21: Không | AF21: Nhân viên chính thức | AH21: Không | AV21: Đồng ý | AW21: Hoàn toàn đồng ý | AX21: Hoàn toàn đồng ý | AY21: Trang thiết bị (máy móc, công cụ, v.v.) | BC21: Hoàn toàn đồng ý | BD21: Hoàn toàn đồng ý
A22: 460 | B22: 1215016 | C22: Hàng | D22: Minh | E22: Tuấn | G22: QT Mạng máy tính | H22: QT Mạng máy tính | I22: Cao đẳng nghề | J22: Nam | K22: FALSE | L22: 1994 | M22: Khá | N22: A1.Làm công ăn lương | R22: Thương mại & Dịch vụ (Bán buôn, bán lẻ) | T22: 40 | U22: Trên 3 tháng | V22: Quan hệ cá nhân | X22: Tốt | Y22: Tốt | Z22: Có liên quan | AB22: 2-4 triệu | AC22: 2-10người | AD22: Không | AF22: Khác (ghi rõ) | AG22: Làm công | AH22: Không | AV22: Đồng ý | AW22: Đồng ý | AX22: Đồng ý | AY22: Trang thiết bị (máy móc, công cụ, v.v.) | BC22: Hoàn toàn đồng ý | BD22: Đồng ý
A23: 459 | B23: 1215015 | C23: Nguyễn | D23: An | E23: Toàn | G23: QT Mạng máy tính | H23: QT Mạng máy tính | I23: Cao đẳng nghề | J23: Nam | K23: FALSE | L23: 1991 | M23: Giỏi | N23: A1.Làm công ăn lương | R23: Thương mại & Dịch vụ (Bán buôn, bán lẻ) | T23: 40 | U23: Dưới 1 tháng | V23: Do cơ quan dịch vụ việclàm | X23: Tốt | Y23: Tốt | Z23: Có liên quan | AB23: 4-6 triệu | AC23: 2-10người | AD23: Không | AF23: Nhân viên chính thức | AH23: Không | AV23: Đồng ý | AW23: Đồng ý | AX23: Đồng ý | AY23: Tài liệu,chương trình (sách, v.v.) | BC23: Đồng ý | BD23: Đồng ý
A24: 458 | B24: 1215009 | C24: Lý | D24: Thanh | E24: Sang | G24: QT Mạng máy tính | H24: QT Mạng máy tính | I24: Cao đẳng nghề | J24: Nam | K24: FALSE | L24: 1993 | M24: Khá | N24: A1.Làm công ăn lương | R24: Thương mại & Dịch vụ (Bán buôn, bán lẻ) | T24: 40 | U24: Trên 3 tháng | V24: Quan hệ cá nhân | X24: Tốt | Y24: Tốt | Z24: Liên quan | AB24: 2-4 triệu | AC24: 2-10người | AD24: Không | AF24: Nhân viên chính thức | AH24: Không | AV24: Đồng ý | AW24: Hoàn toàn đồng ý | AX24: Đồng ý | AY24: Trang thiết bị (máy móc, công cụ, v.v.) | BC24: Đồng ý | BD24: Đồng ý
A25: 457 | B25: 1215006 | C25: Nguyễn | D25: Thành | E25: Nam | G25: QT Mạng máy tính | H25: QT Mạng máy tính | I25: Cao đẳng nghề | J25: Nam | K25: FALSE | L25: 1992 | M25: Giỏi | N25: A1.Làm công ăn lương | R25: Thương mại & Dịch vụ (Bán buôn, bán lẻ) | T25: 40 | U25: 1-3 tháng | V25: Do cơ quan dịch vụ việclàm | X25: Tốt | Y25: Rất tốt | Z25: Có liên quan | AB25: 2-4 triệu | AC25: 2-10người | AD25: Không | AF25: Nhân viên chính thức | AH25: Không | AV25: Đồng ý | AW25: Đồng ý | AX25: Đồng ý | AY25: Trang thiết bị (máy móc, công cụ, v.v.) | BC25: Hoàn toàn đồng ý | BD25: Hoàn toàn đồng ý
A26: 443 | B26: 1244015 | C26: Mông | D26: Đình | E26: Khánh | G26: Điện Công nghiệp | H26: Điện Công Nghiệp | I26: Cao đẳng nghề | J26: Nam | K26: FALSE | L26: 1993 | M26: Khá | N26: A1.Làm công ăn lương | R26: Nông - lâm - ngư nghiệp | T26: 40 | U26: 1-3 tháng | V26: Quan hệ cá nhân | X26: Tốt | Y26: Rất tốt | Z26: Có liên quan | AB26: 2-4 triệu | AC26: 10-200 người | AD26: Không | AF26: Nhân viên chính thức | AH26: Không | AV26: Đồng ý | AW26: Hoàn toàn đồng ý | AX26: Hoàn toàn đồng ý | AY26: Trang thiết bị (máy móc, công cụ, v.v.) | BC26: Hoàn toàn đồng ý | BD26: Hoàn toàn đồng ý
A27: 442 | B27: 1244013 | C27: Hoàng | D27: Trọng | E27: Huy | G27: Điện Công nghiệp | H27: Điện Công Nghiệp | I27: Cao đẳng nghề | J27: Nam | K27: FALSE | L27: 1993 | M27: Trung bình khá | N27: A1.Làm công ăn lương | R27: Khác, ghi cụ thể | S27: Giao nhận hàng | T27: 40 | U27: 1-3 tháng | V27: Qua quảng cáo trên báo/đài/TV | X27: Tốt | Y27: Tốt | Z27: Không liên quan | AB27: 4-6 triệu | AC27: 10-200 người | AD27: Không | AF27: Nhân viên chính thức | AH27: Không | AV27: Hoàn toàn đồng ý | AW27: Hoàn toàn đồng ý | AX27: Hoàn toàn đồng ý | AY27: Trang thiết bị (máy móc, công cụ, v.v.) | BC27: Đồng ý phần nào | BD27: Đồng ý phần nào
A28: 441 | B28: 1244005 | C28: Nguyễn | D28: Như | E28: Bình | G28: Điện Công nghiệp | H28: Điện Công Nghiệp | I28: Cao đẳng nghề | J28: Nam | K28: FALSE | L28: 1992 | M28: Khá | N28: A1.Làm công ăn lương | R28: Khác, ghi cụ thể | S28: Bảo trì kỹ thuật, điện | T28: 40 | U28: 1-3 tháng | V28: Quan hệ cá nhân | X28: Tốt | Y28: Tốt | Z28: Có liên quan | AB28: 2-4 triệu | AC28: 10-200 người | AD28: Không | AF28: Nhân viên chính thức | AH28: Không | AV28: Hoàn toàn đồng ý | AW28: Hoàn toàn đồng ý | AX28: Hoàn toàn đồng ý | AY28: Trang thiết bị (máy móc, công cụ, v.v.) | BC28: Đồng ý | BD28: Đồng ý
A29: 440 | B29: 1244017 | C29: Chu | D29: Trọng | E29: Lập | G29: Điện Công nghiệp | H29: Điện Công Nghiệp | I29: Cao đẳng nghề | J29: Nam | K29: FALSE | L29: 1993 | M29: Khá | N29: A1.Làm công ăn lương | R29: Nhà hàng, khách sạn và Du lịch | T29: 40 | U29: Trên 3 tháng | V29: Quan hệ cá nhân | X29: Tốt | Y29: Rất tốt | Z29: Có liên quan | AB29: 4-6 triệu | AC29: 10-200 người | AD29: Có | AE29: Dưới 2 tuần | AF29: Nhân viên chính thức | AH29: Không | AV29: Đồng ý | AW29: Đồng ý | AX29: Đồng ý | AY29: Tài liệu,chương trình (sách, v.v.) | BC29: Đồng ý | BD29: Đồng ý
A30: 439 | B30: 1244112 | C30: Bùi | D30: Xuân | E30: Huyền | G30: Điện Công nghiệp | H30: Điện Công Nghiệp | I30: Cao đẳng nghề | J30: Nam | K30: FALSE | L30: 1992 | M30: Khá | N30: A1.Làm công ăn lương | R30: Khác, ghi cụ thể | S30: Quảng cáo | T30: 40 | U30: Trên 3 tháng | V30: Quan hệ cá nhân | X30: Tốt | Y30: Rất tốt | Z30: Có liên quan | AB30: 6-8 triệu | AC30: 2-10người | AD30: Không | AF30: Nhân viên chính thức | AH30: Không | AV30: Đồng ý | AW30: Đồng ý | AX30: Đồng ý | AY30: Tài liệu,chương trình (sách, v.v.) | BC30: Đồng ý | BD30: Đồng ý
A31: 438 | B31: 1244108 | C31: Mai | D31: Thanh | E31: Đài | G31: Điện Công nghiệp | H31: Điện Công Nghiệp | I31: Cao đẳng nghề | J31: Nam | K31: FALSE | L31: 1994 | M31: Khá | N31: A1.Làm công ăn lương | R31: Thương mại & Dịch vụ (Bán buôn, bán lẻ) | T31: 40 | U31: 1-3 tháng | V31: Quan hệ cá nhân | X31: Tốt | Y31: Tốt | Z31: Có liên quan | AB31: 6-8 triệu | AC31: 10-200 người | AD31: Không | AF31: Nhân viên chính thức | AH31: Không | AV31: Đồng ý | AW31: Đồng ý | AX31: Hoàn toàn đồng ý | AY31: Trang thiết bị (máy móc, công cụ, v.v.) | BC31: Hoàn toàn đồng ý | BD31: Hoàn toàn đồng ý
A32: 436 | B32: 1244001 | C32: Kră | D32: Jăn | E32: Ami | G32: Điện Công nghiệp | H32: Điện Công Nghiệp | I32: Cao đẳng nghề | J32: Nam | K32: FALSE | L32: 1993 | M32: Trung bình khá | N32: A1.Làm công ăn lương | R32: Xây dựng | T32: 40 | U32: 1-3 tháng | V32: Khác, ghi cụ thể | W32: Tự xin việc | X32: Tốt | Y32: Rất tốt | Z32: Có liên quan | AB32: 4-6 triệu | AC32: 10-200 người | AD32: Không | AF32: Nhân viên chính thức | AH32: Không | AV32: Hoàn toàn đồng ý | AW32: Hoàn toàn đồng ý | AX32: Hoàn toàn đồng ý | AY32: Thực tập/ thực hành tại doanh nghiệp | AZ32: Kỹ năng thực hành của giáo viên | BC32: Đồng ý | BD32: Đồng ý
A33: 435 | B33: 1244120 | C33: Nguyễn | D33: Ngọc | E33: Sơn | G33: Điện Công nghiệp | H33: Điện Công Nghiệp | I33: Cao đẳng nghề | J33: Nam | K33: FALSE | L33: 1993 | M33: Trung bình khá | N33: A1.Làm công ăn lương | R33: Xây dựng | T33: 40 | U33: 1-3 tháng | V33: Quan hệ cá nhân | X33: Tốt | Y33: Tốt | Z33: Có liên quan | AB33: 4-6 triệu | AC33: 10-200 người | AD33: Không | AF33: Nhân viên chính thức | AH33: Không | AV33: Hoàn toàn đồng ý | AW33: Hoàn toàn đồng ý | AX33: Hoàn toàn đồng ý | AY33: Trang thiết bị (máy móc, công cụ, v.v.) | BC33: Hoàn toàn không đồng ý | BD33: Đồng ý
A34: 434 | B34: 1244118 | C34: Phan | D34: Văn | E34: Quốc | G34: Điện Công nghiệp | H34: Điện Công Nghiệp | I34: Cao đẳng nghề | J34: Nam | K34: FALSE | L34: 1993 | M34: Khá | N34: A1.Làm công ăn lương | R34: Thương mại & Dịch vụ (Bán buôn, bán lẻ) | T34: 40 | U34: 1-3 tháng | V34: Qua quảng cáo trên Internet | X34: Tốt | Y34: Rất tốt | Z34: Có liên quan | AB34: 4-6 triệu | AC34: 10-200 người | AD34: Không | AF34: Nhân viên chính thức | AH34: Không | AV34: Đồng ý | AW34: Đồng ý | AX34: Hoàn toàn đồng ý | AY34: Trang thiết bị (máy móc, công cụ, v.v.) | BC34: Hoàn toàn đồng ý | BD34: Đồng ý
A35: 433 | B35: 1244027 | C35: Lý | D35: Ngọc | E35: Sinh | G35: Điện Công nghiệp | H35: Điện Công Nghiệp | I35: Cao đẳng nghề | J35: Nam | K35: FALSE | L35: 1991 | M35: Khá | N35: A1.Làm công ăn lương | R35: Nông - lâm - ngư nghiệp | T35: 40 | U35: 1-3 tháng | V35: Quan hệ cá nhân | X35: Tốt | Y35: Tốt | Z35: Không liên quan | AB35: 2-4 triệu | AC35: 10-200 người | AD35: Có | AE35: Dưới 2 tuần | AF35: Khác (ghi rõ) | AG35: Làm công | AH35: Không | AV35: Đồng ý | AW35: Đồng ý phần nào | AX35: Đồng ý phần nào | AY35: Trang thiết bị (máy móc, công cụ, v.v.) | BC35: Đồng ý phần nào | BD35: Đồng ý phần nào
A36: 432 | B36: 1244025 | C36: Phan | D36: Đình | E36: Qúy | G36: Điện Công nghiệp | H36: Điện Công Nghiệp | I36: Cao đẳng nghề | J36: Nam | K36: FALSE | L36: 1994 | M36: Giỏi | N36: A1.Làm công ăn lương | R36: Công nghiệp chế biến | T36: 40 | U36: Trên 3 tháng | V36: Qua quảng cáo trên Internet | X36: Trung bình | Y36: Rất tốt | Z36: Có liên quan | AB36: 4-6 triệu | AC36: Trên 300 người | AD36: Có | AE36: Dưới 2 tuần | AF36: Nhân viên chính thức | AH36: Không | AV36: Đồng ý | AW36: Đồng ý | AX36: Đồng ý | AY36: Tài liệu,chương trình (sách, v.v.) | BC36: Đồng ý | BD36: Đồng ý
A37: 431 | B37: 1244134 | C37: Phạm | D37: Xuân | E37: Tư | G37: Điện Công nghiệp | H37: Điện Công Nghiệp | I37: Cao đẳng nghề | J37: Nam | K37: FALSE | L37: 1990 | M37: Giỏi | N37: A1.Làm công ăn lương | R37: Khác, ghi cụ thể | S37: Bảo trì, kiểm tra trụ | T37: 40 | U37: 1-3 tháng | V37: Quan hệ cá nhân | X37: Tốt | Y37: Tốt | Z37: Có liên quan | AB37: 4-6 triệu | AC37: 10-200 người | AD37: Không | AF37: Nhân viên chính thức | AH37: Không | AV37: Đồng ý | AW37: Đồng ý | AX37: Hoàn toàn đồng ý | AY37: Trang thiết bị (máy móc, công cụ, v.v.) | BC37: Hoàn toàn đồng ý | BD37: Đồng ý phần nào
A38: 429 | B38: 1244028 | C38: Huỳnh | D38: Ngọc Minh | E38: Sơn | G38: Điện Công nghiệp | H38: Điện Công Nghiệp | I38: Cao đẳng nghề | J38: Nam | K38: FALSE | L38: 1993 | M38: Trung bình khá | N38: A1.Làm công ăn lương | R38: Sản xuất, phân phối điện, ga, nước | T38: 40 | U38: 1-3 tháng | V38: Quan hệ cá nhân | X38: Rất tốt | Y38: Rất tốt | Z38: Có liên quan | AB38: 4-6 triệu | AC38: 10-200 người | AD38: Không | AF38: Nhân viên chính thức | AH38: Không | AV38: Hoàn toàn đồng ý | AW38: Đồng ý | AX38: Hoàn toàn đồng ý | AY38: Trang thiết bị (máy móc, công cụ, v.v.) | BC38: Đồng ý | BD38: Đồng ý
A39: 427 | B39: 1244113 | C39: Lữ | D39: Phú | E39: Lâm | G39: Điện Công nghiệp | H39: Điện Công Nghiệp | I39: Cao đẳng nghề | J39: Nam | K39: FALSE | L39: 1991 | M39: Giỏi | N39: A1.Làm công ăn lương | R39: Khác, ghi cụ thể | S39: Bảo trì điện, nước | T39: 40 | U39: 1-3 tháng | V39: Quan hệ cá nhân | X39: Tốt | Y39: Tốt | Z39: Có liên quan | AB39: 2-4 triệu | AC39: 10-200 người | AD39: Không | AF39: Nhân viên chính thức | AH39: Không | AV39: Đồng ý | AW39: Đồng ý phần nào | AX39: Đồng ý phần nào | AY39: Trang thiết bị (máy móc, công cụ, v.v.) | BC39: Đồng ý | BD39: Đồng ý phần nào
A40: 426 | B40: 1224104 | C40: Nguyễn | D40: Quốc | E40: Cường | G40: Điện Công nghiệp | H40: Điện Công Nghiệp | I40: Cao đẳng nghề | J40: Nam | K40: FALSE | L40: 1993 | M40: Khá | N40: A1.Làm công ăn lương | R40: Thương mại & Dịch vụ (Bán buôn, bán lẻ) | S40: Điện cơ | T40: 40 | U40: 1-3 tháng | V40: Khác, ghi cụ thể | W40: Tự xin việc | X40: Tốt | Y40: Tốt | Z40: Có liên quan | AB40: 4-6 triệu | AC40: 2-10người | AD40: Không | AF40: Nhân viên chính thức | AH40: Không | AV40: Hoàn toàn đồng ý | AW40: Hoàn toàn đồng ý | AX40: Hoàn toàn đồng ý | AY40: Thực tập/ thực hành tại doanh nghiệp | AZ40: Phương pháp giảng dạy của giáo viên | BC40: Đồng ý phần nào | BD40: Đồng ý phần nào
...

Sheet Sheet3
B3: Column Labels
B4: Cao đẳng nghề | D4: Trung cấp nghề | F4: Total Count of Cấp trình độ | G4: Total Count of Cấp trình độ2
A5: Row Labels | B5: Count of Cấp trình độ | C5: Count of Cấp trình độ2 | D5: Count of Cấp trình độ | E5: Count of Cấp trình độ2
A6: A1.Làm công ăn lương | B6: 0.72312704 | C6: 222 | D6: 0.7283237 | E6: 126 | F6: 0.725 | G6: 348
A7: A2.Tự SX-KD | B7: 0.13029316 | C7: 40 | D7: 0.086705202 | E7: 15 | F7: 0.11458333 | G7: 55
A8: B1.Vừa học vừa làm | B8: 0.045602606 | C8: 14 | D8: 0.069364162 | E8: 12 | F8: 0.054166667 | G8: 26
A9: B2.Đang đi học | B9: 0.016286645 | C9: 5 | D9: 0.098265896 | E9: 17 | F9: 0.045833333 | G9: 22
A10: C.Không tìm được việc làm | B10: 0.081433225 | C10: 25 | D10: 0.01734104 | E10: 3 | F10: 0.058333333 | G10: 28
A11: D.Khác | B11: 0.003257329 | C11: 1 | D11: 0 | F11: 0.0020833333 | G11: 1
A12: Grand Total | B12: 1 | C12: 307 | D12: 1 | E12: 173 | F12: 1 | G12: 480

Sheet Nhập liệu
A1: STT | B1: Mã Học Viên | C1: Họ | D1: Tên đệm | E1: Tên | F1: ĐỐI TƯỢNG | G1: Ngành/ Nghề đào tạo | H1: Chuẩn hóa nghề đào tạo | I1: Cấp trình độ | J1: Giới tính | K1: Học bổng | L1: Năm sinh | M1: Độ tuổi | N1: Xếp loại tốt nghiệp | O1: Tình trạng việc làm | P1: Tình trạng khác, cụ thể | Q1: Tìm kiếm 1 | R1: Tìm kiếm 2 | S1: Lĩnh vực kinh doanh | T1: Ngành khác, nêu cụ thể | U1: Số giờ làm việc trong 1 tuần | V1: Thời gian bắt đầu công việc | W1: Cách thức tìm việc | X1: Nếu chọn Khác, xin ghi cụ thể | Y1: Đánh giá về Lý thuyết | Z1: Đánh giá về Kỹ năng nghề | AA1: Công việc liên quan đến nghề đào tạo | AB1: Thu nhập chính xác | AC1: Mức lương | AD1: Số người cùng làm việc trong công ty | AE1: Đào tạo kèm cặp trong khi làm | AF1: Thời gian đào tạo | AG1: Vị trí công tác | AH1: Vị trí khác, ghi cụ thể | AI1: Nhu cầu học tiếp | AJ1: Ngành nghề muốn học | AK1: Cấp trình độ muốn học tiếp | AL1: Lý do không làm việc | AM1: Công việc đã xin | AN1: Lý do 1 | AO1: Lý do thứ 2 | AP1: Lý do thứ 3 | AQ1: Lý do khác, cụ thể | AR1: Lý do tiếp tục đi học? | AS1: Lý do đi học khác | AT1: Tên cơ sở đào tạo | AU1: Ngành nghề đào tạo | AV1: Cấp trình độ của khoá học | AW1: Đánh giá trình độ giáo viên | AX1: Đánh giá giáo trình và nội dung | AY1: Đánh giá về mức độ đáp ứng | AZ1: Lĩnh vực cần được cải tiến nhất 1 | BA1: Lĩnh vực cần được cải tiến nhất 2 | BB1: Lĩnh vực cần được cải tiến nhất 3 | BC1: Lĩnh vực khác, cụ thể | BD1: Đánh giá về danh tiếng cơ sở đào tạo | BE1: Đánh giá mức độ hài lòng về chất lượng đào tạo
A2: 1 | B2: NĐ32SCA168 | C2: Đỗ | D2: Trần Anh | E2: Hiếu | G2: Công nghệ ô tô | H2: =VLOOKUP(G2,Sheet1!$A$22:$B$35,2) -> Công nghệ ô tô | I2: Cao đẳng nghề | J2: Nam | K2: =IF(AND(J2="Nữ",OR(N2="Khá",N2="Giỏi")),"học bổng") -> FALSE | L2: 1993 | M2: =2018-L2:L481 -> 25 | N2: Trung bình khá | O2: C.Không tìm được việc làm | Q2: =IF(AND(J2="Nữ", N2="Khá"),"tìm được","bỏ qua") -> bỏ qua | R2: =IF(AND(J2="Nữ",N2="Khá"),OR(AND(J2="Nữ",N2="Giỏi"),"Trao học bổng","bỏ qua")) -> FALSE | S2: Giao thông vận tải | T2: Giao thông vận tải | V2: Trên 3 tháng | W2: Quan hệ cá nhân | Y2: Tốt | Z2: Tốt | AA2: Có liên quan | AC2: 4-6 triệu | AD2: 10-200 người | AE2: Không | AG2: Khác (ghi rõ) | AH2: Chủ Gara | AW2: Hoàn toàn đồng ý | AX2: Đồng ý | AY2: Đồng ý | AZ2: Tài liệu,chương trình (sách, v.v.) | BA2: Trang thiết bị (máy móc, công cụ, v.v.) | BB2: Cơ sở vật chất (phòng học, thư việnv.v.) | BD2: Hoàn toàn đồng ý | BE2: Hoàn toàn đồng ý
A3: 2 | B3: NĐ32SCA190 | C3: Ngô | D3: Minh | E3: Triệu | G3: Công nghệ ô tô | H3: =VLOOKUP(G3,Sheet1!$A$22:$B$35,2) -> Công nghệ ô tô | I3: Cao đẳng nghề | J3: Nữ | K3: =IF(AND(J3="Nữ",OR(N3="Khá",N3="Giỏi")),"học bổng") -> học bổng | L3: 1993 | M3: =2018-L3:L482 -> 25 | N3: Giỏi | O3: A1.Làm công ăn lương | P3: Vừa học vừa làm | Q3: =IF(AND(J3="Nữ", N3="Khá"),"Tìm được","bỏ qua") -> bỏ qua | R3: =IF(AND(J3="Nữ", OR(N3="Khá","Giỏi")),"Trao học bổng","bỏ qua") -> #VALUE! | S3: Giao thông vận tải | U3: 48h | V3: 1-3 tháng | W3: Do trường giới thiệu | Y3: Tốt | Z3: Tốt | AA3: Có liên quan | AC3: 6-8 triệu | AD3: Trên 300 người | AE3: Có | AG3: Khác (ghi rõ) | AH3: Nhân viên chính thức | AI3: Có | AJ3: Công nghệ ô tô | AW3: Đồng ý | AX3: Đồng ý | AY3: Đồng ý | AZ3: Trang thiết bị (máy móc, công cụ, v.v.) | BA3: Thực tập/ thực hành tại doanh nghiệp | BD3: Đồng ý | BE3: Đồng ý
A4: 3 | B4: NĐ32SCA162 | C4: Nguyễn | D4: Trịnh Công | E4: Danh | G4: Công nghệ ô tô | H4: =VLOOKUP(G4,Sheet1!$A$22:$B$35,2) -> Công nghệ ô tô | I4: Cao đẳng nghề | J4: Nam | K4: =IF(AND(J4="Nữ",OR(N4="Khá",N4="Giỏi")),"học bổng") -> FALSE | L4: 1900 | M4: =2018-L4:L483 -> 118 | N4: Trung bình khá | O4: A1.Làm công ăn lương | Q4: =IF(AND(J4="Nữ", N4="Khá"),"tìm được","bỏ qua") -> bỏ qua | S4: Giao thông vận tải | T4: Giao thông vận tải | U4: 48h | V4: Trên 3 tháng | W4: Do trường giới thiệu | Y4: Tốt | Z4: Tốt | AB4: 3500000 | AC4: 4-6 triệu | AD4: 10-200 người | AE4: Có | AG4: Khác (ghi rõ) | AH4: Nhân viên trong thời gian thử việc | AI4: Có | AK4: Đại học | AW4: Hoàn toàn đồng ý | AX4: Hoàn toàn đồng ý | AY4: Hoàn toàn đồng ý | AZ4: Thực tập/ thực hành tại doanh nghiệp | BD4: Hoàn toàn đồng ý | BE4: Hoàn toàn đồng ý
A5: 4 | B5: NĐ32SCA186 | C5: Nguyễn | D5: Ngọc | E5: Thắng | G5: Công nghệ ô tô | H5: =VLOOKUP(G5,Sheet1!$A$22:$B$35,2) -> Công nghệ ô tô | I5: Cao đẳng nghề | J5: Nữ | K5: =IF(AND(J5="Nữ",OR(N5="Khá",N5="Giỏi")),"học bổng") -> học bổng | L5: 1994 | M5: =2018-L5:L484 -> 24 | N5: Khá | O5: A1.Làm công ăn lương | Q5: =IF(AND(J5="Nữ", N5="Khá"),"tìm được","bỏ qua") -> tìm được | S5: Thông tin liên lạc, Công nghệ thông tin | V5: Dưới 1 tháng | W5: Do cơ quan dịch vụ việclàm | Y5: Tốt | AA5: Liên quan | AC5: 6-8 triệu | AD5: Trên 300 người | AE5: Không | AI5: Không | BD5: Không đồng ý | BE5: Không đồng ý
A6: 5 | B6: NĐ32SCA183 | C6: Phan | D6: Văn | E6: Thành | G6: Công nghệ ô tô | H6: =VLOOKUP(G6,Sheet1!$A$22:$B$35,2) -> Công nghệ ô tô | I6: Cao đẳng nghề | J6: Nam | K6: =IF(AND(J6="Nữ",OR(N6="Khá",N6="Giỏi")),"học bổng") -> FALSE | L6: 1985 | M6: =2018-L6:L485 -> 33 | N6: Trung bình khá | O6: A1.Làm công ăn lương | Q6: =IF(AND(J6="Nữ", N6="Khá"),"tìm được","bỏ qua") -> bỏ qua | S6: Xây dựng | U6: 72h | V6: Dưới 1 tháng | W6: Quan hệ cá nhân | Y6: Trung bình | AA6: Liên quan | AC6: 4-6 triệu | AD6: 200-300 người | AG6: Khác (ghi rõ) | AH6: Nhân viên chính thức | AI6: Không | AW6: Đồng ý | AX6: Đồng ý | AY6: Đồng ý | BD6: Đồng ý | BE6: Đồng ý
A7: 6 | B7: NĐ32SCA166 | C7: Thân | D7: Văn | E7: Đức | G7: Công nghệ ô tô | H7: =VLOOKUP(G7,Sheet1!$A$22:$B$35,2) -> Công nghệ ô tô | I7: Cao đẳng nghề | J7: Nam | K7: =IF(AND(J7="Nữ",OR(N7="Khá",N7="Giỏi")),"học bổng") -> FALSE | L7: 1987 | M7: =2018-L7:L486 -> 31 | N7: Trung bình khá | O7: A1.Làm công ăn lương | Q7: =IF(AND(J7="Nữ", N7="Khá"),"tìm được","bỏ qua") -> bỏ qua | S7: Công nghiệp chế biến | T7: Cơ khí | U7: 48h | V7: 1-3 tháng | W7: Do cơ quan dịch vụ việclàm | Y7: Tốt | Z7: Tốt | AA7: Liên quan | AB7: 5000000 | AC7: 4-6 triệu | AD7: 200-300 người | AE7: Có | AG7: Khác (ghi rõ) | AH7: Nhân viên chính thức | AW7: Đồng ý | AX7: Đồng ý | AY7: Đồng ý | AZ7: Trang thiết bị (máy móc, công cụ, v.v.) | BA7: Cơ sở vật chất (phòng học, thư việnv.v.) | BB7: Thực tập/ thực hành tại doanh nghiệp | BD7: Đồng ý | BE7: Hoàn toàn đồng ý
A8: 7 | B8: NĐ32SCA170 | C8: Đỗ | D8: Mạnh | E8: Hùng | G8: Công nghệ ô tô | H8: =VLOOKUP(G8,Sheet1!$A$22:$B$35,2) -> Công nghệ ô tô | I8: Cao đẳng nghề | J8: Nam | K8: =IF(AND(J8="Nữ",OR(N8="Khá",N8="Giỏi")),"học bổng") -> FALSE | L8: 1994 | M8: =2018-L8:L487 -> 24 | N8: Trung bình khá | O8: A1.Làm công ăn lương | Q8: =IF(AND(J8="Nữ", N8="Khá"),"tìm được","bỏ qua") -> bỏ qua | S8: Giao thông vận tải | T8: Giao thông vận tải | U8: 48h | V8: Trên 3 tháng | W8: Do trường giới thiệu | Y8: Tốt | Z8: Trung bình | AA8: Có liên quan | AC8: 4-6 triệu | AD8: 10-200 người | AE8: Có | AF8: Trên 8 tuần | AG8: Khác (ghi rõ) | AH8: Nhân viên chính thức | AI8: Có | AJ8: Cắt gọt kim loại | AK8: Đại học | BD8: Hoàn toàn không đồng ý | BE8: Không đồng ý
A9: 8 | B9: NĐ32SCA181 | C9: Lương | D9: Khánh | E9: Quân | G9: Công nghệ ô tô | H9: =VLOOKUP(G9,Sheet1!$A$22:$B$35,2) -> Công nghệ ô tô | I9: Cao đẳng nghề | J9: Nam | K9: =IF(AND(J9="Nữ",OR(N9="Khá",N9="Giỏi")),"học bổng") -> FALSE | L9: 1981 | M9: =2018-L9:L488 -> 37 | N9: Khá | O9: A1.Làm công ăn lương | Q9: =IF(AND(J9="Nữ", N9="Khá"),"tìm được","bỏ qua") -> bỏ qua | S9: Giao thông vận tải | T9: Giao thông vận tải | V9: Trên 3 tháng | W9: Do cơ quan dịch vụ việclàm | Y9: Tốt | Z9: Tốt | AC9: 6-8 triệu | AD9: 10-200 người | AE9: Không | AG9: Khác (ghi rõ) | AH9: Nhân viên chính thức | AW9: Đồng ý | AX9: Đồng ý | AY9: Đồng ý | AZ9: Tài liệu,chương trình (sách, v.v.) | BA9: Trang thiết bị (máy móc, công cụ, v.v.) | BB9: Thực tập/ thực hành tại doanh nghiệp | BD9: Đồng ý | BE9: Đồng ý
A10: 9 | B10: NĐ32SCA191 | C10: Huỳnh | D10: Luân | E10: Trúc | G10: Công nghệ ô tô | H10: =VLOOKUP(G10,Sheet1!$A$22:$B$35,2) -> Công nghệ ô tô | I10: Cao đẳng nghề | J10: Nam | K10: =IF(AND(J10="Nữ",OR(N10="Khá",N10="Giỏi")),"học bổng") -> FALSE | L10: 1993 | M10: =2018-L10:L489 -> 25 | N10: Trung bình khá | O10: A1.Làm công ăn lương | Q10: =IF(AND(J10="Nữ", N10="Khá"),"tìm được","bỏ qua") -> bỏ qua | S10: Nông - lâm - ngư nghiệp | U10: 56h | V10: 1-3 tháng | W10: Do trường giới thiệu | Y10: Tốt | Z10: Tốt | AA10: Liên quan | AB10: 4650000 | AC10: 4-6 triệu | AD10: Trên 300 người | AY10: Hoàn toàn đồng ý | AZ10: Tài liệu,chương trình (sách, v.v.) | BA10: Cơ sở vật chất (phòng học, thư việnv.v.) | BB10: Thực tập/ thực hành tại doanh nghiệp | BD10: Đồng ý | BE10: Đồng ý
A11: 10 | B11: NĐ32SCA193 | C11: Trịnh | D11: Xuân | E11: Tùng | G11: Công nghệ ô tô | H11: =VLOOKUP(G11,Sheet1!$A$22:$B$35,2) -> Công nghệ ô tô | I11: Cao đẳng nghề | J11: Nam | K11: =IF(AND(J11="Nữ",OR(N11="Khá",N11="Giỏi")),"học bổng") -> FALSE | L11: 1994 | M11: =2018-L11:L490 -> 24 | N11: Khá | O11: B1.Vừa học vừa làm | Q11: =IF(AND(J11="Nữ", N11="Khá"),"tìm được","bỏ qua") -> bỏ qua | S11: Nông - lâm - ngư nghiệp | V11: Trước khi TN | W11: Qua quảng cáo trên Internet | Y11: Tốt | Z11: Rất tốt | AA11: Không liên quan | AC11: > Trên 8 triệu | AD11: 2-10người | AE11: Có | AF11: 6-8 tuần | AG11: Khác (ghi rõ) | AH11: Nhân viên chính thức | AI11: Có | AK11: Đại học | BD11: Hoàn toàn không đồng ý | BE11: Không đồng ý
A12: 11 | B12: NĐ32SCA188 | C12: Tạ | D12: Văn | E12: Tiến | G12: Công nghệ ô tô | H12: =VLOOKUP(G12,Sheet1!$A$22:$B$35,2) -> Công nghệ ô tô | I12: Cao đẳng nghề | J12: Nam | K12: =IF(AND(J12="Nữ",OR(N12="Khá",N12="Giỏi")),"học bổng") -> FALSE | L12: 1990 | M12: =2018-L12:L491 -> 28 | N12: Trung bình khá | O12: A2.Tự SX-KD | Q12: =IF(AND(J12="Nữ", N12="Khá"),"tìm được","bỏ qua") -> bỏ qua | S12: Nông - lâm - ngư nghiệp | W12: #N/A | Y12: Tốt | AA12: Không liên quan | AC12: 4-6 triệu | AD12: 1 người | AW12: Đồng ý | AX12: Đồng ý | AY12: Đồng ý | AZ12: Trang thiết bị (máy móc, công cụ, v.v.) | BA12: Cơ sở vật chất (phòng học, thư việnv.v.) | BB12: Thực tập/ thực hành tại doanh nghiệp | BD12: Đồng ý | BE12: Đồng ý
A13: 12 | B13: NĐ32SCA164 | C13: Lý | D13: Hoàng | E13: Đại | G13: Công nghệ ô tô | H13: =VLOOKUP(G13,Sheet1!$A$22:$B$35,2) -> Công nghệ ô tô | I13: Cao đẳng nghề | J13: Nam | K13: =IF(AND(J13="Nữ",OR(N13="Khá",N13="Giỏi")),"học bổng") -> FALSE | L13: 1994 | M13: =2018-L13:L492 -> 24 | N13: Trung bình khá | O13: B1.Vừa học vừa làm | Q13: =IF(AND(J13="Nữ", N13="Khá"),"tìm được","bỏ qua") -> bỏ qua | S13: Thương mại & Dịch vụ (Bán buôn, bán lẻ) | U13: 48h | V13: Trước khi TN | W13: Quan hệ cá nhân | Y13: Rất tốt | Z13: Rất tốt | AA13: Không liên quan | AC13: 6-8 triệu | AD13: Trên 300 người | AE13: Có | AF13: Dưới 2 tuần | AG13: Cán bộ quản lý (chuyên trách) | AK13: Đại học | AL13: Vì không tìm được việc làm đúng với ngành nghề được đào tạo | AN13: Kỹ năng nghề không đáp ứng được yêu cầu công việc | AO13: Ngoại ngữ không đạt | AP13: Trình độ máy tính không đạt | AR13: Học nâng cao trình độ | AV13: Đại học | AW13: Hoàn toàn đồng ý | AX13: Đồng ý | AY13: Đồng ý | AZ13: Trang thiết bị (máy móc, công cụ, v.v.) | BD13: Đồng ý | BE13: Đồng ý
A14: 13 | B14: NĐ32SCA172 | C14: Nguyễn | D14: Đức | E14: Hùng | G14: Công nghệ ô tô | H14: =VLOOKUP(G14,Sheet1!$A$22:$B$35,2) -> Công nghệ ô tô | I14: Cao đẳng nghề | J14: Nam | K14: =IF(AND(J14="Nữ",OR(N14="Khá",N14="Giỏi")),"học bổng") -> FALSE | L14: 1994 | M14: =2018-L14:L493 -> 24 | N14: Trung bình khá | O14: A2.Tự SX-KD | Q14: =IF(AND(J14="Nữ", N14="Khá"),"tìm được","bỏ qua") -> bỏ qua | S14: Nhà hàng, khách sạn và Du lịch | T14: Mở quán nhậu | V14: Dưới 1 tháng | W14: Quan hệ cá nhân | Y14: Trung bình | AA14: Không liên quan | BD14: Hoàn toàn không đồng ý | BE14: Không đồng ý
A15: 14 | B15: N32SC3A166 | C15: Nguyễn | D15: Hoàng | E15: Vũ | G15: Công nghệ ô tô | H15: =VLOOKUP(G15,Sheet1!$A$22:$B$35,2) -> Công nghệ ô tô | I15: Trung cấp nghề | J15: Nam | K15: =IF(AND(J15="Nữ",OR(N15="Khá",N15="Giỏi")),"học bổng") -> FALSE | L15: 1990 | M15: =2018-L15:L494 -> 28 | N15: Khá | O15: A1.Làm công ăn lương | Q15: =IF(AND(J15="Nữ", N15="Khá"),"tìm được","bỏ qua") -> bỏ qua | S15: Thương mại & Dịch vụ (Bán buôn, bán lẻ) | T15: Sửa chữa ô tô | U15: 48h | V15: Dưới 1 tháng | W15: Quan hệ cá nhân | Y15: Tốt | Z15: Rất tốt | AA15: Có liên quan | AC15: 2-4 triệu | AD15: 10-200 người | AE15: Có | AF15: 4-6 tuần | AG15: Khác (ghi rõ) | AH15: Nhân viên chính thức | AI15: Có | AJ15: Công nghệ ô tô | AK15: Cao đẳng | AW15: Hoàn toàn đồng ý | AX15: Đồng ý | AY15: Hoàn toàn đồng ý | AZ15: Trang thiết bị (máy móc, công cụ, v.v.) | BA15: Cơ sở vật chất (phòng học, thư việnv.v.) | BD15: Đồng ý | BE15: Đồng ý
A16: 15 | B16: N32SC3A153 | C16: Trần | D16: Đình | E16: Thảo | G16: Công nghệ ô tô | H16: =VLOOKUP(G16,Sheet1!$A$22:$B$35,2) -> Công nghệ ô tô | I16: Trung cấp nghề | J16: Nam | K16: =IF(AND(J16="Nữ",OR(N16="Khá",N16="Giỏi")),"học bổng") -> FALSE | L16: 1996 | M16: =2018-L16:L495 -> 22 | O16: B1.Vừa học vừa làm | Q16: =IF(AND(J16="Nữ", N16="Khá"),"tìm được","bỏ qua") -> bỏ qua | S16: Thương mại & Dịch vụ (Bán buôn, bán lẻ) | T16: Giao thông vận tải | U16: 48h | V16: Trước khi TN | W16: Quan hệ cá nhân | Y16: Rất tốt | Z16: Rất tốt | AA16: Có liên quan | AD16: 2-10người | AE16: Có | AF16: Dưới 2 tuần | AG16: Khác (ghi rõ) | AH16: Nhân viên trong thời gian thử việc | AI16: Có | AK16: Cao đẳng | AR16: Học nâng cao trình độ | AT16: Trường CĐN Cơ Giới và Thủy Lợi | AU16: Ô tô | AV16: Cao đẳng | AW16: Hoàn toàn không đồng ý | AX16: Hoàn toàn đồng ý | AY16: Đồng ý | AZ16: Tài liệu,chương trình (sách, v.v.) | BA16: Trang thiết bị (máy móc, công cụ, v.v.) | BD16: Hoàn toàn đồng ý | BE16: Hoàn toàn đồng ý
A17: 16 | B17: N32SC3A286 | C17: Huỳnh | D17: Quốc | E17: Tuấn | G17: Công nghệ ô tô | H17: =VLOOKUP(G17,Sheet1!$A$22:$B$35,2) -> Công nghệ ô tô | I17: Trung cấp nghề | J17: Nam | K17: =IF(AND(J17="Nữ",OR(N17="Khá",N17="Giỏi")),"học bổng") -> FALSE | L17: 1994 | M17: =2018-L17:L496 -> 24 | N17: Trung bình | O17: B1.Vừa học vừa làm | Q17: =IF(AND(J17="Nữ", N17="Khá"),"tìm được","bỏ qua") -> bỏ qua | S17: Thương mại & Dịch vụ (Bán buôn, bán lẻ) | U17: 48h | V17: Dưới 1 tháng | W17: Do trường giới thiệu | Y17: Rất tốt | Z17: Rất tốt | AA17: Có liên quan | AB17: 3000000 | AC17: 2-4 triệu | AD17: 2-10người | AE17: Có | AF17: Dưới 2 tuần | AG17: Khác (ghi rõ) | AH17: Nhân viên chính thức | AI17: Có | AJ17: Công nghệ ô tô | AK17: Cao đẳng | AR17: Học nâng cao trình độ | AT17: Trường CĐN Cơ Giới và Thủy Lợi | AU17: Ô tô | AV17: Cao đẳng | AW17: Đồng ý | AX17: Đồng ý | AY17: Đồng ý | AZ17: Tài liệu,chương trình (sách, v.v.) | BA17: Trang thiết bị (máy móc, công cụ, v.v.) | BB17: Thực tập/ thực hành tại doanh nghiệp | BD17: Hoàn toàn đồng ý | BE17: Đồng ý
A18: 17 | B18: N32SC3A135 | C18: Nông | D18: Trung | E18: Kiên | G18: Công nghệ ô tô | H18: =VLOOKUP(G18,Sheet1!$A$22:$B$35,2) -> Công nghệ ô tô | I18: Trung cấp nghề | J18: Nam | K18: =IF(AND(J18="Nữ",OR(N18="Khá",N18="Giỏi")),"học bổng") -> FALSE | L18: 1996 | M18: =2018-L18:L497 -> 22 | N18: Trung bình khá | O18: B2.Đang đi học | P18: Đi học trọn giờ | Q18: =IF(AND(J18="Nữ", N18="Khá"),"tìm được","bỏ qua") -> bỏ qua | W18: #N/A | AR18: Học nâng cao trình độ | AT18: Trường CĐN Cơ Giới và Thủy Lợi | AU18: Ô tô | AV18: Cao đẳng | AW18: Hoàn toàn đồng ý | AX18: Đồng ý | AY18: Đồng ý | AZ18: Tài liệu,chương trình (sách, v.v.) | BA18: Trang thiết bị (máy móc, công cụ, v.v.) | BB18: Thực tập/ thực hành tại doanh nghiệp | BD18: Đồng ý | BE18: Đồng ý
A19: 18 | B19: N32SC3A129 | C19: Nguyễn | D19: Trúc | E19: Huy | G19: Công nghệ ô tô | H19: =VLOOKUP(G19,Sheet1!$A$22:$B$35,2) -> Công nghệ ô tô | I19: Trung cấp nghề | J19: Nam | K19: =IF(AND(J19="Nữ",OR(N19="Khá",N19="Giỏi")),"học bổng") -> FALSE | L19: 1996 | M19: =2018-L19:L498 -> 22 | N19: Khá | O19: B1.Vừa học vừa làm | Q19: =IF(AND(J19="Nữ", N19="Khá"),"tìm được","bỏ qua") -> bỏ qua | S19: Thương mại & Dịch vụ (Bán buôn, bán lẻ) | U19: 48h | V19: Dưới 1 tháng | W19: Quan hệ cá nhân | Y19: Tốt | Z19: Tốt | AA19: Liên quan | AC19: 4-6 triệu | AD19: 10-200 người | AI19: Có | AK19: Cao đẳng | AR19: Học nâng cao trình độ | AT19: Trường CĐN Cơ Giới và Thủy Lợi | AU19: Ô tô | AV19: Cao đẳng | AW19: Hoàn toàn đồng ý | AX19: Đồng ý | AY19: Đồng ý | AZ19: Tài liệu,chương trình (sách, v.v.) | BA19: Trang thiết bị (máy móc, công cụ, v.v.) | BB19: Thực tập/ thực hành tại doanh nghiệp | BD19: Đồng ý | BE19: Đồng ý
A20: 19 | B20: N32SC3PC337 | C20: Nguyễn | E20: Thuận | G20: Công nghệ ô tô | H20: =VLOOKUP(G20,Sheet1!$A$22:$B$35,2) -> Công nghệ ô tô | I20: Trung cấp nghề | J20: Nam | K20: =IF(AND(J20="Nữ",OR(N20="Khá",N20="Giỏi")),"học bổng") -> FALSE | L20: 1997 | M20: =2018-L20:L499 -> 21 | N20: Trung bình khá | O20: B1.Vừa học vừa làm | Q20: =IF(AND(J20="Nữ", N20="Khá"),"tìm được","bỏ qua") -> bỏ qua | S20: Thương mại & Dịch vụ (Bán buôn, bán lẻ) | U20: 48h | V20: Dưới 1 tháng | W20: Quan hệ cá nhân | Y20: Rất tốt | Z20: Rất tốt | AA20: Liên quan | AC20: 2-4 triệu | AD20: 10-200 người | AE20: Có | AF20: Dưới 2 tuần | AG20: Khác (ghi rõ) | AH20: Nhân viên chính thức | AI20: Có | AK20: Cao đẳng | AR20: Học nâng cao trình độ | AT20: Trường CĐN Cơ Giới và Thủy Lợi | AU20: Ô tô | AV20: Cao đẳng | AW20: Hoàn toàn đồng ý | AX20: Đồng ý | AY20: Đồng ý | AZ20: Tài liệu,chương trình (sách, v.v.) | BA20: Trang thiết bị (máy móc, công cụ, v.v.) | BB20: Thực tập/ thực hành tại doanh nghiệp | BD20: Hoàn toàn đồng ý | BE20: Hoàn toàn đồng ý
A21: 20 | B21: N32SC3PC323 | C21: Bùi | D21: Duy | E21: Khải | G21: Công nghệ ô tô | H21: =VLOOKUP(G21,Sheet1!$A$22:$B$35,2) -> Công nghệ ô tô | I21: Trung cấp nghề | J21: Nam | K21: =IF(AND(J21="Nữ",OR(N21="Khá",N21="Giỏi")),"học bổng") -> FALSE | L21: 1997 | M21: =2018-L21:L500 -> 21 | O21: B1.Vừa học vừa làm | Q21: =IF(AND(J21="Nữ", N21="Khá"),"tìm được","bỏ qua") -> bỏ qua | S21: Thương mại & Dịch vụ (Bán buôn, bán lẻ) | U21: 48h | V21: 1-3 tháng | W21: Quan hệ cá nhân | Y21: Rất tốt | Z21: Rất tốt | AA21: Liên quan | AB21: 3000000 | AC21: 2-4 triệu | AD21: 10-200 người | AE21: Không | AI21: Có | AJ21: Công nghệ ô tô | AK21: Cao đẳng | AR21: Học nâng cao trình độ | AT21: Trường CĐN Cơ Giới và Thủy Lợi | AU21: Ô tô | AV21: Cao đẳng | AW21: Hoàn toàn đồng ý | AX21: Hoàn toàn đồng ý | AY21: Đồng ý | AZ21: Tài liệu,chương trình (sách, v.v.) | BA21: Trang thiết bị (máy móc, công cụ, v.v.) | BB21: Thực tập/ thực hành tại doanh nghiệp | BD21: Hoàn toàn đồng ý | BE21: Đồng ý
A22: 21 | B22: N32SC3PC327 | C22: Nguyễn | D22: Vũ | E22: Luân | G22: Công nghệ ô tô | H22: =VLOOKUP(G22,Sheet1!$A$22:$B$35,2) -> Công nghệ ô tô | I22: Trung cấp nghề | J22: Nam | K22: =IF(AND(J22="Nữ",OR(N22="Khá",N22="Giỏi")),"học bổng") -> FALSE | L22: 1997 | M22: =2018-L22:L501 -> 21 | N22: Trung bình khá | O22: B1.Vừa học vừa làm | Q22: =IF(AND(J22="Nữ", N22="Khá"),"tìm được","bỏ qua") -> bỏ qua | S22: Thương mại & Dịch vụ (Bán buôn, bán lẻ) | U22: 48h | V22: Trên 3 tháng | W22: Quan hệ cá nhân | AA22: Liên quan | AC22: 2-4 triệu | AD22: 10-200 người | AE22: Có | AF22: Dưới 2 tuần | AG22: Khác (ghi rõ) | AH22: Nhân viên chính thức | AI22: Có | AK22: Cao đẳng | AR22: Học nâng cao trình độ | AT22: Trường CĐN Cơ Giới và Thủy Lợi | AU22: Ô tô | AV22: Cao đẳng | AW22: Hoàn toàn đồng ý | AX22: Đồng ý | AY22: Đồng ý | AZ22: Tài liệu,chương trình (sách, v.v.) | BA22: Trang thiết bị (máy móc, công cụ, v.v.) | BB22: Thực tập/ thực hành tại doanh nghiệp | BD22: Hoàn toàn đồng ý | BE22: Hoàn toàn đồng ý
A23: 22 | B23: N32SC3PC319 | C23: Đặng | D23: Quốc | E23: Hiền | G23: Công nghệ ô tô | H23: =VLOOKUP(G23,Sheet1!$A$22:$B$35,2) -> Công nghệ ô tô | I23: Trung cấp nghề | J23: Nam | K23: =IF(AND(J23="Nữ",OR(N23="Khá",N23="Giỏi")),"học bổng") -> FALSE | L23: 1997 | M23: =2018-L23:L502 -> 21 | N23: Trung bình khá | O23: B1.Vừa học vừa làm | Q23: =IF(AND(J23="Nữ", N23="Khá"),"tìm được","bỏ qua") -> bỏ qua | S23: Thương mại & Dịch vụ (Bán buôn, bán lẻ) | U23: 48h | V23: 1-3 tháng | W23: Quan hệ cá nhân | Y23: Rất tốt | Z23: Rất tốt | AA23: Liên quan | AC23: 2-4 triệu | AD23: 10-200 người | AE23: Có | AF23: Dưới 2 tuần | AG23: Khác (ghi rõ) | AH23: Nhân viên thử việc | AI23: Có | AJ23: Công nghệ ô tô | AK23: Cao đẳng | AR23: Học nâng cao trình độ | AT23: Trường CĐN Cơ Giới và Thủy Lợi | AU23: Ô tô | AV23: Cao đẳng | AW23: Hoàn toàn đồng ý | AX23: Đồng ý | AY23: Đồng ý | AZ23: Tài liệu,chương trình (sách, v.v.) | BA23: Trang thiết bị (máy móc, công cụ, v.v.) | BB23: Thực tập/ thực hành tại doanh nghiệp | BD23: Hoàn toàn đồng ý | BE23: Hoàn toàn đồng ý
A24: 23 | B24: N32SC3ĐQ297 | C24: Nguyễn | E24: Hồ | G24: Công nghệ ô tô | H24: =VLOOKUP(G24,Sheet1!$A$22:$B$35,2) -> Công nghệ ô tô | I24: Trung cấp nghề | J24: Nam | K24: =IF(AND(J24="Nữ",OR(N24="Khá",N24="Giỏi")),"học bổng") -> FALSE | L24: 1995 | M24: =2018-L24:L503 -> 23 | N24: Trung bình khá | O24: B1.Vừa học vừa làm | Q24: =IF(AND(J24="Nữ", N24="Khá"),"tìm được","bỏ qua") -> bỏ qua | S24: Thương mại & Dịch vụ (Bán buôn, bán lẻ) | U24: 48h | V24: Dưới 1 tháng | W24: Quan hệ cá nhân | Y24: Rất tốt | Z24: Rất tốt | AA24: Có liên quan | AC24: 4-6 triệu | AD24: 2-10người | AE24: Không | AG24: Khác (ghi rõ) | AH24: Nhân viên thử việc | AI24: Có | AK24: Cao đẳng | AR24: Học nâng cao trình độ | AT24: Trường CĐN Cơ Giới và Thủy Lợi | AU24: Ô tô | AV24: Cao đẳng | AW24: Hoàn toàn đồng ý | AX24: Đồng ý | AY24: Đồng ý | AZ24: Tài liệu,chương trình (sách, v.v.) | BA24: Trang thiết bị (máy móc, công cụ, v.v.) | BB24: Thực tập/ thực hành tại doanh nghiệp | BD24: Hoàn toàn đồng ý | BE24: Hoàn toàn đồng ý
A25: 24 | B25: N32SC3A167 | C25: Cháu | D25: Vĩnh | E25: Xinh | G25: Công nghệ ô tô | H25: =VLOOKUP(G25,Sheet1!$A$22:$B$35,2) -> Công nghệ ô tô | I25: Trung cấp nghề | J25: Nam | K25: =IF(AND(J25="Nữ",OR(N25="Khá",N25="Giỏi")),"học bổng") -> FALSE | L25: 1997 | M25: =2018-L25:L504 -> 21 | N25: Khá | O25: B2.Đang đi học | P25: Đi học trọn giờ | Q25: =IF(AND(J25="Nữ", N25="Khá"),"tìm được","bỏ qua") -> bỏ qua | W25: #N/A | AR25: Học nâng cao trình độ | AT25: Trường CĐN Cơ Giới và Thủy Lợi | AU25: Ô tô | AV25: Cao đẳng | AW25: Hoàn toàn đồng ý | AX25: Đồng ý | AY25: Đồng ý | AZ25: Tài liệu,chương trình (sách, v.v.) | BA25: Trang thiết bị (máy móc, công cụ, v.v.) | BB25: Thực tập/ thực hành tại doanh nghiệp | BD25: Hoàn toàn đồng ý | BE25: Đồng ý
A26: 25 | B26: N32SC3A130 | C26: Đặng | D26: Quốc | E26: Hùng | G26: Công nghệ ô tô | H26: =VLOOKUP(G26,Sheet1!$A$22:$B$35,2) -> Công nghệ ô tô | I26: Trung cấp nghề | J26: Nam | K26: =IF(AND(J26="Nữ",OR(N26="Khá",N26="Giỏi")),"học bổng") -> FALSE | L26: 1993 | M26: =2018-L26:L505 -> 25 | N26: Trung bình | O26: B1.Vừa học vừa làm | Q26: =IF(AND(J26="Nữ", N26="Khá"),"tìm được","bỏ qua") -> bỏ qua | S26: Sản xuất, phân phối điện, ga, nước | U26: 48h | V26: Trên 3 tháng | W26: Quan hệ cá nhân | Y26: Trung bình | Z26: Trung bình | AA26: Không liên quan | AB26: 3000000 | AC26: 2-4 triệu | AD26: 10-200 người | AG26: Khác (ghi rõ) | AH26: Nhân viên chính thức | AI26: Có | AJ26: Công nghệ ô tô | AK26: Cao đẳng | AR26: Học nâng cao trình độ | AT26: Trường CĐN Cơ Giới và Thủy Lợi | AU26: Ô tô | AV26: Cao đẳng | AW26: Đồng ý | AX26: Đồng ý | AY26: Đồng ý | AZ26: Tài liệu,chương trình (sách, v.v.) | BA26: Trang thiết bị (máy móc, công cụ, v.v.) | BB26: Thực tập/ thực hành tại doanh nghiệp | BD26: Hoàn toàn đồng ý | BE26: Đồng ý
A27: 26 | B27: N32SC3PC316 | C27: Lê | D27: Phước | E27: Đông | G27: Công nghệ ô tô | H27: =VLOOKUP(G27,Sheet1!$A$22:$B$35,2) -> Công nghệ ô tô | I27: Trung cấp nghề | J27: Nam | K27: =IF(AND(J27="Nữ",OR(N27="Khá",N27="Giỏi")),"học bổng") -> FALSE | L27: 1997 | M27: =2018-L27:L506 -> 21 | N27: Trung bình khá | O27: B1.Vừa học vừa làm | Q27: =IF(AND(J27="Nữ", N27="Khá"),"tìm được","bỏ qua") -> bỏ qua | S27: Thương mại & Dịch vụ (Bán buôn, bán lẻ) | U27: 48h | V27: Trên 3 tháng | W27: Do cơ quan dịch vụ việclàm | Y27: Rất tốt | Z27: Rất tốt | AA27: Liên quan | AB27: 3000000 | AD27: 10-200 người | AE27: Không | AI27: Có | AK27: Cao đẳng | AR27: Học nâng cao trình độ | AT27: Trường CĐN Cơ Giới và Thủy Lợi | AU27: Ô tô | AV27: Cao đẳng | AW27: Hoàn toàn đồng ý | AX27: Đồng ý | AY27: Đồng ý | AZ27: Tài liệu,chương trình (sách, v.v.) | BA27: Trang thiết bị (máy móc, công cụ, v.v.) | BB27: Thực tập/ thực hành tại doanh nghiệp | BD27: Hoàn toàn đồng ý | BE27: Đồng ý
A28: 27 | B28: N32SC3A119 | C28: Đỗ | D28: Sơn | E28: Giang | G28: Công nghệ ô tô | H28: =VLOOKUP(G28,Sheet1!$A$22:$B$35,2) -> Công nghệ ô tô | I28: Trung cấp nghề | J28: Nam | K28: =IF(AND(J28="Nữ",OR(N28="Khá",N28="Giỏi")),"học bổng") -> FALSE | L28: 1996 | M28: =2018-L28:L507 -> 22 | N28: Khá | O28: A1.Làm công ăn lương | Q28: =IF(AND(J28="Nữ", N28="Khá"),"tìm được","bỏ qua") -> bỏ qua | S28: Công nghiệp khai thác | U28: 48h | V28: 1-3 tháng | W28: Do trường giới thiệu | Y28: Tốt | Z28: Rất tốt | AA28: Liên quan | AC28: 4-6 triệu | AD28: Trên 300 người | AE28: Có | AF28: 2-4 tuần | AG28: Khác (ghi rõ) | AH28: Nhân viên chính thức | AI28: Không | AW28: Hoàn toàn đồng ý | AX28: Hoàn toàn đồng ý | AY28: Hoàn toàn đồng ý | AZ28: Trang thiết bị (máy móc, công cụ, v.v.) | BD28: Đồng ý | BE28: Đồng ý
A29: 28 | B29: N32SC3A154 | C29: Lê | D29: Văn | E29: Thăng | G29: Công nghệ ô tô | H29: =VLOOKUP(G29,Sheet1!$A$22:$B$35,2) -> Công nghệ ô tô | I29: Trung cấp nghề | J29: Nam | K29: =IF(AND(J29="Nữ",OR(N29="Khá",N29="Giỏi")),"học bổng") -> FALSE | L29: 1997 | M29: =2018-L29:L508 -> 21 | N29: Trung bình khá | O29: B2.Đang đi học | P29: Đi học trọn giờ | Q29: =IF(AND(J29="Nữ", N29="Khá"),"tìm được","bỏ qua") -> bỏ qua | W29: #N/A | AR29: Học nâng cao trình độ | AT29: Trường CĐN Cơ Giới và Thủy Lợi | AU29: Ô tô | AV29: Cao đẳng | AW29: Đồng ý | AX29: Đồng ý | AY29: Đồng ý | AZ29: Tài liệu,chương trình (sách, v.v.) | BA29: Trang thiết bị (máy móc, công cụ, v.v.) | BB29: Thực tập/ thực hành tại doanh nghiệp | BD29: Hoàn toàn đồng ý | BE29: Hoàn toàn đồng ý
A30: 29 | B30: N32SC3PC320 | C30: Trần | D30: Văn | E30: Hiền | G30: Công nghệ ô tô | H30: =VLOOKUP(G30,Sheet1!$A$22:$B$35,2) -> Công nghệ ô tô | I30: Trung cấp nghề | J30: Nam | K30: =IF(AND(J30="Nữ",OR(N30="Khá",N30="Giỏi")),"học bổng") -> FALSE | L30: 1997 | M30: =2018-L30:L509 -> 21 | N30: Trung bình | O30: A1.Làm công ăn lương | Q30: =IF(AND(J30="Nữ", N30="Khá"),"tìm được","bỏ qua") -> bỏ qua | S30: Thương mại & Dịch vụ (Bán buôn, bán lẻ) | V30: 1-3 tháng | W30: Do trường giới thiệu | Y30: Tốt | Z30: Tốt | AA30: Có liên quan | AC30: 2-4 triệu | AD30: 10-200 người | AE30: Không | AI30: Có | AJ30: Công nghệ ô tô | AK30: Cao đẳng | AR30: Học nâng cao trình độ | AT30: Trường CĐN Cơ Giới và Thủy Lợi | AU30: Ô tô | AV30: Cao đẳng | AW30: Hoàn toàn đồng ý | AX30: Hoàn toàn đồng ý | AY30: Hoàn toàn đồng ý | AZ30: Thực tập/ thực hành tại doanh nghiệp | BD30: Hoàn toàn đồng ý | BE30: Hoàn toàn đồng ý
A31: 30 | B31: N32SC3A127 | C31: Phan | D31: Tô | E31: Hoài | G31: Công nghệ ô tô | H31: =VLOOKUP(G31,Sheet1!$A$22:$B$35,2) -> Công nghệ ô tô | I31: Trung cấp nghề | J31: Nam | K31: =IF(AND(J31="Nữ",OR(N31="Khá",N31="Giỏi")),"học bổng") -> FALSE | L31: 1997 | M31: =2018-L31:L510 -> 21 | N31: Trung bình khá | O31: B1.Vừa học vừa làm | Q31: =IF(AND(J31="Nữ", N31="Khá"),"tìm được","bỏ qua") -> bỏ qua | U31: 42h | V31: Dưới 1 tháng | W31: #N/A | Y31: Rất tốt | Z31: Tốt | AA31: Không liên quan | AB31: 7000000 | AC31: 6-8 triệu | AD31: 10-200 người | AE31: Không | AI31: Có | AK31: Cao đẳng | AR31: Học nâng cao trình độ | AT31: Trường CĐN Cơ Giới và Thủy Lợi | AU31: Ô tô | AV31: Cao đẳng | AW31: Hoàn toàn đồng ý | AX31: Đồng ý | AY31: Đồng ý | AZ31: Tài liệu,chương trình (sách, v.v.) | BA31: Trang thiết bị (máy móc, công cụ, v.v.) | BB31: Thực tập/ thực hành tại doanh nghiệp | BD31: Hoàn toàn đồng ý | BE31: Hoàn toàn đồng ý
A32: 31 | B32: N32SC3A146 | C32: Phạm | D32: Hồng | E32: Quân | G32: Công nghệ ô tô | H32: =VLOOKUP(G32,Sheet1!$A$22:$B$35,2) -> Công nghệ ô tô | I32: Trung cấp nghề | J32: Nam | K32: =IF(AND(J32="Nữ",OR(N32="Khá",N32="Giỏi")),"học bổng") -> FALSE | L32: 1997 | M32: =2018-L32:L511 -> 21 | N32: Trung bình khá | O32: A1.Làm công ăn lương | Q32: =IF(AND(J32="Nữ", N32="Khá"),"tìm được","bỏ qua") -> bỏ qua | V32: Trên 3 tháng | W32: Quan hệ cá nhân | Y32: Tốt | Z32: Rất tốt | AA32: Liên quan | AB32: 5500000 | AC32: 4-6 triệu | AD32: 10-200 người | AE32: Không | AG32: Khác (ghi rõ) | AH32: Nhân viên chính thức | AI32: Có | AJ32: Công nghệ ô tô | AK32: Cao đẳng | AW32: Đồng ý | AX32: Đồng ý | AY32: Đồng ý | AZ32: Cơ sở vật chất (phòng học, thư việnv.v.) | BA32: Thực tập/ thực hành tại doanh nghiệp | BD32: Đồng ý | BE32: Đồng ý
